BEGIN:VCALENDAR
VERSION:2.0
PRODID:-//About - ECPv6.15.16//NONSGML v1.0//EN
CALSCALE:GREGORIAN
METHOD:PUBLISH
X-WR-CALNAME:About
X-ORIGINAL-URL:https://www.winona.edu/about
X-WR-CALDESC:Events for About
REFRESH-INTERVAL;VALUE=DURATION:PT1H
X-Robots-Tag:noindex
X-PUBLISHED-TTL:PT1H
BEGIN:VTIMEZONE
TZID:America/Chicago
BEGIN:DAYLIGHT
TZOFFSETFROM:-0600
TZOFFSETTO:-0500
TZNAME:CDT
DTSTART:20240310T080000
END:DAYLIGHT
BEGIN:STANDARD
TZOFFSETFROM:-0500
TZOFFSETTO:-0600
TZNAME:CST
DTSTART:20241103T070000
END:STANDARD
BEGIN:DAYLIGHT
TZOFFSETFROM:-0600
TZOFFSETTO:-0500
TZNAME:CDT
DTSTART:20250309T080000
END:DAYLIGHT
BEGIN:STANDARD
TZOFFSETFROM:-0500
TZOFFSETTO:-0600
TZNAME:CST
DTSTART:20251102T070000
END:STANDARD
BEGIN:DAYLIGHT
TZOFFSETFROM:-0600
TZOFFSETTO:-0500
TZNAME:CDT
DTSTART:20260308T080000
END:DAYLIGHT
BEGIN:STANDARD
TZOFFSETFROM:-0500
TZOFFSETTO:-0600
TZNAME:CST
DTSTART:20261101T070000
END:STANDARD
END:VTIMEZONE
BEGIN:VEVENT
DTSTART;TZID=America/Chicago:20250224T120000
DTEND;TZID=America/Chicago:20250224T150000
DTSTAMP:20260424T213250
CREATED:20250219T205835Z
LAST-MODIFIED:20250219T205836Z
UID:10000583-1740398400-1740409200@www.winona.edu
SUMMARY:Nursing Program Visit
DESCRIPTION:Future Nursing students\, this campus and admissions visit on Feb. 24 is for you. \n\n\n\nAt this event\, you will: \n\n\n\n\nGet info about WSU’s highly successful nursing program\n\n\n\nTour nursing facilities and labs\n\n\n\nLearn about WSU in a short admissions presentation\n\n\n\nTour campus buildings and residence halls\n\n\n\n\n    Register for This Event\n\n\n\n\n\nVenue\n\n\n\n\n\nContact
URL:https://www.winona.edu/about/event/nursing-program-visit-feb-24/
LOCATION:Admissions Office\, 170 W 8th St\, Winona\, MN\, 55987\, United States
CATEGORIES:Academics,Admissions,College of Nursing & Health Sciences,Colleges,Undergraduate Nursing Department
ATTACH;FMTTYPE=image/jpeg:https://www.winona.edu/about/wp-content/uploads/sites/3/2024/10/Pro-Female-Nursing-Students-2015.jpg
ORGANIZER;CN="Admissions Office":MAILTO:admissions@winona.edu
END:VEVENT
BEGIN:VEVENT
DTSTART;TZID=America/Chicago:20250224T140000
DTEND;TZID=America/Chicago:20250224T153000
DTSTAMP:20260424T213250
CREATED:20250220T162850Z
LAST-MODIFIED:20250905T144708Z
UID:10000597-1740405600-1740411000@www.winona.edu
SUMMARY:"Supporting Muslim Communities in Higher Education" Webinar
DESCRIPTION:On Feb. 24\, we’ll be hosting a webinar to provide an introduction to Ramadan and offer practical guidance on fostering a more inclusive and supportive campus environment.  \n\n\n\nAs Ramadan approaches\, there may be students\, faculty\, and staff in your campus community who are observing this month through fasting and reflection. \n\n\n\nThis session will include a short training on best practices followed by a panel discussion featuring experts in student affairs\, interfaith engagement\, and community leadership to share actionable strategies for meaningful support. \n\n\n\n    Register for This Event\n\n\n\n\n\nPanelists\n\n\n\n\nMohamed Ahmed\, PhD – Associate Vice President of Equity & Inclusive Excellence at Winona State University\n\n\n\nJamal Rasoully – CEO of Halal Shack\n\n\n\nAilya Vajid – Associate Chaplain of Muslim & Interfaith Life at Carleton College\n\n\n\nMarwa Assar\, PsyD – Psychologist at New York University\, Founder of The HOME Institute\n\n\n\nShakeer Abdullah\, PhD – Founder and CEO of Practical Diversity Associates\n\n\n\nSumaiya Abeer – President of the Muslim Student Association at Minnesota State University\, Mankato\n\n\n\n\nContact
URL:https://www.winona.edu/about/event/supporting-muslim-communities-in-higher-education-webinar/
LOCATION:MN
CATEGORIES:Equity & Inclusive Excellence,Events & Traditions,Student Life,Support & Services
ATTACH;FMTTYPE=image/jpeg:https://www.winona.edu/about/wp-content/uploads/sites/3/2025/02/WSU-laptop-WSU-website-feature-2024-02-13.jpg
ORGANIZER;CN="Claudia Richard":MAILTO:claudia.richard@winona.edu
END:VEVENT
END:VCALENDAR