BEGIN:VCALENDAR
VERSION:2.0
PRODID:-//About - ECPv6.15.16//NONSGML v1.0//EN
CALSCALE:GREGORIAN
METHOD:PUBLISH
X-WR-CALNAME:About
X-ORIGINAL-URL:https://www.winona.edu/about
X-WR-CALDESC:Events for About
REFRESH-INTERVAL;VALUE=DURATION:PT1H
X-Robots-Tag:noindex
X-PUBLISHED-TTL:PT1H
BEGIN:VTIMEZONE
TZID:America/Chicago
BEGIN:DAYLIGHT
TZOFFSETFROM:-0600
TZOFFSETTO:-0500
TZNAME:CDT
DTSTART:20240310T080000
END:DAYLIGHT
BEGIN:STANDARD
TZOFFSETFROM:-0500
TZOFFSETTO:-0600
TZNAME:CST
DTSTART:20241103T070000
END:STANDARD
BEGIN:DAYLIGHT
TZOFFSETFROM:-0600
TZOFFSETTO:-0500
TZNAME:CDT
DTSTART:20250309T080000
END:DAYLIGHT
BEGIN:STANDARD
TZOFFSETFROM:-0500
TZOFFSETTO:-0600
TZNAME:CST
DTSTART:20251102T070000
END:STANDARD
BEGIN:DAYLIGHT
TZOFFSETFROM:-0600
TZOFFSETTO:-0500
TZNAME:CDT
DTSTART:20260308T080000
END:DAYLIGHT
BEGIN:STANDARD
TZOFFSETFROM:-0500
TZOFFSETTO:-0600
TZNAME:CST
DTSTART:20261101T070000
END:STANDARD
END:VTIMEZONE
BEGIN:VEVENT
DTSTART;TZID=America/Chicago:20250225T110000
DTEND;TZID=America/Chicago:20250225T133000
DTSTAMP:20260424T213250
CREATED:20250106T144421Z
LAST-MODIFIED:20250108T210259Z
UID:10000206-1740481200-1740490200@www.winona.edu
SUMMARY:Tea Tuesday
DESCRIPTION:Enjoy tea in the library on Feb. 25 from 11am-1:30pm. \n\n\n\n\n\nVenue\n\n\n\n\n\nContact
URL:https://www.winona.edu/about/event/tea-tuesday-feb-25/
LOCATION:Library Floor 1\, 525 Johnson St\, Winona\, MN\, 55987\, United States
CATEGORIES:Health & Wellness,Student Life
ATTACH;FMTTYPE=image/jpeg:https://www.winona.edu/about/wp-content/uploads/sites/3/2024/12/WSU-female-student-coffee-mug-feature-2019-06-03.jpg
ORGANIZER;CN="Kendall Larson":MAILTO:klarson@winona.edu
END:VEVENT
BEGIN:VEVENT
DTSTART;TZID=America/Chicago:20250225T170000
DTEND;TZID=America/Chicago:20250225T190000
DTSTAMP:20260424T213250
CREATED:20250304T153611Z
LAST-MODIFIED:20250304T153612Z
UID:10000739-1740502800-1740510000@www.winona.edu
SUMMARY:WSU Baseball vs. William Jewell College
DESCRIPTION:On Feb. 25\, come cheer on the men’s Baseball team as they play against William Jewell College. \n\n\n\n\n\nVenue\n\n\n\n\n\nContact
URL:https://www.winona.edu/about/event/wsu-baseball-vs-william-jewell-college-feb-25/
LOCATION:Talley Stadium\, 825 R.E. Bowles Dr\, Liberty\, MO\, 64068\, United States
CATEGORIES:Student Life,Warrior Athletics
ATTACH;FMTTYPE=image/jpeg:https://www.winona.edu/about/wp-content/uploads/sites/3/2025/03/Pro-mens-baseball-athlete-pitcher-feature-2023-03-26.jpg
ORGANIZER;CN="Eric Schoh":MAILTO:eschoh@winona.edu
END:VEVENT
BEGIN:VEVENT
DTSTART;TZID=America/Chicago:20250225T180000
DTEND;TZID=America/Chicago:20250225T200000
DTSTAMP:20260424T213250
CREATED:20250213T221659Z
LAST-MODIFIED:20250217T152859Z
UID:10000560-1740506400-1740513600@www.winona.edu
SUMMARY:"Selma" Movie Night
DESCRIPTION:On Feb. 25\, join us at 6pm in the Kryzsko Ballroom for a movie night to watch “Selma.”  \n\n\n\nThere will be free popcorn and hand pie desserts. \n\n\n\n\n\nVenue\n\n\n\n\n\nContact
URL:https://www.winona.edu/about/event/selma-movie-night/
LOCATION:Great River Ballroom\, 250 W 10th St\, Winona\, MN\, 55987\, United States
CATEGORIES:Arts & Entertainment,Student Life
ATTACH;FMTTYPE=image/jpeg:https://www.winona.edu/about/wp-content/uploads/sites/3/2023/10/WSU_Students-Event-2023-01-20_234236.jpg
ORGANIZER;CN="Tyler Peil":MAILTO:tyler.peil@go.winona.edu
END:VEVENT
END:VCALENDAR