BEGIN:VCALENDAR
VERSION:2.0
PRODID:-//About - ECPv6.15.16//NONSGML v1.0//EN
CALSCALE:GREGORIAN
METHOD:PUBLISH
X-WR-CALNAME:About
X-ORIGINAL-URL:https://www.winona.edu/about
X-WR-CALDESC:Events for About
REFRESH-INTERVAL;VALUE=DURATION:PT1H
X-Robots-Tag:noindex
X-PUBLISHED-TTL:PT1H
BEGIN:VTIMEZONE
TZID:America/Chicago
BEGIN:DAYLIGHT
TZOFFSETFROM:-0600
TZOFFSETTO:-0500
TZNAME:CDT
DTSTART:20240310T080000
END:DAYLIGHT
BEGIN:STANDARD
TZOFFSETFROM:-0500
TZOFFSETTO:-0600
TZNAME:CST
DTSTART:20241103T070000
END:STANDARD
BEGIN:DAYLIGHT
TZOFFSETFROM:-0600
TZOFFSETTO:-0500
TZNAME:CDT
DTSTART:20250309T080000
END:DAYLIGHT
BEGIN:STANDARD
TZOFFSETFROM:-0500
TZOFFSETTO:-0600
TZNAME:CST
DTSTART:20251102T070000
END:STANDARD
BEGIN:DAYLIGHT
TZOFFSETFROM:-0600
TZOFFSETTO:-0500
TZNAME:CDT
DTSTART:20260308T080000
END:DAYLIGHT
BEGIN:STANDARD
TZOFFSETFROM:-0500
TZOFFSETTO:-0600
TZNAME:CST
DTSTART:20261101T070000
END:STANDARD
END:VTIMEZONE
BEGIN:VEVENT
DTSTART;TZID=America/Chicago:20250228T000000
DTEND;TZID=America/Chicago:20250301T235959
DTSTAMP:20260424T213211
CREATED:20250304T145419Z
LAST-MODIFIED:20250304T145422Z
UID:10000728-1740700800-1740873599@www.winona.edu
SUMMARY:WSU Women's Track & Field: NSIC Indoor Championships
DESCRIPTION:From Feb. 28-March 1\, come cheer on the women’s Track & Field team as they compete at the Northern Sun Intercollegiate Conference (NSIC) indoor championship. \n\n\n\n\n\nVenue\n\n\n\n\n\nContact
URL:https://www.winona.edu/about/event/wsu-womens-track-field-nsic-indoor-championships-feb-28-march-01/
LOCATION:Minnesota State University\, Mankato\, 228 Wiecking Center\, Mankato\, MN\, 56001\, United States
CATEGORIES:Student Life,Warrior Athletics
ATTACH;FMTTYPE=image/jpeg:https://www.winona.edu/about/wp-content/uploads/sites/3/2025/02/Pro-womens-track-field-athlete-meet-feature-2023-02-03.jpg
ORGANIZER;CN="Eric Schoh":MAILTO:eschoh@winona.edu
END:VEVENT
BEGIN:VEVENT
DTSTART;TZID=America/Chicago:20250301T000000
DTEND;TZID=America/Chicago:20250301T235959
DTSTAMP:20260424T213211
CREATED:20250106T145109Z
LAST-MODIFIED:20250106T145330Z
UID:10000331-1740787200-1740873599@www.winona.edu
SUMMARY:Music Scholarship Audition Day
DESCRIPTION:Music scholarship auditions for the 2025-26 academic year will be held on March 1.  \n\n\n\nRenewable yearly awards range from $500 – $3\,000. \n\n\n\n    Learn More about Auditions & Music Scholarships\n\n\n\n\n\nVenue\n\n\n\n\n\nContact
URL:https://www.winona.edu/about/event/music-scholarship-audition-day-march-01/
LOCATION:Robert DuFresne Performing Arts Center (PAC)\, 450 Johnson St\, Winona\, MN\, 55987\, United States
CATEGORIES:Academics,College of Liberal Arts,Colleges,Music Department
ATTACH;FMTTYPE=image/jpeg:https://www.winona.edu/about/wp-content/uploads/sites/3/2024/12/WSU-student-hand-playing-piano-feature-2023-02-15.jpg
ORGANIZER;CN="Marybeth Lenhardt":MAILTO:mlenhardt@winona.edu
END:VEVENT
BEGIN:VEVENT
DTSTART;TZID=America/Chicago:20250301T000000
DTEND;TZID=America/Chicago:20250331T235959
DTSTAMP:20260424T213211
CREATED:20250303T205206Z
LAST-MODIFIED:20250303T205207Z
UID:10000714-1740787200-1743465599@www.winona.edu
SUMMARY:WSU Colleges Food Drive Competition
DESCRIPTION:In honor of Minnesota FoodShare Month—a time dedicated to fighting hunger and restocking local food shelves—the College of Business has challenged the 4 other academic colleges at WSU for a Colleges Food Drive Competition throughout March. \n\n\n\nThis food drive will help stock and raise money for our on-campus food shelf\, the Warrior Cupboard. \n\n\n\nHow It Works\n\n\n\nDrop off food and household items to your Dean’s office\, then earn one point per item. \n\n\n\nYou can also earn one point per one dollar donated. For example\, donating $50 earns your College 50 points. \n\n\n\n    Donate to the Warrior Cupboard\n\n\n\n\n\nSuggested Items for Donation\n\n\n\n\nCanned meat and meals (tuna\, chicken\, stews\, soup\, ravioli\, etc.)\n\n\n\nCanned vegetables and fruits\n\n\n\nPeanut butter\n\n\n\nBoxed meals (Hamburger Helper\, Rice-A-Roni\, Mac & Cheese\, etc.)\n\n\n\nBaking ingredients (flour\, sugar\, Bisquick\, oil\, etc.)\n\n\n\nHousehold items (hand soap\, Kleenex\, laundry soap\, etc.)\n\n\n\nPersonal care items (deodorant\, shampoo\, toothpaste\, etc.)\n\n\n\nPlates\, silverware\, can openers\, serving spoons\, etc\n\n\n\n\nVenues\n\n\n\n\n\n\n\n\n\n\n\n\n\nContact
URL:https://www.winona.edu/about/event/wsu-colleges-food-drive-competition/
LOCATION:College of Business Dean’s Suite (Somsen 309)\, 175 West Mark Street\, Winona\, MN\, 55987\, United States
CATEGORIES:Academics,College of Business,College of Education,College of Liberal Arts,College of Nursing & Health Sciences,College of Science & Engineering,Colleges,Student Life,Support & Services
ATTACH;FMTTYPE=image/jpeg:https://www.winona.edu/about/wp-content/uploads/sites/3/2024/03/WSU_Student-Seeds-2019-02-14_151702.jpg
ORGANIZER;CN="Liz Schwanke":MAILTO:collegeofbusiness@winona.edu
END:VEVENT
BEGIN:VEVENT
DTSTART;TZID=America/Chicago:20250301T143000
DTEND;TZID=America/Chicago:20250301T163000
DTSTAMP:20260424T213212
CREATED:20250227T150800Z
LAST-MODIFIED:20250227T150801Z
UID:10000659-1740839400-1740846600@www.winona.edu
SUMMARY:WSU Softball vs. Missouri University of Science & Technology
DESCRIPTION:On March 1\, come cheer on the women’s Softball team as they play against Missouri University of Science & Technology. \n\n\n\n\n\nVenue\n\n\n\n\n\nContact
URL:https://www.winona.edu/about/event/wsu-softball-vs-missouri-university-of-science-technology-march-01-afternoon/
LOCATION:Branson RecPlex\, 1501 Branson Hills Parkway\, Branson\, MO\, 65616\, United States
CATEGORIES:Student Life,Warrior Athletics
ATTACH;FMTTYPE=image/jpeg:https://www.winona.edu/about/wp-content/uploads/sites/3/2025/02/Pro-womens-softball-athlete-bat-feature-2022-05-07.jpg
ORGANIZER;CN="Eric Schoh":MAILTO:eschoh@winona.edu
END:VEVENT
BEGIN:VEVENT
DTSTART;TZID=America/Chicago:20250301T160000
DTEND;TZID=America/Chicago:20250301T170000
DTSTAMP:20260424T213212
CREATED:20250108T174255Z
LAST-MODIFIED:20250108T174255Z
UID:10000333-1740844800-1740848400@www.winona.edu
SUMMARY:Orchestra Concert
DESCRIPTION:On March 1\, attend this free concert featuring WSU orchestra students. \n\n\n\n\n\nVenue\n\n\n\n\n\nContact
URL:https://www.winona.edu/about/event/orchestra-concert-march-01/
LOCATION:Vivian Fusillo Main Stage Theatre\, 450 Johnson St\, Winona\, MN\, 55987\, United States
CATEGORIES:Academics,Arts & Entertainment,College of Liberal Arts,Colleges,Music Department,Student Life
ATTACH;FMTTYPE=image/jpeg:https://www.winona.edu/about/wp-content/uploads/sites/3/2022/12/WSU-Violins-Concert-2021-10-23_122904.jpg
ORGANIZER;CN="Marybeth Lenhardt":MAILTO:mlenhardt@winona.edu
END:VEVENT
BEGIN:VEVENT
DTSTART;TZID=America/Chicago:20250301T163000
DTEND;TZID=America/Chicago:20250301T183000
DTSTAMP:20260424T213212
CREATED:20250227T150944Z
LAST-MODIFIED:20250227T150945Z
UID:10000660-1740846600-1740853800@www.winona.edu
SUMMARY:WSU Softball vs. University of Central Oklahoma
DESCRIPTION:On March 1\, come cheer on the women’s Softball team as they play against the University of Central Oklahoma. \n\n\n\n\n\nVenue\n\n\n\n\n\nContact
URL:https://www.winona.edu/about/event/wsu-softball-vs-university-of-central-oklahoma-march-01-evening/
LOCATION:Branson RecPlex\, 1501 Branson Hills Parkway\, Branson\, MO\, 65616\, United States
CATEGORIES:Student Life,Warrior Athletics
ATTACH;FMTTYPE=image/jpeg:https://www.winona.edu/about/wp-content/uploads/sites/3/2025/02/Pro-womens-softball-athlete-bat-feature-2022-05-07.jpg
ORGANIZER;CN="Eric Schoh":MAILTO:eschoh@winona.edu
END:VEVENT
BEGIN:VEVENT
DTSTART;TZID=America/Chicago:20250301T170000
DTEND;TZID=America/Chicago:20250301T190000
DTSTAMP:20260424T213212
CREATED:20250303T172936Z
LAST-MODIFIED:20250303T172937Z
UID:10000706-1740848400-1740855600@www.winona.edu
SUMMARY:WSU Women's Tennis vs. University of Wisconsin-La Crosse
DESCRIPTION:On March 1\, come cheer on the women’s Tennis team as they compete against the University of Wisconsin-La Crosse. \n\n\n\n\n\nVenue\n\n\n\n\n\nContact
URL:https://www.winona.edu/about/event/wsu-womens-tennis-vs-university-of-wisconsin-la-crosse-march-01/
LOCATION:Winona Tennis Center\, 360 Vila St\, Winona\, MN\, 55987\, United States
CATEGORIES:Student Life,Warrior Athletics
ATTACH;FMTTYPE=image/jpeg:https://www.winona.edu/about/wp-content/uploads/sites/3/2025/02/Pro-womens-tennis-athlete-racket-court-feature-2022-04-04.jpg
ORGANIZER;CN="Eric Schoh":MAILTO:eschoh@winona.edu
END:VEVENT
END:VCALENDAR