BEGIN:VCALENDAR
VERSION:2.0
PRODID:-//About - ECPv6.15.16//NONSGML v1.0//EN
CALSCALE:GREGORIAN
METHOD:PUBLISH
X-ORIGINAL-URL:https://www.winona.edu/about
X-WR-CALDESC:Events for About
REFRESH-INTERVAL;VALUE=DURATION:PT1H
X-Robots-Tag:noindex
X-PUBLISHED-TTL:PT1H
BEGIN:VTIMEZONE
TZID:America/Chicago
BEGIN:DAYLIGHT
TZOFFSETFROM:-0600
TZOFFSETTO:-0500
TZNAME:CDT
DTSTART:20240310T080000
END:DAYLIGHT
BEGIN:STANDARD
TZOFFSETFROM:-0500
TZOFFSETTO:-0600
TZNAME:CST
DTSTART:20241103T070000
END:STANDARD
BEGIN:DAYLIGHT
TZOFFSETFROM:-0600
TZOFFSETTO:-0500
TZNAME:CDT
DTSTART:20250309T080000
END:DAYLIGHT
BEGIN:STANDARD
TZOFFSETFROM:-0500
TZOFFSETTO:-0600
TZNAME:CST
DTSTART:20251102T070000
END:STANDARD
BEGIN:DAYLIGHT
TZOFFSETFROM:-0600
TZOFFSETTO:-0500
TZNAME:CDT
DTSTART:20260308T080000
END:DAYLIGHT
BEGIN:STANDARD
TZOFFSETFROM:-0500
TZOFFSETTO:-0600
TZNAME:CST
DTSTART:20261101T070000
END:STANDARD
END:VTIMEZONE
BEGIN:VEVENT
DTSTART;TZID=America/Chicago:20250301T000000
DTEND;TZID=America/Chicago:20250331T235959
DTSTAMP:20260424T213526
CREATED:20250303T205206Z
LAST-MODIFIED:20250303T205207Z
UID:10000714-1740787200-1743465599@www.winona.edu
SUMMARY:WSU Colleges Food Drive Competition
DESCRIPTION:In honor of Minnesota FoodShare Month—a time dedicated to fighting hunger and restocking local food shelves—the College of Business has challenged the 4 other academic colleges at WSU for a Colleges Food Drive Competition throughout March. \n\n\n\nThis food drive will help stock and raise money for our on-campus food shelf\, the Warrior Cupboard. \n\n\n\nHow It Works\n\n\n\nDrop off food and household items to your Dean’s office\, then earn one point per item. \n\n\n\nYou can also earn one point per one dollar donated. For example\, donating $50 earns your College 50 points. \n\n\n\n    Donate to the Warrior Cupboard\n\n\n\n\n\nSuggested Items for Donation\n\n\n\n\nCanned meat and meals (tuna\, chicken\, stews\, soup\, ravioli\, etc.)\n\n\n\nCanned vegetables and fruits\n\n\n\nPeanut butter\n\n\n\nBoxed meals (Hamburger Helper\, Rice-A-Roni\, Mac & Cheese\, etc.)\n\n\n\nBaking ingredients (flour\, sugar\, Bisquick\, oil\, etc.)\n\n\n\nHousehold items (hand soap\, Kleenex\, laundry soap\, etc.)\n\n\n\nPersonal care items (deodorant\, shampoo\, toothpaste\, etc.)\n\n\n\nPlates\, silverware\, can openers\, serving spoons\, etc\n\n\n\n\nVenues\n\n\n\n\n\n\n\n\n\n\n\n\n\nContact
URL:https://www.winona.edu/about/event/wsu-colleges-food-drive-competition/
LOCATION:College of Business Dean’s Suite (Somsen 309)\, 175 West Mark Street\, Winona\, MN\, 55987\, United States
CATEGORIES:Academics,College of Business,College of Education,College of Liberal Arts,College of Nursing & Health Sciences,College of Science & Engineering,Colleges,Student Life,Support & Services
ATTACH;FMTTYPE=image/jpeg:https://www.winona.edu/about/wp-content/uploads/sites/3/2024/03/WSU_Student-Seeds-2019-02-14_151702.jpg
ORGANIZER;CN="Liz Schwanke":MAILTO:collegeofbusiness@winona.edu
END:VEVENT
BEGIN:VEVENT
DTSTART;TZID=America/Chicago:20250303T000000
DTEND;TZID=America/Chicago:20250331T235959
DTSTAMP:20260424T213526
CREATED:20250304T160715Z
LAST-MODIFIED:20250304T160717Z
UID:10000740-1740960000-1743465599@www.winona.edu
SUMMARY:"Create Your More" Case Competition
DESCRIPTION:From March 3-31\, the College of Business will be hosting the “Create Your More” Case Competition\, an undergraduate competition for WSU students to demonstrate their creative thinking\, teamwork\, and public speaking skills. \n\n\n\nThanks to donations from the WSU Foundation and the COB Engaged Learning Endowment\, 3 cash prizes totaling $2\,500 will be awarded to the winning groups.  \n\n\n\n\n\n    Register Your Team\n\n\n\n\n\n    Learn More about This Event\n\n\n\n\n\n\n    \n\n                    \n            \n\nTimeline\n\n\n\n\nMarch 3: Registration opens\n\n\n\nMarch 15: Cases become available to teams\n\n\n\nMarch 23: Case reports due\n\n\n\nMarch 26: Second-round teams are announced\n\n\n\nMarch 31 (1pm): Presentations and final judging\n\n\n\n        \n    \n\n\n    \n\n                    \n            \n\nAwards\n\n\n\n                            \n                1st Place\n                $1\,000 \n\n            \n        \n                            \n                2nd Place\n                $750 \n\n            \n        \n                            \n                3rd Place\n                $500 \n\n            \n        \n\n\n        \n    \n\n\n\nVenue\n\n\n\n\n\nContact
URL:https://www.winona.edu/about/event/create-your-more-case-competition-2025/
LOCATION:Winona Campus\, 175 West Mark Street\, Winona\, MN\, 55987\, United States
CATEGORIES:Academics,College of Business,Colleges
ATTACH;FMTTYPE=image/jpeg:https://www.winona.edu/about/wp-content/uploads/sites/3/2022/11/WSU_Female-Student-Laptop-Code-2022-05-18_134220.jpg
ORGANIZER;CN="Larry Schrenk":MAILTO:lschrenk@winona.edu
END:VEVENT
BEGIN:VEVENT
DTSTART;TZID=America/Chicago:20250305T000000
DTEND;TZID=America/Chicago:20250306T235959
DTSTAMP:20260424T213526
CREATED:20250114T193924Z
LAST-MODIFIED:20250114T194826Z
UID:10000485-1741132800-1741305599@www.winona.edu
SUMMARY:All Hall Selection Opens for 2025-26 Priority Housing Application
DESCRIPTION:March 5-6 is when students can choose a room in any available hall. This is part of current students’ priority housing applications for the 2025-26 academic year. \n\n\n\n    Learn More about Housing for Current Students\n\n\n\n\n\nVenue\n\n\n\n\n\nContact
URL:https://www.winona.edu/about/event/all-hall-selection-opens-for-2025-26-priority-housing-application/
LOCATION:Winona Campus\, 175 West Mark Street\, Winona\, MN\, 55987\, United States
CATEGORIES:Housing & Dining,Student Life
ATTACH;FMTTYPE=image/jpeg:https://www.winona.edu/about/wp-content/uploads/sites/3/2025/01/Pro-students-residence-hall-community-feature-2021-10-12.jpg
ORGANIZER;CN="Candice Guenther":MAILTO:cguenther@winona.edu
END:VEVENT
BEGIN:VEVENT
DTSTART;TZID=America/Chicago:20250305T110000
DTEND;TZID=America/Chicago:20250305T133000
DTSTAMP:20260424T213526
CREATED:20250227T212302Z
LAST-MODIFIED:20250227T212303Z
UID:10000692-1741172400-1741181400@www.winona.edu
SUMMARY:Borgology: A Lesson in Alcohol Safety
DESCRIPTION:Join Health & Wellness Services for lunch on March 5 for “Borgology\,” a lesson in alcohol safety. \n\n\n\nFollow @DiningWSU and @WSUHealth on Instagram for a chance to win a hammock or disc golf set as part of the #WinWithChartwells Spring Break giveaway. \n\n\n\n\n\nVenue\n\n\n\n\n\nContact
URL:https://www.winona.edu/about/event/borgology-a-lesson-in-alcohol-safety/
LOCATION:Jack Kane Dining Hall\, 250 W 10th St\, Winona\, MN\, 55987\, United States
CATEGORIES:Health & Wellness,Student Life
ATTACH;FMTTYPE=image/jpeg:https://www.winona.edu/about/wp-content/uploads/sites/3/2025/01/Pro-students-walking-neighborhood-houses-feature-2022-09-26.jpg
ORGANIZER;CN="Alexis Green":MAILTO:alexis.green@winona.edu
END:VEVENT
BEGIN:VEVENT
DTSTART;TZID=America/Chicago:20250305T130000
DTEND;TZID=America/Chicago:20250305T150000
DTSTAMP:20260424T213526
CREATED:20250109T143959Z
LAST-MODIFIED:20250109T144000Z
UID:10000380-1741179600-1741186800@www.winona.edu
SUMMARY:S'more Fun
DESCRIPTION:On March 5\, stop by the Fire Feature Patio for free marshmallow goodness (weather-permitting). \n\n\n\n\n\nVenue\n\n\n\n\n\nContact
URL:https://www.winona.edu/about/event/smore-fun-march-05/
LOCATION:Fire Feature Patio\, 250 W 10th St\, Winona\, MN\, 55987\, United States
CATEGORIES:Student Life
ATTACH;FMTTYPE=image/jpeg:https://www.winona.edu/about/wp-content/uploads/sites/3/2025/01/WSU-female-students-roasting-smores-fire-feature-2023-08-18.jpg
ORGANIZER;CN="George Micalone":MAILTO:george.micalone@winona.edu
END:VEVENT
END:VCALENDAR