BEGIN:VCALENDAR
VERSION:2.0
PRODID:-//About - ECPv6.15.16//NONSGML v1.0//EN
CALSCALE:GREGORIAN
METHOD:PUBLISH
X-ORIGINAL-URL:https://www.winona.edu/about
X-WR-CALDESC:Events for About
REFRESH-INTERVAL;VALUE=DURATION:PT1H
X-Robots-Tag:noindex
X-PUBLISHED-TTL:PT1H
BEGIN:VTIMEZONE
TZID:America/Chicago
BEGIN:DAYLIGHT
TZOFFSETFROM:-0600
TZOFFSETTO:-0500
TZNAME:CDT
DTSTART:20240310T080000
END:DAYLIGHT
BEGIN:STANDARD
TZOFFSETFROM:-0500
TZOFFSETTO:-0600
TZNAME:CST
DTSTART:20241103T070000
END:STANDARD
BEGIN:DAYLIGHT
TZOFFSETFROM:-0600
TZOFFSETTO:-0500
TZNAME:CDT
DTSTART:20250309T080000
END:DAYLIGHT
BEGIN:STANDARD
TZOFFSETFROM:-0500
TZOFFSETTO:-0600
TZNAME:CST
DTSTART:20251102T070000
END:STANDARD
BEGIN:DAYLIGHT
TZOFFSETFROM:-0600
TZOFFSETTO:-0500
TZNAME:CDT
DTSTART:20260308T080000
END:DAYLIGHT
BEGIN:STANDARD
TZOFFSETFROM:-0500
TZOFFSETTO:-0600
TZNAME:CST
DTSTART:20261101T070000
END:STANDARD
END:VTIMEZONE
BEGIN:VEVENT
DTSTART;TZID=America/Chicago:20250301T000000
DTEND;TZID=America/Chicago:20250331T235959
DTSTAMP:20260424T213618
CREATED:20250303T205206Z
LAST-MODIFIED:20250303T205207Z
UID:10000714-1740787200-1743465599@www.winona.edu
SUMMARY:WSU Colleges Food Drive Competition
DESCRIPTION:In honor of Minnesota FoodShare Month—a time dedicated to fighting hunger and restocking local food shelves—the College of Business has challenged the 4 other academic colleges at WSU for a Colleges Food Drive Competition throughout March. \n\n\n\nThis food drive will help stock and raise money for our on-campus food shelf\, the Warrior Cupboard. \n\n\n\nHow It Works\n\n\n\nDrop off food and household items to your Dean’s office\, then earn one point per item. \n\n\n\nYou can also earn one point per one dollar donated. For example\, donating $50 earns your College 50 points. \n\n\n\n    Donate to the Warrior Cupboard\n\n\n\n\n\nSuggested Items for Donation\n\n\n\n\nCanned meat and meals (tuna\, chicken\, stews\, soup\, ravioli\, etc.)\n\n\n\nCanned vegetables and fruits\n\n\n\nPeanut butter\n\n\n\nBoxed meals (Hamburger Helper\, Rice-A-Roni\, Mac & Cheese\, etc.)\n\n\n\nBaking ingredients (flour\, sugar\, Bisquick\, oil\, etc.)\n\n\n\nHousehold items (hand soap\, Kleenex\, laundry soap\, etc.)\n\n\n\nPersonal care items (deodorant\, shampoo\, toothpaste\, etc.)\n\n\n\nPlates\, silverware\, can openers\, serving spoons\, etc\n\n\n\n\nVenues\n\n\n\n\n\n\n\n\n\n\n\n\n\nContact
URL:https://www.winona.edu/about/event/wsu-colleges-food-drive-competition/
LOCATION:College of Business Dean’s Suite (Somsen 309)\, 175 West Mark Street\, Winona\, MN\, 55987\, United States
CATEGORIES:Academics,College of Business,College of Education,College of Liberal Arts,College of Nursing & Health Sciences,College of Science & Engineering,Colleges,Student Life,Support & Services
ATTACH;FMTTYPE=image/jpeg:https://www.winona.edu/about/wp-content/uploads/sites/3/2024/03/WSU_Student-Seeds-2019-02-14_151702.jpg
ORGANIZER;CN="Liz Schwanke":MAILTO:collegeofbusiness@winona.edu
END:VEVENT
BEGIN:VEVENT
DTSTART;TZID=America/Chicago:20250303T000000
DTEND;TZID=America/Chicago:20250331T235959
DTSTAMP:20260424T213618
CREATED:20250304T160715Z
LAST-MODIFIED:20250304T160717Z
UID:10000740-1740960000-1743465599@www.winona.edu
SUMMARY:"Create Your More" Case Competition
DESCRIPTION:From March 3-31\, the College of Business will be hosting the “Create Your More” Case Competition\, an undergraduate competition for WSU students to demonstrate their creative thinking\, teamwork\, and public speaking skills. \n\n\n\nThanks to donations from the WSU Foundation and the COB Engaged Learning Endowment\, 3 cash prizes totaling $2\,500 will be awarded to the winning groups.  \n\n\n\n\n\n    Register Your Team\n\n\n\n\n\n    Learn More about This Event\n\n\n\n\n\n\n    \n\n                    \n            \n\nTimeline\n\n\n\n\nMarch 3: Registration opens\n\n\n\nMarch 15: Cases become available to teams\n\n\n\nMarch 23: Case reports due\n\n\n\nMarch 26: Second-round teams are announced\n\n\n\nMarch 31 (1pm): Presentations and final judging\n\n\n\n        \n    \n\n\n    \n\n                    \n            \n\nAwards\n\n\n\n                            \n                1st Place\n                $1\,000 \n\n            \n        \n                            \n                2nd Place\n                $750 \n\n            \n        \n                            \n                3rd Place\n                $500 \n\n            \n        \n\n\n        \n    \n\n\n\nVenue\n\n\n\n\n\nContact
URL:https://www.winona.edu/about/event/create-your-more-case-competition-2025/
LOCATION:Winona Campus\, 175 West Mark Street\, Winona\, MN\, 55987\, United States
CATEGORIES:Academics,College of Business,Colleges
ATTACH;FMTTYPE=image/jpeg:https://www.winona.edu/about/wp-content/uploads/sites/3/2022/11/WSU_Female-Student-Laptop-Code-2022-05-18_134220.jpg
ORGANIZER;CN="Larry Schrenk":MAILTO:lschrenk@winona.edu
END:VEVENT
BEGIN:VEVENT
DTSTART;TZID=America/Chicago:20250310T000000
DTEND;TZID=America/Chicago:20250314T235959
DTSTAMP:20260424T213618
CREATED:20250106T153347Z
LAST-MODIFIED:20260121T221253Z
UID:10000034-1741564800-1741996799@www.winona.edu
SUMMARY:Spring Break
DESCRIPTION:No classes will be held on March 10-14 due to Spring Break. Some offices may still be open this week. \n\n\n\n\n\nVenue\n\n\n\n\n\nContact
URL:https://www.winona.edu/about/event/spring-break-2025/
LOCATION:Winona Campus\, 175 West Mark Street\, Winona\, MN\, 55987\, United States
CATEGORIES:No Classes/Offices Closed
ATTACH;FMTTYPE=image/jpeg:https://www.winona.edu/about/wp-content/uploads/sites/3/2022/12/WSU-Letters-2019-09-25_183226.jpg
ORGANIZER;CN="Academic Affairs":MAILTO:academicaffairs@winona.edu
END:VEVENT
BEGIN:VEVENT
DTSTART;TZID=America/Chicago:20250311T080000
DTEND;TZID=America/Chicago:20250311T100000
DTSTAMP:20260424T213618
CREATED:20250227T154032Z
LAST-MODIFIED:20250227T154033Z
UID:10000668-1741680000-1741687200@www.winona.edu
SUMMARY:WSU Softball vs. Ohio Dominican University
DESCRIPTION:On March 11\, come cheer on the women’s Softball team as they play against Ohio Dominican University. \n\n\n\n\n\nVenue\n\n\n\n\n\nContact
URL:https://www.winona.edu/about/event/wsu-softball-vs-ohio-dominican-university-march-11-morning/
LOCATION:Diamondplex\, 999 Ave H NE\, Winter Haven\, FL\, 33881\, United States
CATEGORIES:Student Life,Warrior Athletics
ATTACH;FMTTYPE=image/jpeg:https://www.winona.edu/about/wp-content/uploads/sites/3/2025/02/Pro-womens-softball-athlete-bat-feature-2022-05-07.jpg
ORGANIZER;CN="Eric Schoh":MAILTO:eschoh@winona.edu
END:VEVENT
BEGIN:VEVENT
DTSTART;TZID=America/Chicago:20250311T101500
DTEND;TZID=America/Chicago:20250311T121500
DTSTAMP:20260424T213618
CREATED:20250227T154222Z
LAST-MODIFIED:20250227T154223Z
UID:10000669-1741688100-1741695300@www.winona.edu
SUMMARY:WSU Softball vs. Saint Martin's University
DESCRIPTION:On March 11\, come cheer on the women’s Softball team as they play against Saint Martin’s University. \n\n\n\n\n\nVenue\n\n\n\n\n\nContact
URL:https://www.winona.edu/about/event/wsu-softball-vs-saint-martins-university-march-11-afternoon/
LOCATION:Diamondplex\, 999 Ave H NE\, Winter Haven\, FL\, 33881\, United States
CATEGORIES:Student Life,Warrior Athletics
ATTACH;FMTTYPE=image/jpeg:https://www.winona.edu/about/wp-content/uploads/sites/3/2025/02/Pro-womens-softball-athlete-bat-feature-2022-05-07.jpg
ORGANIZER;CN="Eric Schoh":MAILTO:eschoh@winona.edu
END:VEVENT
BEGIN:VEVENT
DTSTART;TZID=America/Chicago:20250311T120000
DTEND;TZID=America/Chicago:20250311T140000
DTSTAMP:20260424T213618
CREATED:20250304T183005Z
LAST-MODIFIED:20250304T183006Z
UID:10000750-1741694400-1741701600@www.winona.edu
SUMMARY:WSU Baseball vs. Minot State University
DESCRIPTION:On March 11\, come cheer on the men’s Baseball team as they play against Minot State University. \n\n\n\n\n\nVenue\n\n\n\n\n\nContact
URL:https://www.winona.edu/about/event/wsu-baseball-vs-minot-state-university-march-11-afternoon/
LOCATION:Kino Sports Complex\, 2500 E. Ajo Way\, Tucson\, AZ\, 85713\, United States
CATEGORIES:Student Life,Warrior Athletics
ATTACH;FMTTYPE=image/jpeg:https://www.winona.edu/about/wp-content/uploads/sites/3/2025/03/Pro-mens-baseball-athlete-pitcher-feature-2023-03-26.jpg
ORGANIZER;CN="Eric Schoh":MAILTO:eschoh@winona.edu
END:VEVENT
BEGIN:VEVENT
DTSTART;TZID=America/Chicago:20250311T143000
DTEND;TZID=America/Chicago:20250311T163000
DTSTAMP:20260424T213618
CREATED:20250304T183338Z
LAST-MODIFIED:20250304T183340Z
UID:10000751-1741703400-1741710600@www.winona.edu
SUMMARY:WSU Baseball vs. Southwest Minnesota State University
DESCRIPTION:On March 11\, come cheer on the men’s Baseball team as they play against Southwest Minnesota State University. \n\n\n\n\n\nVenue\n\n\n\n\n\nContact
URL:https://www.winona.edu/about/event/wsu-baseball-vs-southwest-minnesota-state-university-march-11-evening/
LOCATION:Kino Sports Complex\, 2500 E. Ajo Way\, Tucson\, AZ\, 85713\, United States
CATEGORIES:Student Life,Warrior Athletics
ATTACH;FMTTYPE=image/jpeg:https://www.winona.edu/about/wp-content/uploads/sites/3/2025/03/Pro-mens-baseball-athlete-pitcher-feature-2023-03-26.jpg
ORGANIZER;CN="Eric Schoh":MAILTO:eschoh@winona.edu
END:VEVENT
END:VCALENDAR