BEGIN:VCALENDAR
VERSION:2.0
PRODID:-//About - ECPv6.15.16//NONSGML v1.0//EN
CALSCALE:GREGORIAN
METHOD:PUBLISH
X-WR-CALNAME:About
X-ORIGINAL-URL:https://www.winona.edu/about
X-WR-CALDESC:Events for About
REFRESH-INTERVAL;VALUE=DURATION:PT1H
X-Robots-Tag:noindex
X-PUBLISHED-TTL:PT1H
BEGIN:VTIMEZONE
TZID:America/Chicago
BEGIN:DAYLIGHT
TZOFFSETFROM:-0600
TZOFFSETTO:-0500
TZNAME:CDT
DTSTART:20240310T080000
END:DAYLIGHT
BEGIN:STANDARD
TZOFFSETFROM:-0500
TZOFFSETTO:-0600
TZNAME:CST
DTSTART:20241103T070000
END:STANDARD
BEGIN:DAYLIGHT
TZOFFSETFROM:-0600
TZOFFSETTO:-0500
TZNAME:CDT
DTSTART:20250309T080000
END:DAYLIGHT
BEGIN:STANDARD
TZOFFSETFROM:-0500
TZOFFSETTO:-0600
TZNAME:CST
DTSTART:20251102T070000
END:STANDARD
BEGIN:DAYLIGHT
TZOFFSETFROM:-0600
TZOFFSETTO:-0500
TZNAME:CDT
DTSTART:20260308T080000
END:DAYLIGHT
BEGIN:STANDARD
TZOFFSETFROM:-0500
TZOFFSETTO:-0600
TZNAME:CST
DTSTART:20261101T070000
END:STANDARD
END:VTIMEZONE
BEGIN:VEVENT
DTSTART;TZID=America/Chicago:20250301T000000
DTEND;TZID=America/Chicago:20250331T235959
DTSTAMP:20260424T213250
CREATED:20250303T205206Z
LAST-MODIFIED:20250303T205207Z
UID:10000714-1740787200-1743465599@www.winona.edu
SUMMARY:WSU Colleges Food Drive Competition
DESCRIPTION:In honor of Minnesota FoodShare Month—a time dedicated to fighting hunger and restocking local food shelves—the College of Business has challenged the 4 other academic colleges at WSU for a Colleges Food Drive Competition throughout March. \n\n\n\nThis food drive will help stock and raise money for our on-campus food shelf\, the Warrior Cupboard. \n\n\n\nHow It Works\n\n\n\nDrop off food and household items to your Dean’s office\, then earn one point per item. \n\n\n\nYou can also earn one point per one dollar donated. For example\, donating $50 earns your College 50 points. \n\n\n\n    Donate to the Warrior Cupboard\n\n\n\n\n\nSuggested Items for Donation\n\n\n\n\nCanned meat and meals (tuna\, chicken\, stews\, soup\, ravioli\, etc.)\n\n\n\nCanned vegetables and fruits\n\n\n\nPeanut butter\n\n\n\nBoxed meals (Hamburger Helper\, Rice-A-Roni\, Mac & Cheese\, etc.)\n\n\n\nBaking ingredients (flour\, sugar\, Bisquick\, oil\, etc.)\n\n\n\nHousehold items (hand soap\, Kleenex\, laundry soap\, etc.)\n\n\n\nPersonal care items (deodorant\, shampoo\, toothpaste\, etc.)\n\n\n\nPlates\, silverware\, can openers\, serving spoons\, etc\n\n\n\n\nVenues\n\n\n\n\n\n\n\n\n\n\n\n\n\nContact
URL:https://www.winona.edu/about/event/wsu-colleges-food-drive-competition/
LOCATION:College of Business Dean’s Suite (Somsen 309)\, 175 West Mark Street\, Winona\, MN\, 55987\, United States
CATEGORIES:Academics,College of Business,College of Education,College of Liberal Arts,College of Nursing & Health Sciences,College of Science & Engineering,Colleges,Student Life,Support & Services
ATTACH;FMTTYPE=image/jpeg:https://www.winona.edu/about/wp-content/uploads/sites/3/2024/03/WSU_Student-Seeds-2019-02-14_151702.jpg
ORGANIZER;CN="Liz Schwanke":MAILTO:collegeofbusiness@winona.edu
END:VEVENT
BEGIN:VEVENT
DTSTART;TZID=America/Chicago:20250303T000000
DTEND;TZID=America/Chicago:20250331T235959
DTSTAMP:20260424T213250
CREATED:20250304T160715Z
LAST-MODIFIED:20250304T160717Z
UID:10000740-1740960000-1743465599@www.winona.edu
SUMMARY:"Create Your More" Case Competition
DESCRIPTION:From March 3-31\, the College of Business will be hosting the “Create Your More” Case Competition\, an undergraduate competition for WSU students to demonstrate their creative thinking\, teamwork\, and public speaking skills. \n\n\n\nThanks to donations from the WSU Foundation and the COB Engaged Learning Endowment\, 3 cash prizes totaling $2\,500 will be awarded to the winning groups.  \n\n\n\n\n\n    Register Your Team\n\n\n\n\n\n    Learn More about This Event\n\n\n\n\n\n\n    \n\n                    \n            \n\nTimeline\n\n\n\n\nMarch 3: Registration opens\n\n\n\nMarch 15: Cases become available to teams\n\n\n\nMarch 23: Case reports due\n\n\n\nMarch 26: Second-round teams are announced\n\n\n\nMarch 31 (1pm): Presentations and final judging\n\n\n\n        \n    \n\n\n    \n\n                    \n            \n\nAwards\n\n\n\n                            \n                1st Place\n                $1\,000 \n\n            \n        \n                            \n                2nd Place\n                $750 \n\n            \n        \n                            \n                3rd Place\n                $500 \n\n            \n        \n\n\n        \n    \n\n\n\nVenue\n\n\n\n\n\nContact
URL:https://www.winona.edu/about/event/create-your-more-case-competition-2025/
LOCATION:Winona Campus\, 175 West Mark Street\, Winona\, MN\, 55987\, United States
CATEGORIES:Academics,College of Business,Colleges
ATTACH;FMTTYPE=image/jpeg:https://www.winona.edu/about/wp-content/uploads/sites/3/2022/11/WSU_Female-Student-Laptop-Code-2022-05-18_134220.jpg
ORGANIZER;CN="Larry Schrenk":MAILTO:lschrenk@winona.edu
END:VEVENT
BEGIN:VEVENT
DTSTART;TZID=America/Chicago:20250310T000000
DTEND;TZID=America/Chicago:20250314T235959
DTSTAMP:20260424T213250
CREATED:20250106T153347Z
LAST-MODIFIED:20260121T221253Z
UID:10000034-1741564800-1741996799@www.winona.edu
SUMMARY:Spring Break
DESCRIPTION:No classes will be held on March 10-14 due to Spring Break. Some offices may still be open this week. \n\n\n\n\n\nVenue\n\n\n\n\n\nContact
URL:https://www.winona.edu/about/event/spring-break-2025/
LOCATION:Winona Campus\, 175 West Mark Street\, Winona\, MN\, 55987\, United States
CATEGORIES:No Classes/Offices Closed
ATTACH;FMTTYPE=image/jpeg:https://www.winona.edu/about/wp-content/uploads/sites/3/2022/12/WSU-Letters-2019-09-25_183226.jpg
ORGANIZER;CN="Academic Affairs":MAILTO:academicaffairs@winona.edu
END:VEVENT
BEGIN:VEVENT
DTSTART;TZID=America/Chicago:20250314T000000
DTEND;TZID=America/Chicago:20250315T235959
DTSTAMP:20260424T213250
CREATED:20250226T154428Z
LAST-MODIFIED:20250227T141647Z
UID:10000635-1741910400-1742083199@www.winona.edu
SUMMARY:WSU Women's Golf: Vegas Warrior Invitational
DESCRIPTION:From March 14-15\, come cheer on the women’s Golf team as they compete at the Vegas Warrior Invitational meet. \n\n\n\n\n\nVenue\n\n\n\n\n\nContact
URL:https://www.winona.edu/about/event/wsu-womens-golf-meet-vegas-warrior-invitational-march-14-15/
LOCATION:Wildhorse Golf Club\, 2100 W Warm Springs Rd\, Henderson\, NV\, 89014\, United States
CATEGORIES:Student Life,Warrior Athletics
ATTACH;FMTTYPE=image/jpeg:https://www.winona.edu/about/wp-content/uploads/sites/3/2025/02/Pro-womens-golf-athlete-course-feature-2022-09-26.jpg
ORGANIZER;CN="Eric Schoh":MAILTO:eschoh@winona.edu
END:VEVENT
BEGIN:VEVENT
DTSTART;TZID=America/Chicago:20250314T000000
DTEND;TZID=America/Chicago:20250315T235959
DTSTAMP:20260424T213250
CREATED:20250226T193011Z
LAST-MODIFIED:20250227T141657Z
UID:10000641-1741910400-1742083199@www.winona.edu
SUMMARY:WSU Men's Golf: Vegas Warrior Invitational
DESCRIPTION:From March 14-15\, come cheer on the men’s Golf team as they compete at the Vegas Warrior Invitational meet. \n\n\n\n\n\nVenue\n\n\n\n\n\nContact
URL:https://www.winona.edu/about/event/wsu-mens-golf-meet-vegas-warrior-invitational-march-14-15/
LOCATION:Wildhorse Golf Club\, 2100 W Warm Springs Rd\, Henderson\, NV\, 89014\, United States
CATEGORIES:Student Life,Warrior Athletics
ATTACH;FMTTYPE=image/jpeg:https://www.winona.edu/about/wp-content/uploads/sites/3/2025/02/Pro-mens-golf-athlete-course-feature-2022-09-07.jpg
ORGANIZER;CN="Eric Schoh":MAILTO:eschoh@winona.edu
END:VEVENT
BEGIN:VEVENT
DTSTART;TZID=America/Chicago:20250314T000000
DTEND;TZID=America/Chicago:20250315T235959
DTSTAMP:20260424T213250
CREATED:20250304T145632Z
LAST-MODIFIED:20250304T145634Z
UID:10000729-1741910400-1742083199@www.winona.edu
SUMMARY:WSU Women's Track & Field: NCAA Indoor Championships
DESCRIPTION:From March 14-15\, come cheer on the women’s Track & Field team as they compete at the National Collegiate Athletic Association (NCAA) indoor championship. \n\n\n\n\n\nVenue\n\n\n\n\n\nContact
URL:https://www.winona.edu/about/event/wsu-womens-track-field-ncaa-indoor-championships-march-14-15/
LOCATION:Indiana Farm Bureau Fall Creek Pavilion\, 1310415\, Indianapolis\, IN\, 46205\, United States
CATEGORIES:Student Life,Warrior Athletics
ATTACH;FMTTYPE=image/jpeg:https://www.winona.edu/about/wp-content/uploads/sites/3/2025/02/Pro-womens-track-field-athlete-meet-feature-2023-02-03.jpg
ORGANIZER;CN="Eric Schoh":MAILTO:eschoh@winona.edu
END:VEVENT
BEGIN:VEVENT
DTSTART;TZID=America/Chicago:20250314T090000
DTEND;TZID=America/Chicago:20250314T120000
DTSTAMP:20260424T213250
CREATED:20250224T225841Z
LAST-MODIFIED:20250224T225842Z
UID:10000606-1741942800-1741953600@www.winona.edu
SUMMARY:Basic Life Support Training for Aspiring Healthcare Professionals
DESCRIPTION:On March 14\, attend this class if you’re an aspiring healthcare professional and want to get trained in basic life support (BLS). \n\n\n\nThis class is open to WSU students. Limited spots are available. \n\n\n\nPlease note that this training is held during Spring Break\, and there are no classes. \n\n\n\nQuestions? Contact healthservicescpr@winona.edu for more info.  \n\n\n\n    Sign Up for This Event\n\n\n\n\n\nVenue\n\n\n\n\n\nContact
URL:https://www.winona.edu/about/event/basic-life-support-training-for-aspiring-healthcare-professionals-march-14/
LOCATION:Health & Wellness Services (IWC 222)\, 175 W Mark St\, Winona\, MN\, 55987\, United States
CATEGORIES:Academics,College of Nursing & Health Sciences,College of Science & Engineering,Colleges,Health & Wellness,Student Life
ATTACH;FMTTYPE=image/jpeg:https://www.winona.edu/about/wp-content/uploads/sites/3/2025/01/WSU-students-health-manikin-feature-2016-11-17.jpg
ORGANIZER;CN="Jami Rosenbush":MAILTO:jrosenbush@winona.edu
END:VEVENT
BEGIN:VEVENT
DTSTART;TZID=America/Chicago:20250314T100000
DTEND;TZID=America/Chicago:20250314T120000
DTSTAMP:20260424T213250
CREATED:20250303T180712Z
LAST-MODIFIED:20250303T180713Z
UID:10000710-1741946400-1741953600@www.winona.edu
SUMMARY:WSU Women's Tennis vs. St. Thomas Aquinas College
DESCRIPTION:On March 14\, come cheer on the women’s Tennis team as they compete against St. Thomas Aquinas College. \n\n\n\n\n\nVenue\n\n\n\n\n\nContact
URL:https://www.winona.edu/about/event/wsu-womens-tennis-vs-st-thomas-aquinas-college-march-14/
LOCATION:USTA National Campus\, 10000 USTA Blvd.\, Orlando\, FL\, 32827\, United States
CATEGORIES:Student Life,Warrior Athletics
ATTACH;FMTTYPE=image/jpeg:https://www.winona.edu/about/wp-content/uploads/sites/3/2025/02/Pro-womens-tennis-athlete-racket-court-feature-2022-04-04.jpg
ORGANIZER;CN="Eric Schoh":MAILTO:eschoh@winona.edu
END:VEVENT
BEGIN:VEVENT
DTSTART;TZID=America/Chicago:20250314T120000
DTEND;TZID=America/Chicago:20250314T150000
DTSTAMP:20260424T213250
CREATED:20250123T145913Z
LAST-MODIFIED:20250123T145914Z
UID:10000509-1741953600-1741964400@www.winona.edu
SUMMARY:Future Teacher Day: College of Education Visit
DESCRIPTION:If you’re thinking about a career in education\, prospective students are invited to join us for this Future Teacher Day on March 14. \n\n\n\nYou’ll get a behind-the-scenes look of our innovative Education Village and more\, including: \n\n\n\n\nFull-campus tour\n\n\n\nComprehensive admissions presentation\n\n\n\nEducation program session\n\n\n\n\n \n\n\n\n    Register for This Event\n\n\n\n\n\nVenue\n\n\n\n\n\nContact
URL:https://www.winona.edu/about/event/future-teacher-day-college-of-education-visit/
LOCATION:Admissions Office\, 170 W 8th St\, Winona\, MN\, 55987\, United States
CATEGORIES:Academics,Admissions,College of Education,Colleges
ATTACH;FMTTYPE=image/jpeg:https://www.winona.edu/about/wp-content/uploads/sites/3/2022/12/WSU-Classroom-Technology-2022-11-01_084745.jpg
ORGANIZER;CN="Admissions Office":MAILTO:admissions@winona.edu
END:VEVENT
END:VCALENDAR