BEGIN:VCALENDAR
VERSION:2.0
PRODID:-//About - ECPv6.15.16//NONSGML v1.0//EN
CALSCALE:GREGORIAN
METHOD:PUBLISH
X-WR-CALNAME:About
X-ORIGINAL-URL:https://www.winona.edu/about
X-WR-CALDESC:Events for About
REFRESH-INTERVAL;VALUE=DURATION:PT1H
X-Robots-Tag:noindex
X-PUBLISHED-TTL:PT1H
BEGIN:VTIMEZONE
TZID:America/Chicago
BEGIN:DAYLIGHT
TZOFFSETFROM:-0600
TZOFFSETTO:-0500
TZNAME:CDT
DTSTART:20240310T080000
END:DAYLIGHT
BEGIN:STANDARD
TZOFFSETFROM:-0500
TZOFFSETTO:-0600
TZNAME:CST
DTSTART:20241103T070000
END:STANDARD
BEGIN:DAYLIGHT
TZOFFSETFROM:-0600
TZOFFSETTO:-0500
TZNAME:CDT
DTSTART:20250309T080000
END:DAYLIGHT
BEGIN:STANDARD
TZOFFSETFROM:-0500
TZOFFSETTO:-0600
TZNAME:CST
DTSTART:20251102T070000
END:STANDARD
BEGIN:DAYLIGHT
TZOFFSETFROM:-0600
TZOFFSETTO:-0500
TZNAME:CDT
DTSTART:20260308T080000
END:DAYLIGHT
BEGIN:STANDARD
TZOFFSETFROM:-0500
TZOFFSETTO:-0600
TZNAME:CST
DTSTART:20261101T070000
END:STANDARD
END:VTIMEZONE
BEGIN:VEVENT
DTSTART;TZID=America/Chicago:20250301T000000
DTEND;TZID=America/Chicago:20250331T235959
DTSTAMP:20260424T213212
CREATED:20250303T205206Z
LAST-MODIFIED:20250303T205207Z
UID:10000714-1740787200-1743465599@www.winona.edu
SUMMARY:WSU Colleges Food Drive Competition
DESCRIPTION:In honor of Minnesota FoodShare Month—a time dedicated to fighting hunger and restocking local food shelves—the College of Business has challenged the 4 other academic colleges at WSU for a Colleges Food Drive Competition throughout March. \n\n\n\nThis food drive will help stock and raise money for our on-campus food shelf\, the Warrior Cupboard. \n\n\n\nHow It Works\n\n\n\nDrop off food and household items to your Dean’s office\, then earn one point per item. \n\n\n\nYou can also earn one point per one dollar donated. For example\, donating $50 earns your College 50 points. \n\n\n\n    Donate to the Warrior Cupboard\n\n\n\n\n\nSuggested Items for Donation\n\n\n\n\nCanned meat and meals (tuna\, chicken\, stews\, soup\, ravioli\, etc.)\n\n\n\nCanned vegetables and fruits\n\n\n\nPeanut butter\n\n\n\nBoxed meals (Hamburger Helper\, Rice-A-Roni\, Mac & Cheese\, etc.)\n\n\n\nBaking ingredients (flour\, sugar\, Bisquick\, oil\, etc.)\n\n\n\nHousehold items (hand soap\, Kleenex\, laundry soap\, etc.)\n\n\n\nPersonal care items (deodorant\, shampoo\, toothpaste\, etc.)\n\n\n\nPlates\, silverware\, can openers\, serving spoons\, etc\n\n\n\n\nVenues\n\n\n\n\n\n\n\n\n\n\n\n\n\nContact
URL:https://www.winona.edu/about/event/wsu-colleges-food-drive-competition/
LOCATION:College of Business Dean’s Suite (Somsen 309)\, 175 West Mark Street\, Winona\, MN\, 55987\, United States
CATEGORIES:Academics,College of Business,College of Education,College of Liberal Arts,College of Nursing & Health Sciences,College of Science & Engineering,Colleges,Student Life,Support & Services
ATTACH;FMTTYPE=image/jpeg:https://www.winona.edu/about/wp-content/uploads/sites/3/2024/03/WSU_Student-Seeds-2019-02-14_151702.jpg
ORGANIZER;CN="Liz Schwanke":MAILTO:collegeofbusiness@winona.edu
END:VEVENT
BEGIN:VEVENT
DTSTART;TZID=America/Chicago:20250303T000000
DTEND;TZID=America/Chicago:20250331T235959
DTSTAMP:20260424T213212
CREATED:20250304T160715Z
LAST-MODIFIED:20250304T160717Z
UID:10000740-1740960000-1743465599@www.winona.edu
SUMMARY:"Create Your More" Case Competition
DESCRIPTION:From March 3-31\, the College of Business will be hosting the “Create Your More” Case Competition\, an undergraduate competition for WSU students to demonstrate their creative thinking\, teamwork\, and public speaking skills. \n\n\n\nThanks to donations from the WSU Foundation and the COB Engaged Learning Endowment\, 3 cash prizes totaling $2\,500 will be awarded to the winning groups.  \n\n\n\n\n\n    Register Your Team\n\n\n\n\n\n    Learn More about This Event\n\n\n\n\n\n\n    \n\n                    \n            \n\nTimeline\n\n\n\n\nMarch 3: Registration opens\n\n\n\nMarch 15: Cases become available to teams\n\n\n\nMarch 23: Case reports due\n\n\n\nMarch 26: Second-round teams are announced\n\n\n\nMarch 31 (1pm): Presentations and final judging\n\n\n\n        \n    \n\n\n    \n\n                    \n            \n\nAwards\n\n\n\n                            \n                1st Place\n                $1\,000 \n\n            \n        \n                            \n                2nd Place\n                $750 \n\n            \n        \n                            \n                3rd Place\n                $500 \n\n            \n        \n\n\n        \n    \n\n\n\nVenue\n\n\n\n\n\nContact
URL:https://www.winona.edu/about/event/create-your-more-case-competition-2025/
LOCATION:Winona Campus\, 175 West Mark Street\, Winona\, MN\, 55987\, United States
CATEGORIES:Academics,College of Business,Colleges
ATTACH;FMTTYPE=image/jpeg:https://www.winona.edu/about/wp-content/uploads/sites/3/2022/11/WSU_Female-Student-Laptop-Code-2022-05-18_134220.jpg
ORGANIZER;CN="Larry Schrenk":MAILTO:lschrenk@winona.edu
END:VEVENT
BEGIN:VEVENT
DTSTART;TZID=America/Chicago:20250315T000000
DTEND;TZID=America/Chicago:20250401T235959
DTSTAMP:20260424T213212
CREATED:20250114T194406Z
LAST-MODIFIED:20250114T194739Z
UID:10000486-1741996800-1743551999@www.winona.edu
SUMMARY:General Room Selection Opens for 2025-26 Housing Application
DESCRIPTION:March 15-April 1 is when all current WSU students can apply for housing. This is part of the general housing application for the 2025-26 academic year. \n\n\n\n    Learn More about Housing for Current Students\n\n\n\n\n\nVenue\n\n\n\n\n\nContact
URL:https://www.winona.edu/about/event/general-room-selection-opens-for-2025-26-housing-application/
LOCATION:Winona Campus\, 175 West Mark Street\, Winona\, MN\, 55987\, United States
CATEGORIES:Housing & Dining,Student Life
ATTACH;FMTTYPE=image/jpeg:https://www.winona.edu/about/wp-content/uploads/sites/3/2025/01/Pro-students-residence-hall-community-feature-2021-10-12.jpg
ORGANIZER;CN="Candice Guenther":MAILTO:cguenther@winona.edu
END:VEVENT
BEGIN:VEVENT
DTSTART;TZID=America/Chicago:20250318T100000
DTEND;TZID=America/Chicago:20250318T120000
DTSTAMP:20260424T213212
CREATED:20250304T185545Z
LAST-MODIFIED:20250304T185546Z
UID:10000758-1742292000-1742299200@www.winona.edu
SUMMARY:WSU Baseball vs. Augsburg University
DESCRIPTION:On March 18\, come cheer on the men’s Baseball team as they play against Augsburg University. \n\n\n\n\n\nVenue\n\n\n\n\n\nContact
URL:https://www.winona.edu/about/event/wsu-baseball-vs-augsburg-university-march-18/
LOCATION:Kino Sports Complex\, 2500 E. Ajo Way\, Tucson\, AZ\, 85713\, United States
CATEGORIES:Student Life,Warrior Athletics
ATTACH;FMTTYPE=image/jpeg:https://www.winona.edu/about/wp-content/uploads/sites/3/2025/03/Pro-mens-baseball-athlete-pitcher-feature-2023-03-26.jpg
ORGANIZER;CN="Eric Schoh":MAILTO:eschoh@winona.edu
END:VEVENT
BEGIN:VEVENT
DTSTART;TZID=America/Chicago:20250318T110000
DTEND;TZID=America/Chicago:20250318T133000
DTSTAMP:20260424T213212
CREATED:20250106T153637Z
LAST-MODIFIED:20250108T210345Z
UID:10000208-1742295600-1742304600@www.winona.edu
SUMMARY:Tea Tuesday
DESCRIPTION:Enjoy tea in the library on March 18 from 11am-1:30pm. \n\n\n\n\n\nVenue\n\n\n\n\n\nContact
URL:https://www.winona.edu/about/event/tea-tuesday-march-18/
LOCATION:Library Floor 1\, 525 Johnson St\, Winona\, MN\, 55987\, United States
CATEGORIES:Health & Wellness,Student Life
ATTACH;FMTTYPE=image/jpeg:https://www.winona.edu/about/wp-content/uploads/sites/3/2024/12/WSU-female-student-coffee-mug-feature-2019-06-03.jpg
ORGANIZER;CN="Kendall Larson":MAILTO:klarson@winona.edu
END:VEVENT
BEGIN:VEVENT
DTSTART;TZID=America/Chicago:20250318T143000
DTEND;TZID=America/Chicago:20250318T163000
DTSTAMP:20260424T213212
CREATED:20250220T145519Z
LAST-MODIFIED:20250220T145520Z
UID:10000585-1742308200-1742315400@www.winona.edu
SUMMARY:"The Importance of Connections in Retirement" Webinar
DESCRIPTION:Please join our Retiree Center on March 18 for a Pathways to Retirement webinar\, “The Importance of Connections in Retirement\,” presented by WSU Psychology professor Trisha Karr. \n\n\n\nRecent data shows that approximately one out of 2 adults in this country struggles with loneliness. Changing social activities in the transition to retirement may especially bring new challenges to maintain and develop relationships. In this presentation\, we’ll consider strategies to foster healthy social connections to promote quality of life in retirement. \n\n\n\nThis free program will be of interest to anyone thinking about retirement or even current retirees. \n\n\n\nOnce registered\, we’ll email you the Zoom link for the webinar. \n\n\n\n    Register for This Event\n\n\n\n\n\nAbout the Presenter\n\n\n\nTrisha Karr holds a master’s degree in Clinical Psychology and a PhD in Developmental Psychology.  \n\n\n\nHer main area of scholarly interest includes quality of life in aging. Given this interest\, she teaches undergraduate-level courses such as Health Psychology and Adult Development & Aging. \n\n\n\nContact
URL:https://www.winona.edu/about/event/the-importance-of-connections-in-retirement-webinar/
LOCATION:MN
CATEGORIES:About,Leadership & Administration
ATTACH;FMTTYPE=image/jpeg:https://www.winona.edu/about/wp-content/uploads/sites/3/2025/02/WSU-laptop-WSU-website-feature-2024-02-13.jpg
ORGANIZER;CN="Jess Kauphusman":MAILTO:jkauphusman@winona.edu
END:VEVENT
BEGIN:VEVENT
DTSTART;TZID=America/Chicago:20250318T190000
DTEND;TZID=America/Chicago:20250318T210000
DTSTAMP:20260424T213212
CREATED:20250206T160115Z
LAST-MODIFIED:20250206T160116Z
UID:10000556-1742324400-1742331600@www.winona.edu
SUMMARY:"Roll Red Roll" Film Screening
DESCRIPTION:On March 18\, join us for a screening of “Roll Red Roll\,” a film that engages some of the same critical questions as this year’s Common Book “Why We Act.”  \n\n\n\nThis film explores a high school and town that failed to act when members of the football team committed sexual assault. \n\n\n\n    Learn More about “Roll Red Roll”\n\n\n\n\n\nVenue\n\n\n\n\n\nContact
URL:https://www.winona.edu/about/event/roll-red-roll-film-screening/
LOCATION:SLC 120\, 400 Winona St\, Winona\, MN\, 55987\, United States
CATEGORIES:Academics,Arts & Entertainment,College of Liberal Arts,Colleges,Common Book,Speakers & Educational Series,Student Life,Women's, Gender & Sexuality Studies Department
ATTACH;FMTTYPE=image/jpeg:https://www.winona.edu/about/wp-content/uploads/sites/3/2024/12/WSU-empty-auditorium-chairs-feature-2016-03-30.jpg
ORGANIZER;CN="Andrew Higl":MAILTO:ahigl@winona.edu
END:VEVENT
END:VCALENDAR