BEGIN:VCALENDAR
VERSION:2.0
PRODID:-//About - ECPv6.15.16//NONSGML v1.0//EN
CALSCALE:GREGORIAN
METHOD:PUBLISH
X-ORIGINAL-URL:https://www.winona.edu/about
X-WR-CALDESC:Events for About
REFRESH-INTERVAL;VALUE=DURATION:PT1H
X-Robots-Tag:noindex
X-PUBLISHED-TTL:PT1H
BEGIN:VTIMEZONE
TZID:America/Chicago
BEGIN:DAYLIGHT
TZOFFSETFROM:-0600
TZOFFSETTO:-0500
TZNAME:CDT
DTSTART:20240310T080000
END:DAYLIGHT
BEGIN:STANDARD
TZOFFSETFROM:-0500
TZOFFSETTO:-0600
TZNAME:CST
DTSTART:20241103T070000
END:STANDARD
BEGIN:DAYLIGHT
TZOFFSETFROM:-0600
TZOFFSETTO:-0500
TZNAME:CDT
DTSTART:20250309T080000
END:DAYLIGHT
BEGIN:STANDARD
TZOFFSETFROM:-0500
TZOFFSETTO:-0600
TZNAME:CST
DTSTART:20251102T070000
END:STANDARD
BEGIN:DAYLIGHT
TZOFFSETFROM:-0600
TZOFFSETTO:-0500
TZNAME:CDT
DTSTART:20260308T080000
END:DAYLIGHT
BEGIN:STANDARD
TZOFFSETFROM:-0500
TZOFFSETTO:-0600
TZNAME:CST
DTSTART:20261101T070000
END:STANDARD
END:VTIMEZONE
BEGIN:VEVENT
DTSTART;TZID=America/Chicago:20250301T000000
DTEND;TZID=America/Chicago:20250331T235959
DTSTAMP:20260424T213525
CREATED:20250303T205206Z
LAST-MODIFIED:20250303T205207Z
UID:10000714-1740787200-1743465599@www.winona.edu
SUMMARY:WSU Colleges Food Drive Competition
DESCRIPTION:In honor of Minnesota FoodShare Month—a time dedicated to fighting hunger and restocking local food shelves—the College of Business has challenged the 4 other academic colleges at WSU for a Colleges Food Drive Competition throughout March. \n\n\n\nThis food drive will help stock and raise money for our on-campus food shelf\, the Warrior Cupboard. \n\n\n\nHow It Works\n\n\n\nDrop off food and household items to your Dean’s office\, then earn one point per item. \n\n\n\nYou can also earn one point per one dollar donated. For example\, donating $50 earns your College 50 points. \n\n\n\n    Donate to the Warrior Cupboard\n\n\n\n\n\nSuggested Items for Donation\n\n\n\n\nCanned meat and meals (tuna\, chicken\, stews\, soup\, ravioli\, etc.)\n\n\n\nCanned vegetables and fruits\n\n\n\nPeanut butter\n\n\n\nBoxed meals (Hamburger Helper\, Rice-A-Roni\, Mac & Cheese\, etc.)\n\n\n\nBaking ingredients (flour\, sugar\, Bisquick\, oil\, etc.)\n\n\n\nHousehold items (hand soap\, Kleenex\, laundry soap\, etc.)\n\n\n\nPersonal care items (deodorant\, shampoo\, toothpaste\, etc.)\n\n\n\nPlates\, silverware\, can openers\, serving spoons\, etc\n\n\n\n\nVenues\n\n\n\n\n\n\n\n\n\n\n\n\n\nContact
URL:https://www.winona.edu/about/event/wsu-colleges-food-drive-competition/
LOCATION:College of Business Dean’s Suite (Somsen 309)\, 175 West Mark Street\, Winona\, MN\, 55987\, United States
CATEGORIES:Academics,College of Business,College of Education,College of Liberal Arts,College of Nursing & Health Sciences,College of Science & Engineering,Colleges,Student Life,Support & Services
ATTACH;FMTTYPE=image/jpeg:https://www.winona.edu/about/wp-content/uploads/sites/3/2024/03/WSU_Student-Seeds-2019-02-14_151702.jpg
ORGANIZER;CN="Liz Schwanke":MAILTO:collegeofbusiness@winona.edu
END:VEVENT
BEGIN:VEVENT
DTSTART;TZID=America/Chicago:20250303T000000
DTEND;TZID=America/Chicago:20250331T235959
DTSTAMP:20260424T213525
CREATED:20250304T160715Z
LAST-MODIFIED:20250304T160717Z
UID:10000740-1740960000-1743465599@www.winona.edu
SUMMARY:"Create Your More" Case Competition
DESCRIPTION:From March 3-31\, the College of Business will be hosting the “Create Your More” Case Competition\, an undergraduate competition for WSU students to demonstrate their creative thinking\, teamwork\, and public speaking skills. \n\n\n\nThanks to donations from the WSU Foundation and the COB Engaged Learning Endowment\, 3 cash prizes totaling $2\,500 will be awarded to the winning groups.  \n\n\n\n\n\n    Register Your Team\n\n\n\n\n\n    Learn More about This Event\n\n\n\n\n\n\n    \n\n                    \n            \n\nTimeline\n\n\n\n\nMarch 3: Registration opens\n\n\n\nMarch 15: Cases become available to teams\n\n\n\nMarch 23: Case reports due\n\n\n\nMarch 26: Second-round teams are announced\n\n\n\nMarch 31 (1pm): Presentations and final judging\n\n\n\n        \n    \n\n\n    \n\n                    \n            \n\nAwards\n\n\n\n                            \n                1st Place\n                $1\,000 \n\n            \n        \n                            \n                2nd Place\n                $750 \n\n            \n        \n                            \n                3rd Place\n                $500 \n\n            \n        \n\n\n        \n    \n\n\n\nVenue\n\n\n\n\n\nContact
URL:https://www.winona.edu/about/event/create-your-more-case-competition-2025/
LOCATION:Winona Campus\, 175 West Mark Street\, Winona\, MN\, 55987\, United States
CATEGORIES:Academics,College of Business,Colleges
ATTACH;FMTTYPE=image/jpeg:https://www.winona.edu/about/wp-content/uploads/sites/3/2022/11/WSU_Female-Student-Laptop-Code-2022-05-18_134220.jpg
ORGANIZER;CN="Larry Schrenk":MAILTO:lschrenk@winona.edu
END:VEVENT
BEGIN:VEVENT
DTSTART;TZID=America/Chicago:20250315T000000
DTEND;TZID=America/Chicago:20250401T235959
DTSTAMP:20260424T213525
CREATED:20250114T194406Z
LAST-MODIFIED:20250114T194739Z
UID:10000486-1741996800-1743551999@www.winona.edu
SUMMARY:General Room Selection Opens for 2025-26 Housing Application
DESCRIPTION:March 15-April 1 is when all current WSU students can apply for housing. This is part of the general housing application for the 2025-26 academic year. \n\n\n\n    Learn More about Housing for Current Students\n\n\n\n\n\nVenue\n\n\n\n\n\nContact
URL:https://www.winona.edu/about/event/general-room-selection-opens-for-2025-26-housing-application/
LOCATION:Winona Campus\, 175 West Mark Street\, Winona\, MN\, 55987\, United States
CATEGORIES:Housing & Dining,Student Life
ATTACH;FMTTYPE=image/jpeg:https://www.winona.edu/about/wp-content/uploads/sites/3/2025/01/Pro-students-residence-hall-community-feature-2021-10-12.jpg
ORGANIZER;CN="Candice Guenther":MAILTO:cguenther@winona.edu
END:VEVENT
BEGIN:VEVENT
DTSTART;TZID=America/Chicago:20250319T120000
DTEND;TZID=America/Chicago:20250319T130000
DTSTAMP:20260424T213525
CREATED:20250122T204401Z
LAST-MODIFIED:20250122T204402Z
UID:10000499-1742385600-1742389200@www.winona.edu
SUMMARY:Altra Federal Credit Union Lunch & Learn: Data Science
DESCRIPTION:The College of Business has partnered with Altra Federal Credit Union for a monthly series of Lunch & Learn events throughout the Spring 2025 semester. \n\n\n\nOn March 19\, join us to learn about data science and IT concepts and careers at Altra Federal Credit Union while enjoying a lunch! \n\n\n\nAlthough registration isn’t required to attend\, it’s greatly encouraged and appreciated\, as it helps us estimate how much food is needed for lunch. \n\n\n\n    RSVP to This Event\n\n\n\n\n\nVenue\n\n\n\n\n\nContact
URL:https://www.winona.edu/about/event/altra-federal-credit-union-lunch-learn-data-science/
LOCATION:College of Business Engagement Center\, 175 West Mark Street\, Winona\, MN\, 55987\, United States
CATEGORIES:Academics,College of Business,Colleges
ATTACH;FMTTYPE=image/jpeg:https://www.winona.edu/about/wp-content/uploads/sites/3/2024/12/WSU-business-students-professional-feature-2018-11-15.jpg
ORGANIZER;CN="Liz Schwanke":MAILTO:collegeofbusiness@winona.edu
END:VEVENT
BEGIN:VEVENT
DTSTART;TZID=America/Chicago:20250319T130000
DTEND;TZID=America/Chicago:20250319T150000
DTSTAMP:20260424T213525
CREATED:20250109T144251Z
LAST-MODIFIED:20250109T144253Z
UID:10000382-1742389200-1742396400@www.winona.edu
SUMMARY:S'more Fun
DESCRIPTION:On March 19\, stop by the Fire Feature Patio for free marshmallow goodness (weather-permitting). \n\n\n\n\n\nVenue\n\n\n\n\n\nContact
URL:https://www.winona.edu/about/event/smore-fun-march-19/
LOCATION:Fire Feature Patio\, 250 W 10th St\, Winona\, MN\, 55987\, United States
CATEGORIES:Student Life
ATTACH;FMTTYPE=image/jpeg:https://www.winona.edu/about/wp-content/uploads/sites/3/2025/01/WSU-female-students-roasting-smores-fire-feature-2023-08-18.jpg
ORGANIZER;CN="George Micalone":MAILTO:george.micalone@winona.edu
END:VEVENT
BEGIN:VEVENT
DTSTART;TZID=America/Chicago:20250319T133000
DTEND;TZID=America/Chicago:20250319T153000
DTSTAMP:20260424T213525
CREATED:20250225T191743Z
LAST-MODIFIED:20250303T154348Z
UID:10000626-1742391000-1742398200@www.winona.edu
SUMMARY:WSU Women's Tennis vs. Fort Hays State
DESCRIPTION:On March 19\, come cheer on the women’s Tennis team as they compete against Fort Hays State. \n\n\n\n\n\nVenue\n\n\n\n\n\nContact
URL:https://www.winona.edu/about/event/wsu-womens-tennis-vs-fort-hays-state-match-march-19/
LOCATION:Winona Tennis Center\, 360 Vila St\, Winona\, MN\, 55987\, United States
CATEGORIES:Student Life,Warrior Athletics
ATTACH;FMTTYPE=image/jpeg:https://www.winona.edu/about/wp-content/uploads/sites/3/2025/02/Pro-womens-tennis-athlete-racket-court-feature-2022-04-04.jpg
ORGANIZER;CN="Eric Schoh":MAILTO:eschoh@winona.edu
END:VEVENT
BEGIN:VEVENT
DTSTART;TZID=America/Chicago:20250319T180000
DTEND;TZID=America/Chicago:20250319T203000
DTSTAMP:20260424T213525
CREATED:20250217T201133Z
LAST-MODIFIED:20250217T201134Z
UID:10000573-1742407200-1742416200@www.winona.edu
SUMMARY:"My Name Is Rachel Corrie" Reading
DESCRIPTION:In honor of Women’s History Month\, join us on March 19 for a reading of the play “My Name Is Rachel Corrie” (edited by Alan Rickman and Katharine Viner)\, with performances interspersed throughout. \n\n\n\nThis play excerpts the diaries of Rachel Corrie\, who was murdered in 2003 by Israeli forces while protecting a Palestinian family. \n\n\n\nOpening performances are by Sana Wazwaz and Andrea Shaker. There will be opportunities to learn about civic engagement at the end of the performance. \n\n\n\nDoors open at 5:30pm.   \n\n\n\nThis event is a collaboration between the Women’s\, Gender\, & Sexuality Studies and Theatre & Dance departments; The Cedar Tree Project; and Theatre Du Mississippi. \n\n\n\n\n\nVenue\n\n\n\n\n\nContact
URL:https://www.winona.edu/about/event/my-name-is-rachel-corrie-reading/
LOCATION:Dorothy B. Magnus Black Box Theatre\, 450 Johnson St\, Winona\, MN\, 55987\, United States
CATEGORIES:Academics,Arts & Entertainment,College of Liberal Arts,Colleges,Student Life,Theatre & Dance Department,Women's, Gender & Sexuality Studies Department
ATTACH;FMTTYPE=image/jpeg:https://www.winona.edu/about/wp-content/uploads/sites/3/2023/10/WSU_Students-Event-2023-01-20_234236.jpg
ORGANIZER;CN="Mary Jo Klinker":MAILTO:mklinker@winona.edu
END:VEVENT
BEGIN:VEVENT
DTSTART;TZID=America/Chicago:20250319T190000
DTEND;TZID=America/Chicago:20250319T210000
DTSTAMP:20260424T213525
CREATED:20250204T144834Z
LAST-MODIFIED:20250204T144835Z
UID:10000547-1742410800-1742418000@www.winona.edu
SUMMARY:Open Mic Night
DESCRIPTION:Do you have a hidden talent such as singing\, dancing\, or spoken poetry? \n\n\n\nOn March 19\, join us for Open Mic Night at the Zane’s Stage for an opportunity to get on stage! \n\n\n\n\n\nVenue\n\n\n\n\n\nContact
URL:https://www.winona.edu/about/event/open-mic-night-march-19/
LOCATION:Zane’s Stage\, 250 W 10th St\, Winona\, MN\, 55987\, United States
CATEGORIES:Clubs & Activities,Clubs & Organizations,Student Life,Warrior Entertainment Network
ATTACH;FMTTYPE=image/jpeg:https://www.winona.edu/about/wp-content/uploads/sites/3/2023/09/WSU_Student-Stage-2018-06-29_132642.jpg
ORGANIZER;CN="Jordan Schliep":MAILTO:jordan.schliep@go.winona.edu
END:VEVENT
END:VCALENDAR