BEGIN:VCALENDAR
VERSION:2.0
PRODID:-//About - ECPv6.15.16//NONSGML v1.0//EN
CALSCALE:GREGORIAN
METHOD:PUBLISH
X-WR-CALNAME:About
X-ORIGINAL-URL:https://www.winona.edu/about
X-WR-CALDESC:Events for About
REFRESH-INTERVAL;VALUE=DURATION:PT1H
X-Robots-Tag:noindex
X-PUBLISHED-TTL:PT1H
BEGIN:VTIMEZONE
TZID:America/Chicago
BEGIN:DAYLIGHT
TZOFFSETFROM:-0600
TZOFFSETTO:-0500
TZNAME:CDT
DTSTART:20240310T080000
END:DAYLIGHT
BEGIN:STANDARD
TZOFFSETFROM:-0500
TZOFFSETTO:-0600
TZNAME:CST
DTSTART:20241103T070000
END:STANDARD
BEGIN:DAYLIGHT
TZOFFSETFROM:-0600
TZOFFSETTO:-0500
TZNAME:CDT
DTSTART:20250309T080000
END:DAYLIGHT
BEGIN:STANDARD
TZOFFSETFROM:-0500
TZOFFSETTO:-0600
TZNAME:CST
DTSTART:20251102T070000
END:STANDARD
BEGIN:DAYLIGHT
TZOFFSETFROM:-0600
TZOFFSETTO:-0500
TZNAME:CDT
DTSTART:20260308T080000
END:DAYLIGHT
BEGIN:STANDARD
TZOFFSETFROM:-0500
TZOFFSETTO:-0600
TZNAME:CST
DTSTART:20261101T070000
END:STANDARD
END:VTIMEZONE
BEGIN:VEVENT
DTSTART;TZID=America/Chicago:20250301T000000
DTEND;TZID=America/Chicago:20250331T235959
DTSTAMP:20260424T213142
CREATED:20250303T205206Z
LAST-MODIFIED:20250303T205207Z
UID:10000714-1740787200-1743465599@www.winona.edu
SUMMARY:WSU Colleges Food Drive Competition
DESCRIPTION:In honor of Minnesota FoodShare Month—a time dedicated to fighting hunger and restocking local food shelves—the College of Business has challenged the 4 other academic colleges at WSU for a Colleges Food Drive Competition throughout March. \n\n\n\nThis food drive will help stock and raise money for our on-campus food shelf\, the Warrior Cupboard. \n\n\n\nHow It Works\n\n\n\nDrop off food and household items to your Dean’s office\, then earn one point per item. \n\n\n\nYou can also earn one point per one dollar donated. For example\, donating $50 earns your College 50 points. \n\n\n\n    Donate to the Warrior Cupboard\n\n\n\n\n\nSuggested Items for Donation\n\n\n\n\nCanned meat and meals (tuna\, chicken\, stews\, soup\, ravioli\, etc.)\n\n\n\nCanned vegetables and fruits\n\n\n\nPeanut butter\n\n\n\nBoxed meals (Hamburger Helper\, Rice-A-Roni\, Mac & Cheese\, etc.)\n\n\n\nBaking ingredients (flour\, sugar\, Bisquick\, oil\, etc.)\n\n\n\nHousehold items (hand soap\, Kleenex\, laundry soap\, etc.)\n\n\n\nPersonal care items (deodorant\, shampoo\, toothpaste\, etc.)\n\n\n\nPlates\, silverware\, can openers\, serving spoons\, etc\n\n\n\n\nVenues\n\n\n\n\n\n\n\n\n\n\n\n\n\nContact
URL:https://www.winona.edu/about/event/wsu-colleges-food-drive-competition/
LOCATION:College of Business Dean’s Suite (Somsen 309)\, 175 West Mark Street\, Winona\, MN\, 55987\, United States
CATEGORIES:Academics,College of Business,College of Education,College of Liberal Arts,College of Nursing & Health Sciences,College of Science & Engineering,Colleges,Student Life,Support & Services
ATTACH;FMTTYPE=image/jpeg:https://www.winona.edu/about/wp-content/uploads/sites/3/2024/03/WSU_Student-Seeds-2019-02-14_151702.jpg
ORGANIZER;CN="Liz Schwanke":MAILTO:collegeofbusiness@winona.edu
END:VEVENT
BEGIN:VEVENT
DTSTART;TZID=America/Chicago:20250303T000000
DTEND;TZID=America/Chicago:20250331T235959
DTSTAMP:20260424T213142
CREATED:20250304T160715Z
LAST-MODIFIED:20250304T160717Z
UID:10000740-1740960000-1743465599@www.winona.edu
SUMMARY:"Create Your More" Case Competition
DESCRIPTION:From March 3-31\, the College of Business will be hosting the “Create Your More” Case Competition\, an undergraduate competition for WSU students to demonstrate their creative thinking\, teamwork\, and public speaking skills. \n\n\n\nThanks to donations from the WSU Foundation and the COB Engaged Learning Endowment\, 3 cash prizes totaling $2\,500 will be awarded to the winning groups.  \n\n\n\n\n\n    Register Your Team\n\n\n\n\n\n    Learn More about This Event\n\n\n\n\n\n\n    \n\n                    \n            \n\nTimeline\n\n\n\n\nMarch 3: Registration opens\n\n\n\nMarch 15: Cases become available to teams\n\n\n\nMarch 23: Case reports due\n\n\n\nMarch 26: Second-round teams are announced\n\n\n\nMarch 31 (1pm): Presentations and final judging\n\n\n\n        \n    \n\n\n    \n\n                    \n            \n\nAwards\n\n\n\n                            \n                1st Place\n                $1\,000 \n\n            \n        \n                            \n                2nd Place\n                $750 \n\n            \n        \n                            \n                3rd Place\n                $500 \n\n            \n        \n\n\n        \n    \n\n\n\nVenue\n\n\n\n\n\nContact
URL:https://www.winona.edu/about/event/create-your-more-case-competition-2025/
LOCATION:Winona Campus\, 175 West Mark Street\, Winona\, MN\, 55987\, United States
CATEGORIES:Academics,College of Business,Colleges
ATTACH;FMTTYPE=image/jpeg:https://www.winona.edu/about/wp-content/uploads/sites/3/2022/11/WSU_Female-Student-Laptop-Code-2022-05-18_134220.jpg
ORGANIZER;CN="Larry Schrenk":MAILTO:lschrenk@winona.edu
END:VEVENT
BEGIN:VEVENT
DTSTART;TZID=America/Chicago:20250315T000000
DTEND;TZID=America/Chicago:20250401T235959
DTSTAMP:20260424T213142
CREATED:20250114T194406Z
LAST-MODIFIED:20250114T194739Z
UID:10000486-1741996800-1743551999@www.winona.edu
SUMMARY:General Room Selection Opens for 2025-26 Housing Application
DESCRIPTION:March 15-April 1 is when all current WSU students can apply for housing. This is part of the general housing application for the 2025-26 academic year. \n\n\n\n    Learn More about Housing for Current Students\n\n\n\n\n\nVenue\n\n\n\n\n\nContact
URL:https://www.winona.edu/about/event/general-room-selection-opens-for-2025-26-housing-application/
LOCATION:Winona Campus\, 175 West Mark Street\, Winona\, MN\, 55987\, United States
CATEGORIES:Housing & Dining,Student Life
ATTACH;FMTTYPE=image/jpeg:https://www.winona.edu/about/wp-content/uploads/sites/3/2025/01/Pro-students-residence-hall-community-feature-2021-10-12.jpg
ORGANIZER;CN="Candice Guenther":MAILTO:cguenther@winona.edu
END:VEVENT
BEGIN:VEVENT
DTSTART;TZID=America/Chicago:20250329T083000
DTEND;TZID=America/Chicago:20250329T123000
DTSTAMP:20260424T213142
CREATED:20250106T154636Z
LAST-MODIFIED:20250131T184859Z
UID:10000335-1743237000-1743251400@www.winona.edu
SUMMARY:Fode Bangoura Music Workshop
DESCRIPTION:On March 29\, attend a music workshop led by Fode Bangoura\, a MacPhail teaching artist. \n\n\n\n\n\nVenue\n\n\n\n\n\nContact
URL:https://www.winona.edu/about/event/fode-bangoura-music-workshop/
LOCATION:PAC 159\, 450 Johnson St\, Winona\, MN\, 55987\, United States
CATEGORIES:Academics,Arts & Entertainment,College of Liberal Arts,Colleges,Music Department,Student Life
ATTACH;FMTTYPE=image/jpeg:https://www.winona.edu/about/wp-content/uploads/sites/3/2023/10/WSU_Students-Band-2019-03-01_160000.jpg
ORGANIZER;CN="Marybeth Lenhardt":MAILTO:mlenhardt@winona.edu
END:VEVENT
BEGIN:VEVENT
DTSTART;TZID=America/Chicago:20250329T120000
DTEND;TZID=America/Chicago:20250329T140000
DTSTAMP:20260424T213142
CREATED:20250328T131409Z
LAST-MODIFIED:20250328T131410Z
UID:10000767-1743249600-1743256800@www.winona.edu
SUMMARY:WSU Baseball vs. Bemidji State University
DESCRIPTION:On March 29\, come cheer on the men’s Baseball team as they play against Bemidji State University. \n\n\n\n\n\nVenue\n\n\n\n\n\nContact
URL:https://www.winona.edu/about/event/wsu-baseball-vs-bemidji-state-university-march-29-afternoon/
LOCATION:Bemidji State University\, 1500 Birchmont Dr NE\, Bemidji\, MN\, 56601\, United States
CATEGORIES:Student Life,Warrior Athletics
ATTACH;FMTTYPE=image/jpeg:https://www.winona.edu/about/wp-content/uploads/sites/3/2025/03/Pro-mens-baseball-athlete-pitcher-feature-2023-03-26.jpg
ORGANIZER;CN="Melanie Brunsdon":MAILTO:melanie.brunsdon@winona.edu
END:VEVENT
BEGIN:VEVENT
DTSTART;TZID=America/Chicago:20250329T130000
DTEND;TZID=America/Chicago:20250329T150000
DTSTAMP:20260424T213142
CREATED:20250328T131349Z
LAST-MODIFIED:20250328T131350Z
UID:10000678-1743253200-1743260400@www.winona.edu
SUMMARY:WSU Softball vs. Minnesota State University Moorhead
DESCRIPTION:On March 29\, come cheer on the women’s Softball team as they play against Minnesota State University Moorhead. \n\n\n\n\n\nVenue\n\n\n\n\n\nContact
URL:https://www.winona.edu/about/event/wsu-softball-vs-minnesota-state-university-moorhead-march-29-afternoon/
LOCATION:Maynard R. Johnson Field\, E Sarnia St\, Winona\, MN\, 55987\, United States
CATEGORIES:Student Life,Warrior Athletics
ATTACH;FMTTYPE=image/jpeg:https://www.winona.edu/about/wp-content/uploads/sites/3/2025/02/Pro-womens-softball-athlete-bat-feature-2022-05-07.jpg
ORGANIZER;CN="Melanie Brunsdon":MAILTO:melanie.brunsdon@winona.edu
END:VEVENT
BEGIN:VEVENT
DTSTART;TZID=America/Chicago:20250329T150000
DTEND;TZID=America/Chicago:20250329T170000
DTSTAMP:20260424T213142
CREATED:20250328T131306Z
LAST-MODIFIED:20250328T131307Z
UID:10000768-1743260400-1743267600@www.winona.edu
SUMMARY:WSU Baseball vs. Bemidji State University
DESCRIPTION:On March 29\, come cheer on the men’s Baseball team as they play against Bemidji State University. \n\n\n\n\n\nVenue\n\n\n\n\n\nContact
URL:https://www.winona.edu/about/event/wsu-baseball-vs-bemidji-state-university-march-29/
LOCATION:Bemidji State University\, 1500 Birchmont Dr NE\, Bemidji\, MN\, 56601\, United States
CATEGORIES:Student Life,Warrior Athletics
ATTACH;FMTTYPE=image/jpeg:https://www.winona.edu/about/wp-content/uploads/sites/3/2025/03/Pro-mens-baseball-athlete-pitcher-feature-2023-03-26.jpg
ORGANIZER;CN="Melanie Brunsdon":MAILTO:melanie.brunsdon@winona.edu
END:VEVENT
BEGIN:VEVENT
DTSTART;TZID=America/Chicago:20250329T150000
DTEND;TZID=America/Chicago:20250329T170000
DTSTAMP:20260424T213142
CREATED:20250328T131328Z
LAST-MODIFIED:20250328T131329Z
UID:10000679-1743260400-1743267600@www.winona.edu
SUMMARY:WSU Softball vs. Minnesota State University Moorhead
DESCRIPTION:On March 29\, come cheer on the women’s Softball team as they play against Minnesota State University Moorhead. \n\n\n\n\n\nVenue\n\n\n\n\n\nContact
URL:https://www.winona.edu/about/event/wsu-softball-vs-minnesota-state-university-moorhead-march-29-evening/
LOCATION:Maynard R. Johnson Field\, E Sarnia St\, Winona\, MN\, 55987\, United States
CATEGORIES:Student Life,Warrior Athletics
ATTACH;FMTTYPE=image/jpeg:https://www.winona.edu/about/wp-content/uploads/sites/3/2025/02/Pro-womens-softball-athlete-bat-feature-2022-05-07.jpg
ORGANIZER;CN="Melanie Brunsdon":MAILTO:melanie.brunsdon@winona.edu
END:VEVENT
BEGIN:VEVENT
DTSTART;TZID=America/Chicago:20250329T160000
DTEND;TZID=America/Chicago:20250329T180000
DTSTAMP:20260424T213142
CREATED:20250328T131247Z
LAST-MODIFIED:20250328T131248Z
UID:10000629-1743264000-1743271200@www.winona.edu
SUMMARY:WSU Women's Tennis vs. University of Sioux Falls
DESCRIPTION:On March 29\, come cheer on the women’s Tennis team as they compete against the University of Sioux Falls. \n\n\n\n\n\nVenue\n\n\n\n\n\nContact
URL:https://www.winona.edu/about/event/wsu-womens-tennis-vs-university-of-sioux-falls-match-march-29/
LOCATION:University of Sioux Falls\, 1101 W 22nd St\, Sioux Falls\, SD\, 57105\, United States
CATEGORIES:Student Life,Warrior Athletics
ATTACH;FMTTYPE=image/jpeg:https://www.winona.edu/about/wp-content/uploads/sites/3/2025/02/Pro-womens-tennis-athlete-racket-court-feature-2022-04-04.jpg
ORGANIZER;CN="Melanie Brunsdon":MAILTO:melanie.brunsdon@winona.edu
END:VEVENT
END:VCALENDAR