BEGIN:VCALENDAR
VERSION:2.0
PRODID:-//About - ECPv6.15.16//NONSGML v1.0//EN
CALSCALE:GREGORIAN
METHOD:PUBLISH
X-ORIGINAL-URL:https://www.winona.edu/about
X-WR-CALDESC:Events for About
REFRESH-INTERVAL;VALUE=DURATION:PT1H
X-Robots-Tag:noindex
X-PUBLISHED-TTL:PT1H
BEGIN:VTIMEZONE
TZID:America/Chicago
BEGIN:DAYLIGHT
TZOFFSETFROM:-0600
TZOFFSETTO:-0500
TZNAME:CDT
DTSTART:20240310T080000
END:DAYLIGHT
BEGIN:STANDARD
TZOFFSETFROM:-0500
TZOFFSETTO:-0600
TZNAME:CST
DTSTART:20241103T070000
END:STANDARD
BEGIN:DAYLIGHT
TZOFFSETFROM:-0600
TZOFFSETTO:-0500
TZNAME:CDT
DTSTART:20250309T080000
END:DAYLIGHT
BEGIN:STANDARD
TZOFFSETFROM:-0500
TZOFFSETTO:-0600
TZNAME:CST
DTSTART:20251102T070000
END:STANDARD
BEGIN:DAYLIGHT
TZOFFSETFROM:-0600
TZOFFSETTO:-0500
TZNAME:CDT
DTSTART:20260308T080000
END:DAYLIGHT
BEGIN:STANDARD
TZOFFSETFROM:-0500
TZOFFSETTO:-0600
TZNAME:CST
DTSTART:20261101T070000
END:STANDARD
END:VTIMEZONE
BEGIN:VEVENT
DTSTART;TZID=America/Chicago:20250401T000000
DTEND;TZID=America/Chicago:20250430T235959
DTSTAMP:20260424T194625
CREATED:20250218T220218Z
LAST-MODIFIED:20250905T144718Z
UID:10000577-1743465600-1746057599@www.winona.edu
SUMMARY:Greater Minnesota Two-Spirit & LGBTQIA+ History Map Exhibit
DESCRIPTION:From April 1-30\, learn about the history of Two-Spirit and LGBTQIA+ individuals in Minnesota with a map exhibit developed by the Minnesota Historical Society. \n\n\n\nThis exhibition is free and open to the public. \n\n\n\nThis monthlong event is sponsored by WSU Grants & Sponsored Projects; Women’s\, Gender\, & Sexuality Studies program; and the Krueger Library. \n\n\n\n\n\nVenue\n\n\n\n\n\nContact
URL:https://www.winona.edu/about/event/greater-minnesota-two-spirit-lgbtqia-history-map-exhibit/
LOCATION:Library Floor 1\, 525 Johnson St\, Winona\, MN\, 55987\, United States
CATEGORIES:Academics,Arts & Entertainment,College of Liberal Arts,Colleges,Equity & Inclusive Excellence,Events & Traditions,Library,Student Life,Support & Services,Women's, Gender & Sexuality Studies Department
ATTACH;FMTTYPE=image/jpeg:https://www.winona.edu/about/wp-content/uploads/sites/3/2024/11/WSU-male-student-wall-art-feature-2019-11-29.jpg
ORGANIZER;CN="Mary Jo Klinker":MAILTO:mklinker@winona.edu
END:VEVENT
BEGIN:VEVENT
DTSTART;TZID=America/Chicago:20250402T120000
DTEND;TZID=America/Chicago:20250402T130000
DTSTAMP:20260424T194625
CREATED:20250122T205143Z
LAST-MODIFIED:20250122T205144Z
UID:10000500-1743595200-1743598800@www.winona.edu
SUMMARY:Altra Federal Credit Union Lunch & Learn: Human Resources & Talent Development
DESCRIPTION:The College of Business has partnered with Altra Federal Credit Union for a monthly series of Lunch & Learn events throughout the Spring 2025 semester. \n\n\n\nOn April 2\, join us to learn about human resources and talent development concepts and careers at Altra Federal Credit Union while enjoying a lunch! \n\n\n\nAlthough registration isn’t required to attend\, it’s greatly encouraged and appreciated\, as it helps us estimate how much food is needed for lunch. \n\n\n\n    RSVP to This Event\n\n\n\n\n\nVenue\n\n\n\n\n\nContact
URL:https://www.winona.edu/about/event/altra-federal-credit-union-lunch-learn-human-resources-talent-development/
LOCATION:College of Business Engagement Center\, 175 West Mark Street\, Winona\, MN\, 55987\, United States
CATEGORIES:Academics,College of Business,Colleges
ATTACH;FMTTYPE=image/jpeg:https://www.winona.edu/about/wp-content/uploads/sites/3/2024/12/WSU-business-students-professional-feature-2018-11-15.jpg
ORGANIZER;CN="Liz Schwanke":MAILTO:collegeofbusiness@winona.edu
END:VEVENT
BEGIN:VEVENT
DTSTART;TZID=America/Chicago:20250402T130000
DTEND;TZID=America/Chicago:20250402T150000
DTSTAMP:20260424T194625
CREATED:20250109T144507Z
LAST-MODIFIED:20250109T144508Z
UID:10000384-1743598800-1743606000@www.winona.edu
SUMMARY:S'more Fun
DESCRIPTION:On April 2\, stop by the Fire Feature Patio for free marshmallow goodness (weather-permitting). \n\n\n\n\n\nVenue\n\n\n\n\n\nContact
URL:https://www.winona.edu/about/event/smore-fun-april-02/
LOCATION:Fire Feature Patio\, 250 W 10th St\, Winona\, MN\, 55987\, United States
CATEGORIES:Student Life
ATTACH;FMTTYPE=image/jpeg:https://www.winona.edu/about/wp-content/uploads/sites/3/2025/01/WSU-female-students-roasting-smores-fire-feature-2023-08-18.jpg
ORGANIZER;CN="George Micalone":MAILTO:george.micalone@winona.edu
END:VEVENT
BEGIN:VEVENT
DTSTART;TZID=America/Chicago:20250402T180000
DTEND;TZID=America/Chicago:20250402T190000
DTSTAMP:20260424T194625
CREATED:20250317T200621Z
LAST-MODIFIED:20250317T200624Z
UID:10000799-1743616800-1743620400@www.winona.edu
SUMMARY:5th Channel Printing Design Workshop
DESCRIPTION:On April 2\, the WSU Design Program invites you to the Creative Workshop Series. Come explore the different colors and ways that 5th channel printing can be used by seeing our Ricoh Digital Press in action.  \n\n\n\nThere will be a short presentation followed by a demonstration of 5th channel printing. You’ll have an opportunity to print your own poster to test out the 5th channel yourself. \n\n\n\n\n\nVenue\n\n\n\n\n\nContact
URL:https://www.winona.edu/about/event/5th-channel-printing-design-workshop/
LOCATION:Design Production Lab (Watkins 114)\, 225 W King St\, Winona\, MN\, 55987\, United States
CATEGORIES:Academics,Art & Design Department,College of Liberal Arts,Colleges
ATTACH;FMTTYPE=image/jpeg:https://www.winona.edu/about/wp-content/uploads/sites/3/2022/12/WSU-3D-Printer-2018-04-18_092501.jpg
ORGANIZER;CN="Danilo Bojic":MAILTO:dbojic@winona.edu
END:VEVENT
BEGIN:VEVENT
DTSTART;TZID=America/Chicago:20250402T190000
DTEND;TZID=America/Chicago:20250402T200000
DTSTAMP:20260424T194625
CREATED:20250217T185418Z
LAST-MODIFIED:20250218T143713Z
UID:10000571-1743620400-1743624000@www.winona.edu
SUMMARY:An Evening with Liz Gillies
DESCRIPTION:On April 2\, join us at 7pm for a moderated Q&A with guest speaker Liz Gillies from Nickelodeon’s “Victorious” and CW’s “Dynasty.” \n\n\n\nTickets are $8 for WSU students and $25 for the public.  \n\n\n\n    Get Tickets to This Event\n\n\n\n\n\n\n\nVenue\n\n\n\n\n\nContact
URL:https://www.winona.edu/about/event/an-evening-with-liz-gillies/
LOCATION:Great River Ballroom\, 250 W 10th St\, Winona\, MN\, 55987\, United States
CATEGORIES:Arts & Entertainment,Clubs & Activities,Clubs & Organizations,Speakers & Educational Series,Student Life,Warrior Entertainment Network
ATTACH;FMTTYPE=image/jpeg:https://www.winona.edu/about/wp-content/uploads/sites/3/2025/02/Liz-Gillies-feature-horizontal.jpg
ORGANIZER;CN="Jordan Schliep":MAILTO:jordan.schliep@go.winona.edu
END:VEVENT
END:VCALENDAR