BEGIN:VCALENDAR
VERSION:2.0
PRODID:-//About - ECPv6.15.16//NONSGML v1.0//EN
CALSCALE:GREGORIAN
METHOD:PUBLISH
X-ORIGINAL-URL:https://www.winona.edu/about
X-WR-CALDESC:Events for About
REFRESH-INTERVAL;VALUE=DURATION:PT1H
X-Robots-Tag:noindex
X-PUBLISHED-TTL:PT1H
BEGIN:VTIMEZONE
TZID:America/Chicago
BEGIN:DAYLIGHT
TZOFFSETFROM:-0600
TZOFFSETTO:-0500
TZNAME:CDT
DTSTART:20240310T080000
END:DAYLIGHT
BEGIN:STANDARD
TZOFFSETFROM:-0500
TZOFFSETTO:-0600
TZNAME:CST
DTSTART:20241103T070000
END:STANDARD
BEGIN:DAYLIGHT
TZOFFSETFROM:-0600
TZOFFSETTO:-0500
TZNAME:CDT
DTSTART:20250309T080000
END:DAYLIGHT
BEGIN:STANDARD
TZOFFSETFROM:-0500
TZOFFSETTO:-0600
TZNAME:CST
DTSTART:20251102T070000
END:STANDARD
BEGIN:DAYLIGHT
TZOFFSETFROM:-0600
TZOFFSETTO:-0500
TZNAME:CDT
DTSTART:20260308T080000
END:DAYLIGHT
BEGIN:STANDARD
TZOFFSETFROM:-0500
TZOFFSETTO:-0600
TZNAME:CST
DTSTART:20261101T070000
END:STANDARD
END:VTIMEZONE
BEGIN:VEVENT
DTSTART;TZID=America/Chicago:20250401T000000
DTEND;TZID=America/Chicago:20250430T235959
DTSTAMP:20260424T193239
CREATED:20250218T220218Z
LAST-MODIFIED:20250905T144718Z
UID:10000577-1743465600-1746057599@www.winona.edu
SUMMARY:Greater Minnesota Two-Spirit & LGBTQIA+ History Map Exhibit
DESCRIPTION:From April 1-30\, learn about the history of Two-Spirit and LGBTQIA+ individuals in Minnesota with a map exhibit developed by the Minnesota Historical Society. \n\n\n\nThis exhibition is free and open to the public. \n\n\n\nThis monthlong event is sponsored by WSU Grants & Sponsored Projects; Women’s\, Gender\, & Sexuality Studies program; and the Krueger Library. \n\n\n\n\n\nVenue\n\n\n\n\n\nContact
URL:https://www.winona.edu/about/event/greater-minnesota-two-spirit-lgbtqia-history-map-exhibit/
LOCATION:Library Floor 1\, 525 Johnson St\, Winona\, MN\, 55987\, United States
CATEGORIES:Academics,Arts & Entertainment,College of Liberal Arts,Colleges,Equity & Inclusive Excellence,Events & Traditions,Library,Student Life,Support & Services,Women's, Gender & Sexuality Studies Department
ATTACH;FMTTYPE=image/jpeg:https://www.winona.edu/about/wp-content/uploads/sites/3/2024/11/WSU-male-student-wall-art-feature-2019-11-29.jpg
ORGANIZER;CN="Mary Jo Klinker":MAILTO:mklinker@winona.edu
END:VEVENT
BEGIN:VEVENT
DTSTART;TZID=America/Chicago:20250411T000000
DTEND;TZID=America/Chicago:20250425T235959
DTSTAMP:20260424T193239
CREATED:20250413T150949Z
LAST-MODIFIED:20250413T150950Z
UID:10000833-1744329600-1745625599@www.winona.edu
SUMMARY:Adopt-a-Garden Volunteer Registration
DESCRIPTION:From April 11-25\, WSU students\, faculty\, and staff can sign up to join the new Adopt-a-Garden volunteer program.  \n\n\n\nThis program is perfect for anyone who’s interested in taking an active role in the upkeep and general maintenance of our campus gardens\, including picking up litter and planting flowers. \n\n\n\nRegistration ends Friday\, April 25. \n\n\n\n    Become an Adapt-a-Garden Volunteer\n\n\n\n\n\nVenue\n\n\n\n\n\nContact
URL:https://www.winona.edu/about/event/adopt-a-garden-volunteer-registration/
LOCATION:Winona Campus\, 175 West Mark Street\, Winona\, MN\, 55987\, United States
CATEGORIES:About,Leadership & Administration
ATTACH;FMTTYPE=image/jpeg:https://www.winona.edu/about/wp-content/uploads/sites/3/2022/12/WSU-Campus-Trees-Spring-2021-04-27_093255.jpg
ORGANIZER;CN="Nathan Anderson":MAILTO:nathan.anderson@winona.edu
END:VEVENT
BEGIN:VEVENT
DTSTART;TZID=America/Chicago:20250416T100000
DTEND;TZID=America/Chicago:20250416T150000
DTSTAMP:20260424T193239
CREATED:20250410T142309Z
LAST-MODIFIED:20250410T142310Z
UID:10000823-1744797600-1744815600@www.winona.edu
SUMMARY:Painting & Podcasts
DESCRIPTION:Join us in the WELL on April 16 for Painting & Podcasts\, a relaxing session about 4/20 smarts and cannabis education.  \n\n\n\nPainting supplies will be provided. \n\n\n\n\n\nVenue\n\n\n\n\n\nContact
URL:https://www.winona.edu/about/event/painting-podcasts/
LOCATION:The WELL (IWC 138)\, 175 W Mark St\, Winona\, MN\, 55987\, United States
CATEGORIES:Health & Wellness,Student Life
ATTACH;FMTTYPE=image/jpeg:https://www.winona.edu/about/wp-content/uploads/sites/3/2024/12/WSU-students-arts-crafts-feature-2024-04-18.jpg
ORGANIZER;CN="Alexis Green":MAILTO:alexis.green@winona.edu
END:VEVENT
BEGIN:VEVENT
DTSTART;TZID=America/Chicago:20250416T130000
DTEND;TZID=America/Chicago:20250416T150000
DTSTAMP:20260424T193239
CREATED:20250109T144712Z
LAST-MODIFIED:20250109T144713Z
UID:10000386-1744808400-1744815600@www.winona.edu
SUMMARY:S'more Fun
DESCRIPTION:On April 16\, stop by the Fire Feature Patio for free marshmallow goodness (weather-permitting). \n\n\n\n\n\nVenue\n\n\n\n\n\nContact
URL:https://www.winona.edu/about/event/smore-fun-april-16/
LOCATION:Fire Feature Patio\, 250 W 10th St\, Winona\, MN\, 55987\, United States
CATEGORIES:Student Life
ATTACH;FMTTYPE=image/jpeg:https://www.winona.edu/about/wp-content/uploads/sites/3/2025/01/WSU-female-students-roasting-smores-fire-feature-2023-08-18.jpg
ORGANIZER;CN="George Micalone":MAILTO:george.micalone@winona.edu
END:VEVENT
BEGIN:VEVENT
DTSTART;TZID=America/Chicago:20250416T180000
DTEND;TZID=America/Chicago:20250416T190000
DTSTAMP:20260424T193239
CREATED:20250327T182202Z
LAST-MODIFIED:20250327T182203Z
UID:10000812-1744826400-1744830000@www.winona.edu
SUMMARY:Sexual Assault Awareness Month Talk with Danielle Leukam
DESCRIPTION:In honor of Sexual Assault Awareness Month\, we will be hosting a presentation on April 16 led by Danielle Leukam about her personal experience surviving an attack in her home. \n\n\n\nThis event will be presented by the the WSU Sexual Violence Advisory Committee and the Winona County Sexual Assault Interagency Council. \n\n\n\n\n\nAbout the Speaker\n\n\n\nDanielle Leukam is the author of two memoirs: “Four Pounds of Pressure: A Memoir of Rape\, Survival\, and Taking Back My Power” and “Another Four Pounds of Pressure: Case Files Statements & a Survivor’s Redemption.”  \n\n\n\nDanielle is from the Rochester\, MN area and works full-time at her local clinic. She is passionate about advocating against sexual violence through public speaking and writing. Danielle has taken back her power and strives to empower others to do the same. \n\n\n\nVenue\n\n\n\n\n\nContact
URL:https://www.winona.edu/about/event/sexual-assault-awareness-month-talk-with-danielle-leukam/
LOCATION:Great River Ballroom\, 250 W 10th St\, Winona\, MN\, 55987\, United States
CATEGORIES:About,Health & Wellness,Leadership & Administration,Student Life,Support & Services
ATTACH;FMTTYPE=image/jpeg:https://www.winona.edu/about/wp-content/uploads/sites/3/2025/01/Pro-students-walking-neighborhood-houses-feature-2022-09-26.jpg
ORGANIZER;CN="Lori Mikl":MAILTO:lmikl@winona.edu
END:VEVENT
BEGIN:VEVENT
DTSTART;TZID=America/Chicago:20250416T190000
DTEND;TZID=America/Chicago:20250416T210000
DTSTAMP:20260424T193239
CREATED:20250204T145013Z
LAST-MODIFIED:20250204T145014Z
UID:10000548-1744830000-1744837200@www.winona.edu
SUMMARY:Open Mic Night
DESCRIPTION:Do you have a hidden talent such as singing\, dancing\, or spoken poetry? \n\n\n\nOn April 16\, join us for Open Mic Night at the Zane’s Stage for an opportunity to get on stage! \n\n\n\n\n\nVenue\n\n\n\n\n\nContact
URL:https://www.winona.edu/about/event/open-mic-night-april-16/
LOCATION:Zane’s Stage\, 250 W 10th St\, Winona\, MN\, 55987\, United States
CATEGORIES:Clubs & Activities,Clubs & Organizations,Student Life,Warrior Entertainment Network
ATTACH;FMTTYPE=image/jpeg:https://www.winona.edu/about/wp-content/uploads/sites/3/2023/09/WSU_Student-Stage-2018-06-29_132642.jpg
ORGANIZER;CN="Jordan Schliep":MAILTO:jordan.schliep@go.winona.edu
END:VEVENT
BEGIN:VEVENT
DTSTART;TZID=America/Chicago:20250416T193000
DTEND;TZID=America/Chicago:20250416T213000
DTSTAMP:20260424T193239
CREATED:20250404T185455Z
LAST-MODIFIED:20250404T185456Z
UID:10000213-1744831800-1744839000@www.winona.edu
SUMMARY:"Fun Home" Performance
DESCRIPTION:On April 16\, enjoy a performance of “Fun Home\,” directed by WSU’s Jim Williams. Books and lyrics are by Lisa Kron and music is by Jeanine Tesori. \n\n\n\n    Get Tickets to This Event\n\n\n\n\n\nVenue\n\n\n\n\n\nContact
URL:https://www.winona.edu/about/event/fun-home-performance-april-16/
LOCATION:Vivian Fusillo Main Stage Theatre\, 450 Johnson St\, Winona\, MN\, 55987\, United States
CATEGORIES:Academics,Arts & Entertainment,College of Liberal Arts,Colleges,Student Life,Theatre & Dance Department
ATTACH;FMTTYPE=image/jpeg:https://www.winona.edu/about/wp-content/uploads/sites/3/2023/10/WSU_Dancers-Stage-2023-02-09_203008.jpg
ORGANIZER;CN="Alisha Syrmopoulos":MAILTO:asyrmopoulos@winona.edu
END:VEVENT
END:VCALENDAR