BEGIN:VCALENDAR
VERSION:2.0
PRODID:-//About - ECPv6.15.16//NONSGML v1.0//EN
CALSCALE:GREGORIAN
METHOD:PUBLISH
X-ORIGINAL-URL:https://www.winona.edu/about
X-WR-CALDESC:Events for About
REFRESH-INTERVAL;VALUE=DURATION:PT1H
X-Robots-Tag:noindex
X-PUBLISHED-TTL:PT1H
BEGIN:VTIMEZONE
TZID:America/Chicago
BEGIN:DAYLIGHT
TZOFFSETFROM:-0600
TZOFFSETTO:-0500
TZNAME:CDT
DTSTART:20240310T080000
END:DAYLIGHT
BEGIN:STANDARD
TZOFFSETFROM:-0500
TZOFFSETTO:-0600
TZNAME:CST
DTSTART:20241103T070000
END:STANDARD
BEGIN:DAYLIGHT
TZOFFSETFROM:-0600
TZOFFSETTO:-0500
TZNAME:CDT
DTSTART:20250309T080000
END:DAYLIGHT
BEGIN:STANDARD
TZOFFSETFROM:-0500
TZOFFSETTO:-0600
TZNAME:CST
DTSTART:20251102T070000
END:STANDARD
BEGIN:DAYLIGHT
TZOFFSETFROM:-0600
TZOFFSETTO:-0500
TZNAME:CDT
DTSTART:20260308T080000
END:DAYLIGHT
BEGIN:STANDARD
TZOFFSETFROM:-0500
TZOFFSETTO:-0600
TZNAME:CST
DTSTART:20261101T070000
END:STANDARD
END:VTIMEZONE
BEGIN:VEVENT
DTSTART;TZID=America/Chicago:20250401T000000
DTEND;TZID=America/Chicago:20250430T235959
DTSTAMP:20260424T193247
CREATED:20250218T220218Z
LAST-MODIFIED:20250905T144718Z
UID:10000577-1743465600-1746057599@www.winona.edu
SUMMARY:Greater Minnesota Two-Spirit & LGBTQIA+ History Map Exhibit
DESCRIPTION:From April 1-30\, learn about the history of Two-Spirit and LGBTQIA+ individuals in Minnesota with a map exhibit developed by the Minnesota Historical Society. \n\n\n\nThis exhibition is free and open to the public. \n\n\n\nThis monthlong event is sponsored by WSU Grants & Sponsored Projects; Women’s\, Gender\, & Sexuality Studies program; and the Krueger Library. \n\n\n\n\n\nVenue\n\n\n\n\n\nContact
URL:https://www.winona.edu/about/event/greater-minnesota-two-spirit-lgbtqia-history-map-exhibit/
LOCATION:Library Floor 1\, 525 Johnson St\, Winona\, MN\, 55987\, United States
CATEGORIES:Academics,Arts & Entertainment,College of Liberal Arts,Colleges,Equity & Inclusive Excellence,Events & Traditions,Library,Student Life,Support & Services,Women's, Gender & Sexuality Studies Department
ATTACH;FMTTYPE=image/jpeg:https://www.winona.edu/about/wp-content/uploads/sites/3/2024/11/WSU-male-student-wall-art-feature-2019-11-29.jpg
ORGANIZER;CN="Mary Jo Klinker":MAILTO:mklinker@winona.edu
END:VEVENT
BEGIN:VEVENT
DTSTART;TZID=America/Chicago:20250411T000000
DTEND;TZID=America/Chicago:20250425T235959
DTSTAMP:20260424T193247
CREATED:20250413T150949Z
LAST-MODIFIED:20250413T150950Z
UID:10000833-1744329600-1745625599@www.winona.edu
SUMMARY:Adopt-a-Garden Volunteer Registration
DESCRIPTION:From April 11-25\, WSU students\, faculty\, and staff can sign up to join the new Adopt-a-Garden volunteer program.  \n\n\n\nThis program is perfect for anyone who’s interested in taking an active role in the upkeep and general maintenance of our campus gardens\, including picking up litter and planting flowers. \n\n\n\nRegistration ends Friday\, April 25. \n\n\n\n    Become an Adapt-a-Garden Volunteer\n\n\n\n\n\nVenue\n\n\n\n\n\nContact
URL:https://www.winona.edu/about/event/adopt-a-garden-volunteer-registration/
LOCATION:Winona Campus\, 175 West Mark Street\, Winona\, MN\, 55987\, United States
CATEGORIES:About,Leadership & Administration
ATTACH;FMTTYPE=image/jpeg:https://www.winona.edu/about/wp-content/uploads/sites/3/2022/12/WSU-Campus-Trees-Spring-2021-04-27_093255.jpg
ORGANIZER;CN="Nathan Anderson":MAILTO:nathan.anderson@winona.edu
END:VEVENT
BEGIN:VEVENT
DTSTART;TZID=America/Chicago:20250421T000000
DTEND;TZID=America/Chicago:20250509T235959
DTSTAMP:20260424T193247
CREATED:20250324T190556Z
LAST-MODIFIED:20250324T190557Z
UID:10000805-1745193600-1746835199@www.winona.edu
SUMMARY:"The Human Condition" Art Exhibition
DESCRIPTION:From April 21-May 9\, the Laird Norton Center will host the exhibition “The Human Condition\,” by Art & Design seniors. \n\n\n\n“The Human Condition” explores transformation\, sensory experiences\, and the complexities of human existence.  \n\n\n\nThrough diverse design perspectives\, each project reflects the personal and collective moments that shape us. From the tactile to the intangible\, the exhibition invites viewers to engage with themes of change\, perception\, and emotion.  \n\n\n\nThis culminating showcase highlights the work of emerging designers as they navigate the threshold between past\, present\, and future. Join us in celebrating these explorations of what it means to be human. \n\n\n\nThis exhibition is free and open to the public Monday-Friday. \n\n\n\n\n\nAbout the Collections & Artists\n\n\n\nStudents are presenting in 3 thematic groups. \n\n\n\nGroup 1: Proprioception\n\n\n\nThis collection will be available in Gallery 3. \n\n\n\n\nJadyn Bennett\, I-Design major with Integrated Studies concentration\n\n\n\nStephanie Dasbach\, I-Design major\n\n\n\nLuke Krzyszkowski\, I-Design major with Creative Practices in Design concentration\n\n\n\nLaurel Rau\, I-Design major with Conceptual Illustration concentration\n\n\n\nAlexandra Trainor\, I-Design major with Sustainable Applications concentration\n\n\n\n\nGroup 2: Syzygy\n\n\n\nThis collection will be available inside the Vault. \n\n\n\n\nYousef Al-Abad\, I-Design major with Community Development concentration\n\n\n\nKyurim Oh\, I-Design major with Business & Marketing concentration\n\n\n\nKaia Peterson\, I-Design major with Business & Marketing concentration\n\n\n\n\nGroup 3: Unfold\n\n\n\nThis collection will be available in galleries 1 and 2. \n\n\n\n\nKendal Banes\, I-Design major with Business & Marketing concentration\n\n\n\nMeghan Cooper\, I-Design major with Community Development concentration\n\n\n\nMadison Ketterling\, I-Design major with Sustainable Applications concentration\n\n\n\nKaylee Olson\, I-Design major with Business & Marketing concentration\n\n\n\nSimon Pell\, I-Design major with Technology & Interactivity concentration\n\n\n\n\n \n\n\n\nVenue\n\n\n\n\n\nContact
URL:https://www.winona.edu/about/event/the-human-condition-art-exhibition-2025/
LOCATION:Laird Norton Center for Art & Design\, 125 W 5th St\, Winona\, MN\, 55987\, United States
CATEGORIES:Academics,Art & Design Department,Arts & Entertainment,College of Liberal Arts,Colleges,Student Life
ATTACH;FMTTYPE=image/jpeg:https://www.winona.edu/about/wp-content/uploads/sites/3/2024/11/WSU-male-student-wall-art-feature-2019-11-29.jpg
ORGANIZER;CN="Danilo Bojic":MAILTO:dbojic@winona.edu
END:VEVENT
BEGIN:VEVENT
DTSTART;TZID=America/Chicago:20250421T080000
DTEND;TZID=America/Chicago:20250421T093000
DTSTAMP:20260424T193247
CREATED:20250107T214455Z
LAST-MODIFIED:20250108T212807Z
UID:10000349-1745222400-1745227800@www.winona.edu
SUMMARY:Click Into Monday: Photo Session
DESCRIPTION:On April 21\, get your professional photo taken on campus for networking sites like LinkedIn and Handshake. We’ll email your free digital headshot to your WSU account within 7-10 business days. \n\n\n\nSign up on Handshake to reserve your spot and remember to bring your student ID (and a smile). \n\n\n\nDrop-ins are welcomed\, but you may need to wait for the next available timeslot. \n\n\n\n    Explore Handshake\n\n\n\n\n\nVenue\n\n\n\n\n\nContact
URL:https://www.winona.edu/about/event/click-into-monday-photo-session-april-21/
LOCATION:Photo Studio (Phelps B7)\, 175 West Mark Street\, Winona\, MN\, 55987\, United States
CATEGORIES:Career Services,Student Life,Support & Services,Warrior Success Center
ATTACH;FMTTYPE=image/jpeg:https://www.winona.edu/about/wp-content/uploads/sites/3/2025/01/WSU-male-student-camera-headshot-studio-feature-2017-04-03.jpg
ORGANIZER;CN="DeAnna Goddard":MAILTO:dgoddard@winona.edu
END:VEVENT
BEGIN:VEVENT
DTSTART;TZID=America/Chicago:20250421T110000
DTEND;TZID=America/Chicago:20250421T130000
DTSTAMP:20260424T193247
CREATED:20250413T152200Z
LAST-MODIFIED:20250413T152201Z
UID:10000834-1745233200-1745240400@www.winona.edu
SUMMARY:Environmental Health Fair
DESCRIPTION:Celebrate Earth Day by joining us on April 21 to pot a plant and learn more about how you can have a positive impact on the environment. \n\n\n\nThe Environmental Health Fair will feature local and campus resources to give you helpful tips. \n\n\n\n\n\nVenue\n\n\n\n\n\nRain Location\n\n\n\n\n\nContact
URL:https://www.winona.edu/about/event/environmental-health-fair-2025/
LOCATION:Gazebo\, 175 W Mark St\, Winona\, MN\, 55987\, United States
CATEGORIES:Clubs & Activities,Clubs & Organizations,Health & Wellness,Student Life
ATTACH;FMTTYPE=image/jpeg:https://www.winona.edu/about/wp-content/uploads/sites/3/2024/03/WSU_Students-Greenhouse-2020-03-03_152207.jpg
ORGANIZER;CN="Alexis Green":MAILTO:alexis.green@winona.edu
END:VEVENT
BEGIN:VEVENT
DTSTART;TZID=America/Chicago:20250421T120000
DTEND;TZID=America/Chicago:20250421T150000
DTSTAMP:20260424T193247
CREATED:20250421T134542Z
LAST-MODIFIED:20250421T134543Z
UID:10000847-1745236800-1745247600@www.winona.edu
SUMMARY:Nursing Program Visit
DESCRIPTION:Future Nursing students\, this campus and admissions visit on April 21 is for you. \n\n\n\nAt this event\, you will: \n\n\n\n\nGet info about WSU’s highly successful nursing program\n\n\n\nTour nursing facilities and labs\n\n\n\nLearn about WSU in a short admissions presentation\n\n\n\nTour campus buildings and residence halls\n\n\n\n\n    Register for This Event\n\n\n\n\n\nVenue\n\n\n\n\n\nContact
URL:https://www.winona.edu/about/event/nursing-program-visit-april-21/
LOCATION:Admissions Office\, 170 W 8th St\, Winona\, MN\, 55987\, United States
CATEGORIES:Academics,Admissions,College of Nursing & Health Sciences,Colleges,Undergraduate Nursing Department
ATTACH;FMTTYPE=image/jpeg:https://www.winona.edu/about/wp-content/uploads/sites/3/2024/10/Pro-Female-Nursing-Students-2015.jpg
ORGANIZER;CN="Admissions Office":MAILTO:admissions@winona.edu
END:VEVENT
BEGIN:VEVENT
DTSTART;TZID=America/Chicago:20250421T180000
DTEND;TZID=America/Chicago:20250421T190000
DTSTAMP:20260424T193247
CREATED:20250414T143415Z
LAST-MODIFIED:20250414T145045Z
UID:10000835-1745258400-1745262000@www.winona.edu
SUMMARY:Creativity\, Culture\, & Communication Faculty-Led Travel Virtual Info Session
DESCRIPTION:On April 21\, join Dr. Tanya Ryan for an information session on Zoom about the Creativity\, Culture\, & Communication faculty-led study abroad program. \n\n\n\n​Experience the world’s premier creative industries event in Cannes\, France—the Cannes Lions International Festival of Creativity—where you’ll engage with global leaders in branding\, media\, and marketing through hands-on workshops\, panels\, and networking. \n\n\n\n\n\n    Join Zoom Meeting\n\n\n\n\n\n    Learn More about This Trip\n\n\n\n\n\n\n\nContact
URL:https://www.winona.edu/about/event/creativity-culture-communication-faculty-led-travel-virtual-info-session-april-21/
LOCATION:MN
CATEGORIES:Academics,College of Liberal Arts,Colleges,Mass Communication Department,Study Abroad
ATTACH;FMTTYPE=image/jpeg:https://www.winona.edu/about/wp-content/uploads/sites/3/2023/10/WSU_Students-Event-2023-01-20_234236.jpg
ORGANIZER;CN="Tanya Ryan":MAILTO:tryan@winona.edu
END:VEVENT
END:VCALENDAR