BEGIN:VCALENDAR
VERSION:2.0
PRODID:-//About - ECPv6.15.16//NONSGML v1.0//EN
CALSCALE:GREGORIAN
METHOD:PUBLISH
X-WR-CALNAME:About
X-ORIGINAL-URL:https://www.winona.edu/about
X-WR-CALDESC:Events for About
REFRESH-INTERVAL;VALUE=DURATION:PT1H
X-Robots-Tag:noindex
X-PUBLISHED-TTL:PT1H
BEGIN:VTIMEZONE
TZID:America/Chicago
BEGIN:DAYLIGHT
TZOFFSETFROM:-0600
TZOFFSETTO:-0500
TZNAME:CDT
DTSTART:20240310T080000
END:DAYLIGHT
BEGIN:STANDARD
TZOFFSETFROM:-0500
TZOFFSETTO:-0600
TZNAME:CST
DTSTART:20241103T070000
END:STANDARD
BEGIN:DAYLIGHT
TZOFFSETFROM:-0600
TZOFFSETTO:-0500
TZNAME:CDT
DTSTART:20250309T080000
END:DAYLIGHT
BEGIN:STANDARD
TZOFFSETFROM:-0500
TZOFFSETTO:-0600
TZNAME:CST
DTSTART:20251102T070000
END:STANDARD
BEGIN:DAYLIGHT
TZOFFSETFROM:-0600
TZOFFSETTO:-0500
TZNAME:CDT
DTSTART:20260308T080000
END:DAYLIGHT
BEGIN:STANDARD
TZOFFSETFROM:-0500
TZOFFSETTO:-0600
TZNAME:CST
DTSTART:20261101T070000
END:STANDARD
END:VTIMEZONE
BEGIN:VEVENT
DTSTART;TZID=America/Chicago:20250401T000000
DTEND;TZID=America/Chicago:20250430T235959
DTSTAMP:20260424T192926
CREATED:20250218T220218Z
LAST-MODIFIED:20250905T144718Z
UID:10000577-1743465600-1746057599@www.winona.edu
SUMMARY:Greater Minnesota Two-Spirit & LGBTQIA+ History Map Exhibit
DESCRIPTION:From April 1-30\, learn about the history of Two-Spirit and LGBTQIA+ individuals in Minnesota with a map exhibit developed by the Minnesota Historical Society. \n\n\n\nThis exhibition is free and open to the public. \n\n\n\nThis monthlong event is sponsored by WSU Grants & Sponsored Projects; Women’s\, Gender\, & Sexuality Studies program; and the Krueger Library. \n\n\n\n\n\nVenue\n\n\n\n\n\nContact
URL:https://www.winona.edu/about/event/greater-minnesota-two-spirit-lgbtqia-history-map-exhibit/
LOCATION:Library Floor 1\, 525 Johnson St\, Winona\, MN\, 55987\, United States
CATEGORIES:Academics,Arts & Entertainment,College of Liberal Arts,Colleges,Equity & Inclusive Excellence,Events & Traditions,Library,Student Life,Support & Services,Women's, Gender & Sexuality Studies Department
ATTACH;FMTTYPE=image/jpeg:https://www.winona.edu/about/wp-content/uploads/sites/3/2024/11/WSU-male-student-wall-art-feature-2019-11-29.jpg
ORGANIZER;CN="Mary Jo Klinker":MAILTO:mklinker@winona.edu
END:VEVENT
BEGIN:VEVENT
DTSTART;TZID=America/Chicago:20250421T000000
DTEND;TZID=America/Chicago:20250509T235959
DTSTAMP:20260424T192926
CREATED:20250324T190556Z
LAST-MODIFIED:20250324T190557Z
UID:10000805-1745193600-1746835199@www.winona.edu
SUMMARY:"The Human Condition" Art Exhibition
DESCRIPTION:From April 21-May 9\, the Laird Norton Center will host the exhibition “The Human Condition\,” by Art & Design seniors. \n\n\n\n“The Human Condition” explores transformation\, sensory experiences\, and the complexities of human existence.  \n\n\n\nThrough diverse design perspectives\, each project reflects the personal and collective moments that shape us. From the tactile to the intangible\, the exhibition invites viewers to engage with themes of change\, perception\, and emotion.  \n\n\n\nThis culminating showcase highlights the work of emerging designers as they navigate the threshold between past\, present\, and future. Join us in celebrating these explorations of what it means to be human. \n\n\n\nThis exhibition is free and open to the public Monday-Friday. \n\n\n\n\n\nAbout the Collections & Artists\n\n\n\nStudents are presenting in 3 thematic groups. \n\n\n\nGroup 1: Proprioception\n\n\n\nThis collection will be available in Gallery 3. \n\n\n\n\nJadyn Bennett\, I-Design major with Integrated Studies concentration\n\n\n\nStephanie Dasbach\, I-Design major\n\n\n\nLuke Krzyszkowski\, I-Design major with Creative Practices in Design concentration\n\n\n\nLaurel Rau\, I-Design major with Conceptual Illustration concentration\n\n\n\nAlexandra Trainor\, I-Design major with Sustainable Applications concentration\n\n\n\n\nGroup 2: Syzygy\n\n\n\nThis collection will be available inside the Vault. \n\n\n\n\nYousef Al-Abad\, I-Design major with Community Development concentration\n\n\n\nKyurim Oh\, I-Design major with Business & Marketing concentration\n\n\n\nKaia Peterson\, I-Design major with Business & Marketing concentration\n\n\n\n\nGroup 3: Unfold\n\n\n\nThis collection will be available in galleries 1 and 2. \n\n\n\n\nKendal Banes\, I-Design major with Business & Marketing concentration\n\n\n\nMeghan Cooper\, I-Design major with Community Development concentration\n\n\n\nMadison Ketterling\, I-Design major with Sustainable Applications concentration\n\n\n\nKaylee Olson\, I-Design major with Business & Marketing concentration\n\n\n\nSimon Pell\, I-Design major with Technology & Interactivity concentration\n\n\n\n\n \n\n\n\nVenue\n\n\n\n\n\nContact
URL:https://www.winona.edu/about/event/the-human-condition-art-exhibition-2025/
LOCATION:Laird Norton Center for Art & Design\, 125 W 5th St\, Winona\, MN\, 55987\, United States
CATEGORIES:Academics,Art & Design Department,Arts & Entertainment,College of Liberal Arts,Colleges,Student Life
ATTACH;FMTTYPE=image/jpeg:https://www.winona.edu/about/wp-content/uploads/sites/3/2024/11/WSU-male-student-wall-art-feature-2019-11-29.jpg
ORGANIZER;CN="Danilo Bojic":MAILTO:dbojic@winona.edu
END:VEVENT
BEGIN:VEVENT
DTSTART;TZID=America/Chicago:20250424T000000
DTEND;TZID=America/Chicago:20250426T235959
DTSTAMP:20260424T192926
CREATED:20250328T125603Z
LAST-MODIFIED:20250328T125605Z
UID:10000731-1745452800-1745711999@www.winona.edu
SUMMARY:WSU Women's Track & Field: Drake Relays
DESCRIPTION:From April 24-26\, come cheer on the women’s Track & Field team as they compete at the Drake Relays meet. \n\n\n\n\n\nVenue\n\n\n\n\n\nContact
URL:https://www.winona.edu/about/event/wsu-womens-track-field-drake-relays-april-24-26/
LOCATION:Drake University\, 2507 University Ave\, Des Moines\, IA\, 50311\, United States
CATEGORIES:Student Life,Warrior Athletics
ATTACH;FMTTYPE=image/jpeg:https://www.winona.edu/about/wp-content/uploads/sites/3/2025/02/Pro-womens-track-field-athlete-meet-feature-2023-02-03.jpg
ORGANIZER;CN="Melanie Brunsdon":MAILTO:melanie.brunsdon@winona.edu
END:VEVENT
BEGIN:VEVENT
DTSTART;TZID=America/Chicago:20250424T000000
DTEND;TZID=America/Chicago:20250426T235959
DTSTAMP:20260424T192926
CREATED:20250328T125624Z
LAST-MODIFIED:20250328T125626Z
UID:10000639-1745452800-1745711999@www.winona.edu
SUMMARY:WSU Women's Golf: NSIC Championships
DESCRIPTION:From April 24-26\, come cheer on the women’s Golf team as they compete at the Northern Sun Intercollegiate Conference (NSIC) championship. \n\n\n\n\n\nVenue\n\n\n\n\n\nContact
URL:https://www.winona.edu/about/event/wsu-womens-golf-meet-nsic-championships-april-24-26/
LOCATION:Paradise Pointe Golf Complex\, 18212 Golf Course Rd\, Smithville\, MO\, 64089\, United States
CATEGORIES:Student Life,Warrior Athletics
ATTACH;FMTTYPE=image/jpeg:https://www.winona.edu/about/wp-content/uploads/sites/3/2025/02/Pro-womens-golf-athlete-course-feature-2022-09-26.jpg
ORGANIZER;CN="Melanie Brunsdon":MAILTO:melanie.brunsdon@winona.edu
END:VEVENT
BEGIN:VEVENT
DTSTART;TZID=America/Chicago:20250426T000000
DTEND;TZID=America/Chicago:20250426T235959
DTSTAMP:20260424T192926
CREATED:20250328T125521Z
LAST-MODIFIED:20250328T125523Z
UID:10000618-1745625600-1745711999@www.winona.edu
SUMMARY:WSU Women's Track & Field: Dick & Mary Johnson Invite
DESCRIPTION:On April 26\, come cheer on the women’s Track & Field team as they compete at the Dick & Mary Johnson Invite. \n\n\n\n\n\nVenue\n\n\n\n\n\nContact
URL:https://www.winona.edu/about/event/wsu-womens-track-field-meet-dick-amp-mary-johnson-invite-april-26/
LOCATION:University of Wisconsin-Eau Claire\, 105 Garfield Ave\, Eau Claire\, WI\, 54701\, United States
CATEGORIES:Student Life,Warrior Athletics
ATTACH;FMTTYPE=image/jpeg:https://www.winona.edu/about/wp-content/uploads/sites/3/2025/02/Pro-womens-track-field-athlete-meet-feature-2023-02-03.jpg
ORGANIZER;CN="Melanie Brunsdon":MAILTO:melanie.brunsdon@winona.edu
END:VEVENT
BEGIN:VEVENT
DTSTART;TZID=America/Chicago:20250426T083000
DTEND;TZID=America/Chicago:20250426T123000
DTSTAMP:20260424T192926
CREATED:20250131T184716Z
LAST-MODIFIED:20250131T184717Z
UID:10000541-1745656200-1745670600@www.winona.edu
SUMMARY:Fode Bangoura & Whitney McClusky Music Workshop
DESCRIPTION:On April 26\, attend a music workshop led by Fode Bandoura and Whitney McClusky\, two MacPhail teaching artists. \n\n\n\nThis workshop will focus on African dance and drumming\, which will be especially interesting for Music Education students and music educators in the area. \n\n\n\n\n\nVenue\n\n\n\n\n\nContact
URL:https://www.winona.edu/about/event/fode-bangoura-whitney-mcclusky-music-workshop/
LOCATION:PAC 159\, 450 Johnson St\, Winona\, MN\, 55987\, United States
CATEGORIES:Academics,Arts & Entertainment,College of Liberal Arts,Colleges,Music Department,Student Life
ATTACH;FMTTYPE=image/jpeg:https://www.winona.edu/about/wp-content/uploads/sites/3/2023/10/WSU_Students-Band-2019-03-01_160000.jpg
ORGANIZER;CN="Marybeth Lenhardt":MAILTO:mlenhardt@winona.edu
END:VEVENT
BEGIN:VEVENT
DTSTART;TZID=America/Chicago:20250426T130000
DTEND;TZID=America/Chicago:20250426T150000
DTSTAMP:20260424T192926
CREATED:20250328T125500Z
LAST-MODIFIED:20250328T125502Z
UID:10000697-1745672400-1745679600@www.winona.edu
SUMMARY:WSU Softball vs. Wayne State University
DESCRIPTION:On April 26\, come cheer on the women’s Softball team as they play against Wayne State University. \n\n\n\n\n\nVenue\n\n\n\n\n\nContact
URL:https://www.winona.edu/about/event/wsu-softball-vs-wayne-state-university-april-26-afternoon/
LOCATION:Maynard R. Johnson Field\, E Sarnia St\, Winona\, MN\, 55987\, United States
CATEGORIES:Student Life,Warrior Athletics
ATTACH;FMTTYPE=image/jpeg:https://www.winona.edu/about/wp-content/uploads/sites/3/2025/02/Pro-womens-softball-athlete-bat-feature-2022-05-07.jpg
ORGANIZER;CN="Melanie Brunsdon":MAILTO:melanie.brunsdon@winona.edu
END:VEVENT
BEGIN:VEVENT
DTSTART;TZID=America/Chicago:20250426T133000
DTEND;TZID=America/Chicago:20250426T153000
DTSTAMP:20260424T192926
CREATED:20250328T125442Z
LAST-MODIFIED:20250328T125443Z
UID:10000785-1745674200-1745681400@www.winona.edu
SUMMARY:WSU Baseball vs. University of Sioux Falls
DESCRIPTION:On April 26\, come cheer on the men’s Baseball team as they play against the University of Sioux Falls. \n\n\n\n\n\nVenue\n\n\n\n\n\nContact
URL:https://www.winona.edu/about/event/wsu-baseball-vs-university-of-sioux-falls-april-26-afternoon/
LOCATION:Loughrey Field\, 213 W Sarnia St\, Winona\, MN\, 55987\, United States
CATEGORIES:Student Life,Warrior Athletics
ATTACH;FMTTYPE=image/jpeg:https://www.winona.edu/about/wp-content/uploads/sites/3/2025/03/Pro-mens-baseball-athlete-pitcher-feature-2023-03-26.jpg
ORGANIZER;CN="Melanie Brunsdon":MAILTO:melanie.brunsdon@winona.edu
END:VEVENT
BEGIN:VEVENT
DTSTART;TZID=America/Chicago:20250426T150000
DTEND;TZID=America/Chicago:20250426T170000
DTSTAMP:20260424T192926
CREATED:20250328T125421Z
LAST-MODIFIED:20250328T125423Z
UID:10000698-1745679600-1745686800@www.winona.edu
SUMMARY:WSU Softball vs. Wayne State University
DESCRIPTION:On April 26\, come cheer on the women’s Softball team as they play against Wayne State University. \n\n\n\n\n\nVenue\n\n\n\n\n\nContact
URL:https://www.winona.edu/about/event/wsu-softball-vs-wayne-state-university-april-26-evening/
LOCATION:Maynard R. Johnson Field\, E Sarnia St\, Winona\, MN\, 55987\, United States
CATEGORIES:Student Life,Warrior Athletics
ATTACH;FMTTYPE=image/jpeg:https://www.winona.edu/about/wp-content/uploads/sites/3/2025/02/Pro-womens-softball-athlete-bat-feature-2022-05-07.jpg
ORGANIZER;CN="Melanie Brunsdon":MAILTO:melanie.brunsdon@winona.edu
END:VEVENT
BEGIN:VEVENT
DTSTART;TZID=America/Chicago:20250426T163000
DTEND;TZID=America/Chicago:20250426T183000
DTSTAMP:20260424T192926
CREATED:20250328T125401Z
LAST-MODIFIED:20250328T125402Z
UID:10000786-1745685000-1745692200@www.winona.edu
SUMMARY:WSU Baseball vs. University of Sioux Falls
DESCRIPTION:On April 26\, come cheer on the men’s Baseball team as they play against the University of Sioux Falls. \n\n\n\n\n\nVenue\n\n\n\n\n\nContact
URL:https://www.winona.edu/about/event/wsu-baseball-vs-university-of-sioux-falls-april-26-evening/
LOCATION:Loughrey Field\, 213 W Sarnia St\, Winona\, MN\, 55987\, United States
CATEGORIES:Student Life,Warrior Athletics
ATTACH;FMTTYPE=image/jpeg:https://www.winona.edu/about/wp-content/uploads/sites/3/2025/03/Pro-mens-baseball-athlete-pitcher-feature-2023-03-26.jpg
ORGANIZER;CN="Melanie Brunsdon":MAILTO:melanie.brunsdon@winona.edu
END:VEVENT
BEGIN:VEVENT
DTSTART;TZID=America/Chicago:20250426T193000
DTEND;TZID=America/Chicago:20250426T203000
DTSTAMP:20260424T192926
CREATED:20250106T230225Z
LAST-MODIFIED:20250131T183802Z
UID:10000338-1745695800-1745699400@www.winona.edu
SUMMARY:Choir Concert
DESCRIPTION:On April 26\, attend this free concert featuring WSU choir students. \n\n\n\n\n\nVenue\n\n\n\n\n\nContact
URL:https://www.winona.edu/about/event/choir-concert-april-26/
LOCATION:Central Lutheran Church\, 259 W Wabasha St\, Winona\, MN\, 55987\, United States
CATEGORIES:Academics,Arts & Entertainment,College of Liberal Arts,Colleges,Music Department,Student Life
ATTACH;FMTTYPE=image/jpeg:https://www.winona.edu/about/wp-content/uploads/sites/3/2024/11/WSU-students-chorus-singing-feature-2023-12-02.jpg
ORGANIZER;CN="Marybeth Lenhardt":MAILTO:mlenhardt@winona.edu
END:VEVENT
END:VCALENDAR