BEGIN:VCALENDAR
VERSION:2.0
PRODID:-//About - ECPv6.15.16//NONSGML v1.0//EN
CALSCALE:GREGORIAN
METHOD:PUBLISH
X-WR-CALNAME:About
X-ORIGINAL-URL:https://www.winona.edu/about
X-WR-CALDESC:Events for About
REFRESH-INTERVAL;VALUE=DURATION:PT1H
X-Robots-Tag:noindex
X-PUBLISHED-TTL:PT1H
BEGIN:VTIMEZONE
TZID:America/Chicago
BEGIN:DAYLIGHT
TZOFFSETFROM:-0600
TZOFFSETTO:-0500
TZNAME:CDT
DTSTART:20240310T080000
END:DAYLIGHT
BEGIN:STANDARD
TZOFFSETFROM:-0500
TZOFFSETTO:-0600
TZNAME:CST
DTSTART:20241103T070000
END:STANDARD
BEGIN:DAYLIGHT
TZOFFSETFROM:-0600
TZOFFSETTO:-0500
TZNAME:CDT
DTSTART:20250309T080000
END:DAYLIGHT
BEGIN:STANDARD
TZOFFSETFROM:-0500
TZOFFSETTO:-0600
TZNAME:CST
DTSTART:20251102T070000
END:STANDARD
BEGIN:DAYLIGHT
TZOFFSETFROM:-0600
TZOFFSETTO:-0500
TZNAME:CDT
DTSTART:20260308T080000
END:DAYLIGHT
BEGIN:STANDARD
TZOFFSETFROM:-0500
TZOFFSETTO:-0600
TZNAME:CST
DTSTART:20261101T070000
END:STANDARD
END:VTIMEZONE
BEGIN:VEVENT
DTSTART;TZID=America/Chicago:20250401T000000
DTEND;TZID=America/Chicago:20250430T235959
DTSTAMP:20260424T192927
CREATED:20250218T220218Z
LAST-MODIFIED:20250905T144718Z
UID:10000577-1743465600-1746057599@www.winona.edu
SUMMARY:Greater Minnesota Two-Spirit & LGBTQIA+ History Map Exhibit
DESCRIPTION:From April 1-30\, learn about the history of Two-Spirit and LGBTQIA+ individuals in Minnesota with a map exhibit developed by the Minnesota Historical Society. \n\n\n\nThis exhibition is free and open to the public. \n\n\n\nThis monthlong event is sponsored by WSU Grants & Sponsored Projects; Women’s\, Gender\, & Sexuality Studies program; and the Krueger Library. \n\n\n\n\n\nVenue\n\n\n\n\n\nContact
URL:https://www.winona.edu/about/event/greater-minnesota-two-spirit-lgbtqia-history-map-exhibit/
LOCATION:Library Floor 1\, 525 Johnson St\, Winona\, MN\, 55987\, United States
CATEGORIES:Academics,Arts & Entertainment,College of Liberal Arts,Colleges,Equity & Inclusive Excellence,Events & Traditions,Library,Student Life,Support & Services,Women's, Gender & Sexuality Studies Department
ATTACH;FMTTYPE=image/jpeg:https://www.winona.edu/about/wp-content/uploads/sites/3/2024/11/WSU-male-student-wall-art-feature-2019-11-29.jpg
ORGANIZER;CN="Mary Jo Klinker":MAILTO:mklinker@winona.edu
END:VEVENT
BEGIN:VEVENT
DTSTART;TZID=America/Chicago:20250421T000000
DTEND;TZID=America/Chicago:20250509T235959
DTSTAMP:20260424T192927
CREATED:20250324T190556Z
LAST-MODIFIED:20250324T190557Z
UID:10000805-1745193600-1746835199@www.winona.edu
SUMMARY:"The Human Condition" Art Exhibition
DESCRIPTION:From April 21-May 9\, the Laird Norton Center will host the exhibition “The Human Condition\,” by Art & Design seniors. \n\n\n\n“The Human Condition” explores transformation\, sensory experiences\, and the complexities of human existence.  \n\n\n\nThrough diverse design perspectives\, each project reflects the personal and collective moments that shape us. From the tactile to the intangible\, the exhibition invites viewers to engage with themes of change\, perception\, and emotion.  \n\n\n\nThis culminating showcase highlights the work of emerging designers as they navigate the threshold between past\, present\, and future. Join us in celebrating these explorations of what it means to be human. \n\n\n\nThis exhibition is free and open to the public Monday-Friday. \n\n\n\n\n\nAbout the Collections & Artists\n\n\n\nStudents are presenting in 3 thematic groups. \n\n\n\nGroup 1: Proprioception\n\n\n\nThis collection will be available in Gallery 3. \n\n\n\n\nJadyn Bennett\, I-Design major with Integrated Studies concentration\n\n\n\nStephanie Dasbach\, I-Design major\n\n\n\nLuke Krzyszkowski\, I-Design major with Creative Practices in Design concentration\n\n\n\nLaurel Rau\, I-Design major with Conceptual Illustration concentration\n\n\n\nAlexandra Trainor\, I-Design major with Sustainable Applications concentration\n\n\n\n\nGroup 2: Syzygy\n\n\n\nThis collection will be available inside the Vault. \n\n\n\n\nYousef Al-Abad\, I-Design major with Community Development concentration\n\n\n\nKyurim Oh\, I-Design major with Business & Marketing concentration\n\n\n\nKaia Peterson\, I-Design major with Business & Marketing concentration\n\n\n\n\nGroup 3: Unfold\n\n\n\nThis collection will be available in galleries 1 and 2. \n\n\n\n\nKendal Banes\, I-Design major with Business & Marketing concentration\n\n\n\nMeghan Cooper\, I-Design major with Community Development concentration\n\n\n\nMadison Ketterling\, I-Design major with Sustainable Applications concentration\n\n\n\nKaylee Olson\, I-Design major with Business & Marketing concentration\n\n\n\nSimon Pell\, I-Design major with Technology & Interactivity concentration\n\n\n\n\n \n\n\n\nVenue\n\n\n\n\n\nContact
URL:https://www.winona.edu/about/event/the-human-condition-art-exhibition-2025/
LOCATION:Laird Norton Center for Art & Design\, 125 W 5th St\, Winona\, MN\, 55987\, United States
CATEGORIES:Academics,Art & Design Department,Arts & Entertainment,College of Liberal Arts,Colleges,Student Life
ATTACH;FMTTYPE=image/jpeg:https://www.winona.edu/about/wp-content/uploads/sites/3/2024/11/WSU-male-student-wall-art-feature-2019-11-29.jpg
ORGANIZER;CN="Danilo Bojic":MAILTO:dbojic@winona.edu
END:VEVENT
BEGIN:VEVENT
DTSTART;TZID=America/Chicago:20250427T120000
DTEND;TZID=America/Chicago:20250427T140000
DTSTAMP:20260424T192927
CREATED:20250328T125340Z
LAST-MODIFIED:20250328T125341Z
UID:10000787-1745755200-1745762400@www.winona.edu
SUMMARY:WSU Baseball vs. University of Sioux Falls
DESCRIPTION:On April 27\, come cheer on the men’s Baseball team as they play against the University of Sioux Falls. \n\n\n\n\n\nVenue\n\n\n\n\n\nContact
URL:https://www.winona.edu/about/event/wsu-baseball-vs-university-of-sioux-falls-april-27/
LOCATION:Loughrey Field\, 213 W Sarnia St\, Winona\, MN\, 55987\, United States
CATEGORIES:Student Life,Warrior Athletics
ATTACH;FMTTYPE=image/jpeg:https://www.winona.edu/about/wp-content/uploads/sites/3/2025/03/Pro-mens-baseball-athlete-pitcher-feature-2023-03-26.jpg
ORGANIZER;CN="Melanie Brunsdon":MAILTO:melanie.brunsdon@winona.edu
END:VEVENT
BEGIN:VEVENT
DTSTART;TZID=America/Chicago:20250427T130000
DTEND;TZID=America/Chicago:20250427T150000
DTSTAMP:20260424T192927
CREATED:20250328T125319Z
LAST-MODIFIED:20250328T125320Z
UID:10000699-1745758800-1745766000@www.winona.edu
SUMMARY:WSU Softball vs. University of Sioux Falls
DESCRIPTION:On April 27\, come cheer on the women’s Softball team as they play against the University of Sioux Falls. \n\n\n\n\n\nVenue\n\n\n\n\n\nContact
URL:https://www.winona.edu/about/event/wsu-softball-vs-university-of-sioux-falls-april-27-afternoon/
LOCATION:Maynard R. Johnson Field\, E Sarnia St\, Winona\, MN\, 55987\, United States
CATEGORIES:Student Life,Warrior Athletics
ATTACH;FMTTYPE=image/jpeg:https://www.winona.edu/about/wp-content/uploads/sites/3/2025/02/Pro-womens-softball-athlete-bat-feature-2022-05-07.jpg
ORGANIZER;CN="Melanie Brunsdon":MAILTO:melanie.brunsdon@winona.edu
END:VEVENT
BEGIN:VEVENT
DTSTART;TZID=America/Chicago:20250427T130000
DTEND;TZID=America/Chicago:20250427T170000
DTSTAMP:20260424T192927
CREATED:20250421T170614Z
LAST-MODIFIED:20250421T170615Z
UID:10000852-1745758800-1745773200@www.winona.edu
SUMMARY:Minnesota Frost vs. New York Sirens
DESCRIPTION:Cheer on the Minnesota Frost hockey team as they play against the New York Sirens at Xcel Energy Center on April 27. \n\n\n\nWSU students can use a code to get discounted tickets for this event. Limited to 2 tickets per student. \n\n\n\nYou must provide your Warrior ID and Winona State email when making your purchase. You’ll receive an email with instructions on how to access your digital tickets.  \n\n\n\nNo bus is provided—transportation to and from this event is on your own. \n\n\n\n    Get Tickets to This Game\n\n\n\n\n\nVenue\n\n\n\n\n\nContact
URL:https://www.winona.edu/about/event/minnesota-frost-vs-new-york-sirens/
LOCATION:Xcel Energy Center\, 199 W Kellogg Blvd\, St. Paul\, MN\, 55102\, United States
CATEGORIES:Student Life
ATTACH;FMTTYPE=image/jpeg:https://www.winona.edu/about/wp-content/uploads/sites/3/2022/12/WSU-Students-McCown-Gym-2022-08-19_112138.jpg
ORGANIZER;CN="Trent Dernbach":MAILTO:tdernbach@winona.edu
END:VEVENT
BEGIN:VEVENT
DTSTART;TZID=America/Chicago:20250427T150000
DTEND;TZID=America/Chicago:20250427T170000
DTSTAMP:20260424T192927
CREATED:20250328T125300Z
LAST-MODIFIED:20250328T125301Z
UID:10000700-1745766000-1745773200@www.winona.edu
SUMMARY:WSU Softball vs. University of Sioux Falls
DESCRIPTION:On April 27\, come cheer on the women’s Softball team as they play against the University of Sioux Falls. \n\n\n\n\n\nVenue\n\n\n\n\n\nContact
URL:https://www.winona.edu/about/event/wsu-softball-vs-university-of-sioux-falls-april-27-evening/
LOCATION:Maynard R. Johnson Field\, E Sarnia St\, Winona\, MN\, 55987\, United States
CATEGORIES:Student Life,Warrior Athletics
ATTACH;FMTTYPE=image/jpeg:https://www.winona.edu/about/wp-content/uploads/sites/3/2025/02/Pro-womens-softball-athlete-bat-feature-2022-05-07.jpg
ORGANIZER;CN="Melanie Brunsdon":MAILTO:melanie.brunsdon@winona.edu
END:VEVENT
END:VCALENDAR