BEGIN:VCALENDAR
VERSION:2.0
PRODID:-//About - ECPv6.15.16//NONSGML v1.0//EN
CALSCALE:GREGORIAN
METHOD:PUBLISH
X-ORIGINAL-URL:https://www.winona.edu/about
X-WR-CALDESC:Events for About
REFRESH-INTERVAL;VALUE=DURATION:PT1H
X-Robots-Tag:noindex
X-PUBLISHED-TTL:PT1H
BEGIN:VTIMEZONE
TZID:America/Chicago
BEGIN:DAYLIGHT
TZOFFSETFROM:-0600
TZOFFSETTO:-0500
TZNAME:CDT
DTSTART:20240310T080000
END:DAYLIGHT
BEGIN:STANDARD
TZOFFSETFROM:-0500
TZOFFSETTO:-0600
TZNAME:CST
DTSTART:20241103T070000
END:STANDARD
BEGIN:DAYLIGHT
TZOFFSETFROM:-0600
TZOFFSETTO:-0500
TZNAME:CDT
DTSTART:20250309T080000
END:DAYLIGHT
BEGIN:STANDARD
TZOFFSETFROM:-0500
TZOFFSETTO:-0600
TZNAME:CST
DTSTART:20251102T070000
END:STANDARD
BEGIN:DAYLIGHT
TZOFFSETFROM:-0600
TZOFFSETTO:-0500
TZNAME:CDT
DTSTART:20260308T080000
END:DAYLIGHT
BEGIN:STANDARD
TZOFFSETFROM:-0500
TZOFFSETTO:-0600
TZNAME:CST
DTSTART:20261101T070000
END:STANDARD
END:VTIMEZONE
BEGIN:VEVENT
DTSTART;TZID=America/Chicago:20250401T000000
DTEND;TZID=America/Chicago:20250430T235959
DTSTAMP:20260424T193240
CREATED:20250218T220218Z
LAST-MODIFIED:20250905T144718Z
UID:10000577-1743465600-1746057599@www.winona.edu
SUMMARY:Greater Minnesota Two-Spirit & LGBTQIA+ History Map Exhibit
DESCRIPTION:From April 1-30\, learn about the history of Two-Spirit and LGBTQIA+ individuals in Minnesota with a map exhibit developed by the Minnesota Historical Society. \n\n\n\nThis exhibition is free and open to the public. \n\n\n\nThis monthlong event is sponsored by WSU Grants & Sponsored Projects; Women’s\, Gender\, & Sexuality Studies program; and the Krueger Library. \n\n\n\n\n\nVenue\n\n\n\n\n\nContact
URL:https://www.winona.edu/about/event/greater-minnesota-two-spirit-lgbtqia-history-map-exhibit/
LOCATION:Library Floor 1\, 525 Johnson St\, Winona\, MN\, 55987\, United States
CATEGORIES:Academics,Arts & Entertainment,College of Liberal Arts,Colleges,Equity & Inclusive Excellence,Events & Traditions,Library,Student Life,Support & Services,Women's, Gender & Sexuality Studies Department
ATTACH;FMTTYPE=image/jpeg:https://www.winona.edu/about/wp-content/uploads/sites/3/2024/11/WSU-male-student-wall-art-feature-2019-11-29.jpg
ORGANIZER;CN="Mary Jo Klinker":MAILTO:mklinker@winona.edu
END:VEVENT
BEGIN:VEVENT
DTSTART;TZID=America/Chicago:20250421T000000
DTEND;TZID=America/Chicago:20250509T235959
DTSTAMP:20260424T193240
CREATED:20250324T190556Z
LAST-MODIFIED:20250324T190557Z
UID:10000805-1745193600-1746835199@www.winona.edu
SUMMARY:"The Human Condition" Art Exhibition
DESCRIPTION:From April 21-May 9\, the Laird Norton Center will host the exhibition “The Human Condition\,” by Art & Design seniors. \n\n\n\n“The Human Condition” explores transformation\, sensory experiences\, and the complexities of human existence.  \n\n\n\nThrough diverse design perspectives\, each project reflects the personal and collective moments that shape us. From the tactile to the intangible\, the exhibition invites viewers to engage with themes of change\, perception\, and emotion.  \n\n\n\nThis culminating showcase highlights the work of emerging designers as they navigate the threshold between past\, present\, and future. Join us in celebrating these explorations of what it means to be human. \n\n\n\nThis exhibition is free and open to the public Monday-Friday. \n\n\n\n\n\nAbout the Collections & Artists\n\n\n\nStudents are presenting in 3 thematic groups. \n\n\n\nGroup 1: Proprioception\n\n\n\nThis collection will be available in Gallery 3. \n\n\n\n\nJadyn Bennett\, I-Design major with Integrated Studies concentration\n\n\n\nStephanie Dasbach\, I-Design major\n\n\n\nLuke Krzyszkowski\, I-Design major with Creative Practices in Design concentration\n\n\n\nLaurel Rau\, I-Design major with Conceptual Illustration concentration\n\n\n\nAlexandra Trainor\, I-Design major with Sustainable Applications concentration\n\n\n\n\nGroup 2: Syzygy\n\n\n\nThis collection will be available inside the Vault. \n\n\n\n\nYousef Al-Abad\, I-Design major with Community Development concentration\n\n\n\nKyurim Oh\, I-Design major with Business & Marketing concentration\n\n\n\nKaia Peterson\, I-Design major with Business & Marketing concentration\n\n\n\n\nGroup 3: Unfold\n\n\n\nThis collection will be available in galleries 1 and 2. \n\n\n\n\nKendal Banes\, I-Design major with Business & Marketing concentration\n\n\n\nMeghan Cooper\, I-Design major with Community Development concentration\n\n\n\nMadison Ketterling\, I-Design major with Sustainable Applications concentration\n\n\n\nKaylee Olson\, I-Design major with Business & Marketing concentration\n\n\n\nSimon Pell\, I-Design major with Technology & Interactivity concentration\n\n\n\n\n \n\n\n\nVenue\n\n\n\n\n\nContact
URL:https://www.winona.edu/about/event/the-human-condition-art-exhibition-2025/
LOCATION:Laird Norton Center for Art & Design\, 125 W 5th St\, Winona\, MN\, 55987\, United States
CATEGORIES:Academics,Art & Design Department,Arts & Entertainment,College of Liberal Arts,Colleges,Student Life
ATTACH;FMTTYPE=image/jpeg:https://www.winona.edu/about/wp-content/uploads/sites/3/2024/11/WSU-male-student-wall-art-feature-2019-11-29.jpg
ORGANIZER;CN="Danilo Bojic":MAILTO:dbojic@winona.edu
END:VEVENT
BEGIN:VEVENT
DTSTART;TZID=America/Chicago:20250428T120000
DTEND;TZID=America/Chicago:20250428T150000
DTSTAMP:20260424T193240
CREATED:20250421T134816Z
LAST-MODIFIED:20250421T134816Z
UID:10000848-1745841600-1745852400@www.winona.edu
SUMMARY:Nursing Program Visit
DESCRIPTION:Future Nursing students\, this campus and admissions visit on April 28 is for you. \n\n\n\nAt this event\, you will: \n\n\n\n\nGet info about WSU’s highly successful nursing program\n\n\n\nTour nursing facilities and labs\n\n\n\nLearn about WSU in a short admissions presentation\n\n\n\nTour campus buildings and residence halls\n\n\n\n\n    Register for This Event\n\n\n\n\n\nVenue\n\n\n\n\n\nContact
URL:https://www.winona.edu/about/event/nursing-program-visit-april-28/
LOCATION:Admissions Office\, 170 W 8th St\, Winona\, MN\, 55987\, United States
CATEGORIES:Academics,Admissions,College of Nursing & Health Sciences,Colleges,Undergraduate Nursing Department
ATTACH;FMTTYPE=image/jpeg:https://www.winona.edu/about/wp-content/uploads/sites/3/2024/10/Pro-Female-Nursing-Students-2015.jpg
ORGANIZER;CN="Admissions Office":MAILTO:admissions@winona.edu
END:VEVENT
BEGIN:VEVENT
DTSTART;TZID=America/Chicago:20250428T150000
DTEND;TZID=America/Chicago:20250428T160000
DTSTAMP:20260424T193240
CREATED:20250414T144227Z
LAST-MODIFIED:20250414T144228Z
UID:10000837-1745852400-1745856000@www.winona.edu
SUMMARY:Creativity\, Culture\, & Communication Faculty-Led Travel Info Session
DESCRIPTION:On April 28\, join Dr. Tanya Ryan for an information session about the Creativity\, Culture\, & Communication faculty-led study abroad program. \n\n\n\n​Experience the world’s premier creative industries event in Cannes\, France—the Cannes Lions International Festival of Creativity—where you’ll engage with global leaders in branding\, media\, and marketing through hands-on workshops\, panels\, and networking. \n\n\n\n    Learn More about This Trip\n\n\n\n\n\nVenue\n\n\n\n\n\nContact
URL:https://www.winona.edu/about/event/creativity-culture-communication-faculty-led-travel-info-session-april-28/
LOCATION:Phelps 101\, 175 West Mark Street\, Winona\, MN\, 55987\, United States
CATEGORIES:Academics,College of Liberal Arts,Colleges,Mass Communication Department,Study Abroad
ATTACH;FMTTYPE=image/jpeg:https://www.winona.edu/about/wp-content/uploads/sites/3/2023/10/WSU_Students-Event-2023-01-20_234236.jpg
ORGANIZER;CN="Tanya Ryan":MAILTO:tryan@winona.edu
END:VEVENT
END:VCALENDAR