BEGIN:VCALENDAR
VERSION:2.0
PRODID:-//About - ECPv6.15.16//NONSGML v1.0//EN
CALSCALE:GREGORIAN
METHOD:PUBLISH
X-ORIGINAL-URL:https://www.winona.edu/about
X-WR-CALDESC:Events for About
REFRESH-INTERVAL;VALUE=DURATION:PT1H
X-Robots-Tag:noindex
X-PUBLISHED-TTL:PT1H
BEGIN:VTIMEZONE
TZID:America/Chicago
BEGIN:DAYLIGHT
TZOFFSETFROM:-0600
TZOFFSETTO:-0500
TZNAME:CDT
DTSTART:20240310T080000
END:DAYLIGHT
BEGIN:STANDARD
TZOFFSETFROM:-0500
TZOFFSETTO:-0600
TZNAME:CST
DTSTART:20241103T070000
END:STANDARD
BEGIN:DAYLIGHT
TZOFFSETFROM:-0600
TZOFFSETTO:-0500
TZNAME:CDT
DTSTART:20250309T080000
END:DAYLIGHT
BEGIN:STANDARD
TZOFFSETFROM:-0500
TZOFFSETTO:-0600
TZNAME:CST
DTSTART:20251102T070000
END:STANDARD
BEGIN:DAYLIGHT
TZOFFSETFROM:-0600
TZOFFSETTO:-0500
TZNAME:CDT
DTSTART:20260308T080000
END:DAYLIGHT
BEGIN:STANDARD
TZOFFSETFROM:-0500
TZOFFSETTO:-0600
TZNAME:CST
DTSTART:20261101T070000
END:STANDARD
END:VTIMEZONE
BEGIN:VEVENT
DTSTART;TZID=America/Chicago:20250401T000000
DTEND;TZID=America/Chicago:20250430T235959
DTSTAMP:20260424T193240
CREATED:20250218T220218Z
LAST-MODIFIED:20250905T144718Z
UID:10000577-1743465600-1746057599@www.winona.edu
SUMMARY:Greater Minnesota Two-Spirit & LGBTQIA+ History Map Exhibit
DESCRIPTION:From April 1-30\, learn about the history of Two-Spirit and LGBTQIA+ individuals in Minnesota with a map exhibit developed by the Minnesota Historical Society. \n\n\n\nThis exhibition is free and open to the public. \n\n\n\nThis monthlong event is sponsored by WSU Grants & Sponsored Projects; Women’s\, Gender\, & Sexuality Studies program; and the Krueger Library. \n\n\n\n\n\nVenue\n\n\n\n\n\nContact
URL:https://www.winona.edu/about/event/greater-minnesota-two-spirit-lgbtqia-history-map-exhibit/
LOCATION:Library Floor 1\, 525 Johnson St\, Winona\, MN\, 55987\, United States
CATEGORIES:Academics,Arts & Entertainment,College of Liberal Arts,Colleges,Equity & Inclusive Excellence,Events & Traditions,Library,Student Life,Support & Services,Women's, Gender & Sexuality Studies Department
ATTACH;FMTTYPE=image/jpeg:https://www.winona.edu/about/wp-content/uploads/sites/3/2024/11/WSU-male-student-wall-art-feature-2019-11-29.jpg
ORGANIZER;CN="Mary Jo Klinker":MAILTO:mklinker@winona.edu
END:VEVENT
BEGIN:VEVENT
DTSTART;TZID=America/Chicago:20250421T000000
DTEND;TZID=America/Chicago:20250509T235959
DTSTAMP:20260424T193240
CREATED:20250324T190556Z
LAST-MODIFIED:20250324T190557Z
UID:10000805-1745193600-1746835199@www.winona.edu
SUMMARY:"The Human Condition" Art Exhibition
DESCRIPTION:From April 21-May 9\, the Laird Norton Center will host the exhibition “The Human Condition\,” by Art & Design seniors. \n\n\n\n“The Human Condition” explores transformation\, sensory experiences\, and the complexities of human existence.  \n\n\n\nThrough diverse design perspectives\, each project reflects the personal and collective moments that shape us. From the tactile to the intangible\, the exhibition invites viewers to engage with themes of change\, perception\, and emotion.  \n\n\n\nThis culminating showcase highlights the work of emerging designers as they navigate the threshold between past\, present\, and future. Join us in celebrating these explorations of what it means to be human. \n\n\n\nThis exhibition is free and open to the public Monday-Friday. \n\n\n\n\n\nAbout the Collections & Artists\n\n\n\nStudents are presenting in 3 thematic groups. \n\n\n\nGroup 1: Proprioception\n\n\n\nThis collection will be available in Gallery 3. \n\n\n\n\nJadyn Bennett\, I-Design major with Integrated Studies concentration\n\n\n\nStephanie Dasbach\, I-Design major\n\n\n\nLuke Krzyszkowski\, I-Design major with Creative Practices in Design concentration\n\n\n\nLaurel Rau\, I-Design major with Conceptual Illustration concentration\n\n\n\nAlexandra Trainor\, I-Design major with Sustainable Applications concentration\n\n\n\n\nGroup 2: Syzygy\n\n\n\nThis collection will be available inside the Vault. \n\n\n\n\nYousef Al-Abad\, I-Design major with Community Development concentration\n\n\n\nKyurim Oh\, I-Design major with Business & Marketing concentration\n\n\n\nKaia Peterson\, I-Design major with Business & Marketing concentration\n\n\n\n\nGroup 3: Unfold\n\n\n\nThis collection will be available in galleries 1 and 2. \n\n\n\n\nKendal Banes\, I-Design major with Business & Marketing concentration\n\n\n\nMeghan Cooper\, I-Design major with Community Development concentration\n\n\n\nMadison Ketterling\, I-Design major with Sustainable Applications concentration\n\n\n\nKaylee Olson\, I-Design major with Business & Marketing concentration\n\n\n\nSimon Pell\, I-Design major with Technology & Interactivity concentration\n\n\n\n\n \n\n\n\nVenue\n\n\n\n\n\nContact
URL:https://www.winona.edu/about/event/the-human-condition-art-exhibition-2025/
LOCATION:Laird Norton Center for Art & Design\, 125 W 5th St\, Winona\, MN\, 55987\, United States
CATEGORIES:Academics,Art & Design Department,Arts & Entertainment,College of Liberal Arts,Colleges,Student Life
ATTACH;FMTTYPE=image/jpeg:https://www.winona.edu/about/wp-content/uploads/sites/3/2024/11/WSU-male-student-wall-art-feature-2019-11-29.jpg
ORGANIZER;CN="Danilo Bojic":MAILTO:dbojic@winona.edu
END:VEVENT
BEGIN:VEVENT
DTSTART;TZID=America/Chicago:20250430T000000
DTEND;TZID=America/Chicago:20250430T235959
DTSTAMP:20260424T193240
CREATED:20250328T125157Z
LAST-MODIFIED:20250328T125159Z
UID:10000619-1745971200-1746057599@www.winona.edu
SUMMARY:WSU Women's Track & Field: Maverick Open #1
DESCRIPTION:On April 30\, come cheer on the women’s Track & Field team as they compete at the first Maverick Open meet. \n\n\n\n\n\nVenue\n\n\n\n\n\nContact
URL:https://www.winona.edu/about/event/wsu-womens-track-field-meet-maverick-open-1-april-30/
LOCATION:Minnesota State University\, Mankato\, 228 Wiecking Center\, Mankato\, MN\, 56001\, United States
CATEGORIES:Student Life,Warrior Athletics
ATTACH;FMTTYPE=image/jpeg:https://www.winona.edu/about/wp-content/uploads/sites/3/2025/02/Pro-womens-track-field-athlete-meet-feature-2023-02-03.jpg
ORGANIZER;CN="Melanie Brunsdon":MAILTO:melanie.brunsdon@winona.edu
END:VEVENT
BEGIN:VEVENT
DTSTART;TZID=America/Chicago:20250430T000000
DTEND;TZID=America/Chicago:20250503T235959
DTSTAMP:20260424T193240
CREATED:20250328T125136Z
LAST-MODIFIED:20250328T125138Z
UID:10000701-1745971200-1746316799@www.winona.edu
SUMMARY:WSU Softball: NSIC Tournament
DESCRIPTION:From April 30-May 3\, come cheer on the women’s Softball team as they compete at the Northern Sun Intercollegiate Conference (NSIC) tournament. \n\n\n\n\n\nVenue\n\n\n\n\n\nContact
URL:https://www.winona.edu/about/event/wsu-softball-nsic-tournament/
LOCATION:Bowden Field\, 1501 W. 33rd St.\, Sioux Falls\, SD\, 57197\, United States
CATEGORIES:Student Life,Warrior Athletics
ATTACH;FMTTYPE=image/jpeg:https://www.winona.edu/about/wp-content/uploads/sites/3/2025/02/Pro-womens-softball-athlete-bat-feature-2022-05-07.jpg
ORGANIZER;CN="Melanie Brunsdon":MAILTO:melanie.brunsdon@winona.edu
END:VEVENT
BEGIN:VEVENT
DTSTART;TZID=America/Chicago:20250430T130000
DTEND;TZID=America/Chicago:20250430T150000
DTSTAMP:20260424T193240
CREATED:20250109T144939Z
LAST-MODIFIED:20250109T144940Z
UID:10000388-1746018000-1746025200@www.winona.edu
SUMMARY:S'more Fun
DESCRIPTION:On April 30\, stop by the Fire Feature Patio for free marshmallow goodness (weather-permitting). \n\n\n\n\n\nVenue\n\n\n\n\n\nContact
URL:https://www.winona.edu/about/event/smore-fun-april-30/
LOCATION:Fire Feature Patio\, 250 W 10th St\, Winona\, MN\, 55987\, United States
CATEGORIES:Student Life
ATTACH;FMTTYPE=image/jpeg:https://www.winona.edu/about/wp-content/uploads/sites/3/2025/01/WSU-female-students-roasting-smores-fire-feature-2023-08-18.jpg
ORGANIZER;CN="George Micalone":MAILTO:george.micalone@winona.edu
END:VEVENT
BEGIN:VEVENT
DTSTART;TZID=America/Chicago:20250430T160000
DTEND;TZID=America/Chicago:20250430T170000
DTSTAMP:20260424T193240
CREATED:20250416T144106Z
LAST-MODIFIED:20250905T144736Z
UID:10000842-1746028800-1746032400@www.winona.edu
SUMMARY:Cultural Café: Heart of Mexico
DESCRIPTION:On April 30\, join WSU student Jossaline Sevilla for our April Cultural Café. She will be sharing her love for Mexican culture. \n\n\n\nEnjoy free Mexican appetizers\, learn about Mexico’s history\, and connect with other students in a fun and engaging atmosphere. \n\n\n\n    RSVP to This Event\n\n\n\n\n\nVenue\n\n\n\n\n\nContact
URL:https://www.winona.edu/about/event/cultural-cafe-heart-of-mexico/
LOCATION:KEAP Center\, 250 W 10th St\, Winona\, MN\, 55987\, United States
CATEGORIES:Equity & Inclusive Excellence,Events & Traditions,International Services,Student Life,Support & Services
ATTACH;FMTTYPE=image/jpeg:https://www.winona.edu/about/wp-content/uploads/sites/3/2024/11/WSU-international-flags-feature-2016-09-15.jpg
ORGANIZER;CN="Claudia Richard":MAILTO:claudia.richard@winona.edu
END:VEVENT
END:VCALENDAR