BEGIN:VCALENDAR
VERSION:2.0
PRODID:-//About - ECPv6.15.16//NONSGML v1.0//EN
CALSCALE:GREGORIAN
METHOD:PUBLISH
X-ORIGINAL-URL:https://www.winona.edu/about
X-WR-CALDESC:Events for About
REFRESH-INTERVAL;VALUE=DURATION:PT1H
X-Robots-Tag:noindex
X-PUBLISHED-TTL:PT1H
BEGIN:VTIMEZONE
TZID:America/Chicago
BEGIN:DAYLIGHT
TZOFFSETFROM:-0600
TZOFFSETTO:-0500
TZNAME:CDT
DTSTART:20240310T080000
END:DAYLIGHT
BEGIN:STANDARD
TZOFFSETFROM:-0500
TZOFFSETTO:-0600
TZNAME:CST
DTSTART:20241103T070000
END:STANDARD
BEGIN:DAYLIGHT
TZOFFSETFROM:-0600
TZOFFSETTO:-0500
TZNAME:CDT
DTSTART:20250309T080000
END:DAYLIGHT
BEGIN:STANDARD
TZOFFSETFROM:-0500
TZOFFSETTO:-0600
TZNAME:CST
DTSTART:20251102T070000
END:STANDARD
BEGIN:DAYLIGHT
TZOFFSETFROM:-0600
TZOFFSETTO:-0500
TZNAME:CDT
DTSTART:20260308T080000
END:DAYLIGHT
BEGIN:STANDARD
TZOFFSETFROM:-0500
TZOFFSETTO:-0600
TZNAME:CST
DTSTART:20261101T070000
END:STANDARD
END:VTIMEZONE
BEGIN:VEVENT
DTSTART;TZID=America/Chicago:20250505T000000
DTEND;TZID=America/Chicago:20250514T235959
DTSTAMP:20260424T193239
CREATED:20250107T022444Z
LAST-MODIFIED:20260115T195811Z
UID:10000063-1746403200-1747267199@www.winona.edu
SUMMARY:Grading Period
DESCRIPTION:May 9-14 is faculty’s grading period for Spring 2025 classes. \n\n\n\n\n\nVenue\n\n\n\n\n\nContact
URL:https://www.winona.edu/about/event/grading-period-spring-2025/
LOCATION:Winona Campus\, 175 West Mark Street\, Winona\, MN\, 55987\, United States
CATEGORIES:Important Dates
ATTACH;FMTTYPE=image/jpeg:https://www.winona.edu/about/wp-content/uploads/sites/3/2022/12/WSU-Letters-Somsen-2019-07-23_121106.jpg
ORGANIZER;CN="Academic Affairs":MAILTO:academicaffairs@winona.edu
END:VEVENT
BEGIN:VEVENT
DTSTART;TZID=America/Chicago:20250508T000000
DTEND;TZID=America/Chicago:20250510T235959
DTSTAMP:20260424T193239
CREATED:20250328T124848Z
LAST-MODIFIED:20250328T124849Z
UID:10000732-1746662400-1746921599@www.winona.edu
SUMMARY:WSU Women's Track & Field: NSIC Outdoor Championships
DESCRIPTION:From May 8-10\, come cheer on the women’s Track & Field team as they compete at the Northern Sun Intercollegiate Conference (NSIC) outdoor championship. \n\n\n\n\n\nVenue\n\n\n\n\n\nContact
URL:https://www.winona.edu/about/event/wsu-womens-track-field-nsic-outdoor-championships-may-08-10/
LOCATION:James S. Malosky Stadium\, 1336 University Dr\, Duluth\, MN\, 55812\, United States
CATEGORIES:Student Life,Warrior Athletics
ATTACH;FMTTYPE=image/jpeg:https://www.winona.edu/about/wp-content/uploads/sites/3/2025/02/Pro-womens-track-field-athlete-meet-feature-2023-02-03.jpg
ORGANIZER;CN="Melanie Brunsdon":MAILTO:melanie.brunsdon@winona.edu
END:VEVENT
BEGIN:VEVENT
DTSTART;TZID=America/Chicago:20250508T000000
DTEND;TZID=America/Chicago:20250510T235959
DTSTAMP:20260424T193239
CREATED:20250328T124910Z
LAST-MODIFIED:20250328T124911Z
UID:10000646-1746662400-1746921599@www.winona.edu
SUMMARY:WSU Men's Golf: NCAA Midwest Super Regional
DESCRIPTION:From May 8-10\, come cheer on the men’s Golf team as they compete at the National Collegiate Athletic Association (NCAA) Midwest Super Regional meet. \n\n\n\n\n\nVenue\n\n\n\n\n\nContact
URL:https://www.winona.edu/about/event/wsu-mens-golf-meet-ncaa-midwest-super-regional/
LOCATION:St. Joseph Country Club\, 50 Ridgeland Rd\, Country Club\, MO\, 64505\, United States
CATEGORIES:Student Life,Warrior Athletics
ATTACH;FMTTYPE=image/jpeg:https://www.winona.edu/about/wp-content/uploads/sites/3/2025/02/Pro-mens-golf-athlete-course-feature-2022-09-07.jpg
ORGANIZER;CN="Melanie Brunsdon":MAILTO:melanie.brunsdon@winona.edu
END:VEVENT
BEGIN:VEVENT
DTSTART;TZID=America/Chicago:20250510T000000
DTEND;TZID=America/Chicago:20250510T235959
DTSTAMP:20260424T193239
CREATED:20250107T023145Z
LAST-MODIFIED:20260115T195827Z
UID:10000065-1746835200-1746921599@www.winona.edu
SUMMARY:Summer 2025 Classes Begin
DESCRIPTION:May 10 is the beginning of Summer 2025 classes. \n\n\n\n    Learn More about Summer Session\n\n\n\n\n\nVenue\n\n\n\n\n\nContact
URL:https://www.winona.edu/about/event/summer-2025-classes-begin/
LOCATION:Winona Campus\, 175 West Mark Street\, Winona\, MN\, 55987\, United States
CATEGORIES:Important Dates
ATTACH;FMTTYPE=image/jpeg:https://www.winona.edu/about/wp-content/uploads/sites/3/2022/12/WSU-Campus-Banners-2017-06-12_143111.jpg
ORGANIZER;CN="Academic Affairs":MAILTO:academicaffairs@winona.edu
END:VEVENT
BEGIN:VEVENT
DTSTART;TZID=America/Chicago:20250510T000000
DTEND;TZID=America/Chicago:20250510T235959
DTSTAMP:20260424T193239
CREATED:20250107T023252Z
LAST-MODIFIED:20260115T195835Z
UID:10000066-1746835200-1746921599@www.winona.edu
SUMMARY:May Session 2025 Begins
DESCRIPTION:May 10 is the beginning of the May Session. \n\n\n\n    Learn More about Summer Session\n\n\n\n\n\nVenue\n\n\n\n\n\nContact
URL:https://www.winona.edu/about/event/may-session-begins-2025/
LOCATION:Winona Campus\, 175 West Mark Street\, Winona\, MN\, 55987\, United States
CATEGORIES:Important Dates
ATTACH;FMTTYPE=image/jpeg:https://www.winona.edu/about/wp-content/uploads/sites/3/2022/12/WSU-Campus-Banners-2017-06-12_143111.jpg
ORGANIZER;CN="Academic Affairs":MAILTO:academicaffairs@winona.edu
END:VEVENT
BEGIN:VEVENT
DTSTART;TZID=America/Chicago:20250510T000000
DTEND;TZID=America/Chicago:20250510T235959
DTSTAMP:20260424T193239
CREATED:20250410T155542Z
LAST-MODIFIED:20250410T155543Z
UID:10000832-1746835200-1746921599@www.winona.edu
SUMMARY:Welcome Crew Sign-up Ends
DESCRIPTION:May 10 is the last day when students can sign up to join this year’s Welcome Crew. \n\n\n\nWelcome Crew is a group of students\, faculty\, and staff that help our first-year students move into the residence halls. They do a variety of jobs: traffic control\, directions\, helping families move in (actually moving boxes)\, and dumpster duty. \n\n\n\nVolunteers will be able to give their preference for the building they want to work in\, but if we need you in other areas\, we’ll let you know.  \n\n\n\nYou can choose to help for a full or half day. Also\, if you have a group or team that wants to work together\, please make sure you put that on the form\, and we’ll make arrangements.  \n\n\n\nVolunteer Benefits\n\n\n\nWhen you join Welcome Crew\, you will: \n\n\n\n\nreceive a free Welcome Crew T-shirt.\n\n\n\nget a free lunch or dinner on the day you volunteer.\n\n\n\ngain valuable volunteer hours.\n\n\n\n\nRecognized campus organizations that have at least 5 members sign up and work a shift will receive $200 in club funding. \n\n\n\n    Register to Join Welcome Crew\n\n\n\n\n\nVenue\n\n\n\n\n\nContact
URL:https://www.winona.edu/about/event/welcome-crew-sign-up-ends-2025/
LOCATION:Winona Campus\, 175 West Mark Street\, Winona\, MN\, 55987\, United States
CATEGORIES:Housing & Dining,Student Life
ATTACH;FMTTYPE=image/jpeg:https://www.winona.edu/about/wp-content/uploads/sites/3/2024/12/WSU-welcome-crew-shirt-feature-2019-08-19.jpg
ORGANIZER;CN="Sarah Olcott":MAILTO:solcott@winona.edu
END:VEVENT
END:VCALENDAR