BEGIN:VCALENDAR
VERSION:2.0
PRODID:-//About - ECPv6.15.16//NONSGML v1.0//EN
CALSCALE:GREGORIAN
METHOD:PUBLISH
X-WR-CALNAME:About
X-ORIGINAL-URL:https://www.winona.edu/about
X-WR-CALDESC:Events for About
REFRESH-INTERVAL;VALUE=DURATION:PT1H
X-Robots-Tag:noindex
X-PUBLISHED-TTL:PT1H
BEGIN:VTIMEZONE
TZID:America/Chicago
BEGIN:DAYLIGHT
TZOFFSETFROM:-0600
TZOFFSETTO:-0500
TZNAME:CDT
DTSTART:20240310T080000
END:DAYLIGHT
BEGIN:STANDARD
TZOFFSETFROM:-0500
TZOFFSETTO:-0600
TZNAME:CST
DTSTART:20241103T070000
END:STANDARD
BEGIN:DAYLIGHT
TZOFFSETFROM:-0600
TZOFFSETTO:-0500
TZNAME:CDT
DTSTART:20250309T080000
END:DAYLIGHT
BEGIN:STANDARD
TZOFFSETFROM:-0500
TZOFFSETTO:-0600
TZNAME:CST
DTSTART:20251102T070000
END:STANDARD
BEGIN:DAYLIGHT
TZOFFSETFROM:-0600
TZOFFSETTO:-0500
TZNAME:CDT
DTSTART:20260308T080000
END:DAYLIGHT
BEGIN:STANDARD
TZOFFSETFROM:-0500
TZOFFSETTO:-0600
TZNAME:CST
DTSTART:20261101T070000
END:STANDARD
END:VTIMEZONE
BEGIN:VEVENT
DTSTART;TZID=America/Chicago:20250505T000000
DTEND;TZID=America/Chicago:20250514T235959
DTSTAMP:20260424T192859
CREATED:20250107T022444Z
LAST-MODIFIED:20260115T195811Z
UID:10000063-1746403200-1747267199@www.winona.edu
SUMMARY:Grading Period
DESCRIPTION:May 9-14 is faculty’s grading period for Spring 2025 classes. \n\n\n\n\n\nVenue\n\n\n\n\n\nContact
URL:https://www.winona.edu/about/event/grading-period-spring-2025/
LOCATION:Winona Campus\, 175 West Mark Street\, Winona\, MN\, 55987\, United States
CATEGORIES:Important Dates
ATTACH;FMTTYPE=image/jpeg:https://www.winona.edu/about/wp-content/uploads/sites/3/2022/12/WSU-Letters-Somsen-2019-07-23_121106.jpg
ORGANIZER;CN="Academic Affairs":MAILTO:academicaffairs@winona.edu
END:VEVENT
BEGIN:VEVENT
DTSTART;TZID=America/Chicago:20250512T120000
DTEND;TZID=America/Chicago:20250512T150000
DTSTAMP:20260424T192859
CREATED:20250220T155409Z
LAST-MODIFIED:20250220T155410Z
UID:10000590-1747051200-1747062000@www.winona.edu
SUMMARY:Nursing Program Visit
DESCRIPTION:Future Nursing students\, this campus and admissions visit on May 12 is for you. \n\n\n\nAt this event\, you will: \n\n\n\n\nGet info about WSU’s highly successful nursing program\n\n\n\nTour nursing facilities and labs\n\n\n\nLearn about WSU in a short admissions presentation\n\n\n\nTour campus buildings and residence halls\n\n\n\n\n    Register for This Event\n\n\n\n\n\nVenue\n\n\n\n\n\nContact
URL:https://www.winona.edu/about/event/nursing-program-visit-may-12/
LOCATION:Admissions Office\, 170 W 8th St\, Winona\, MN\, 55987\, United States
CATEGORIES:Academics,Admissions,College of Nursing & Health Sciences,Colleges,Undergraduate Nursing Department
ATTACH;FMTTYPE=image/jpeg:https://www.winona.edu/about/wp-content/uploads/sites/3/2024/10/Pro-Female-Nursing-Students-2015.jpg
ORGANIZER;CN="Admissions Office":MAILTO:admissions@winona.edu
END:VEVENT
END:VCALENDAR