BEGIN:VCALENDAR
VERSION:2.0
PRODID:-//About - ECPv6.15.16//NONSGML v1.0//EN
CALSCALE:GREGORIAN
METHOD:PUBLISH
X-ORIGINAL-URL:https://www.winona.edu/about
X-WR-CALDESC:Events for About
REFRESH-INTERVAL;VALUE=DURATION:PT1H
X-Robots-Tag:noindex
X-PUBLISHED-TTL:PT1H
BEGIN:VTIMEZONE
TZID:America/Chicago
BEGIN:DAYLIGHT
TZOFFSETFROM:-0600
TZOFFSETTO:-0500
TZNAME:CDT
DTSTART:20240310T080000
END:DAYLIGHT
BEGIN:STANDARD
TZOFFSETFROM:-0500
TZOFFSETTO:-0600
TZNAME:CST
DTSTART:20241103T070000
END:STANDARD
BEGIN:DAYLIGHT
TZOFFSETFROM:-0600
TZOFFSETTO:-0500
TZNAME:CDT
DTSTART:20250309T080000
END:DAYLIGHT
BEGIN:STANDARD
TZOFFSETFROM:-0500
TZOFFSETTO:-0600
TZNAME:CST
DTSTART:20251102T070000
END:STANDARD
BEGIN:DAYLIGHT
TZOFFSETFROM:-0600
TZOFFSETTO:-0500
TZNAME:CDT
DTSTART:20260308T080000
END:DAYLIGHT
BEGIN:STANDARD
TZOFFSETFROM:-0500
TZOFFSETTO:-0600
TZNAME:CST
DTSTART:20261101T070000
END:STANDARD
END:VTIMEZONE
BEGIN:VEVENT
DTSTART;TZID=America/Chicago:20250515T130000
DTEND;TZID=America/Chicago:20250515T170000
DTSTAMP:20260424T193247
CREATED:20250306T150631Z
LAST-MODIFIED:20250306T150632Z
UID:10000794-1747314000-1747328400@www.winona.edu
SUMMARY:HERstory: Women of Wellness Workshop
DESCRIPTION:Join us at the Minnesota Marine Art Museum (MMAM) on May 15 for a Women of Wellness (WOW) event full of storytelling\, inspiration\, and creativity. \n\n\n\nThis event invites you to discover the transformative impact of art and storytelling\, guiding you on a path of personal growth and lasting well-being. \n\n\n\nFirst\, you’ll hear the stories of 2 brilliant experts in the arts. Then\, you’ll discover how visual art can enhance your well-being by exploring the world-class art collection through a Docent-Guided Tour of the MMAM Gallery. \n\n\n\nLastly\, unwind with hor d’oeuvres and conversation on the beautiful MMAM Patio overlooking the Mississippi River. \n\n\n\nDon’t miss this chance to recharge\, reflect\, and reconnect with a community of inspiring women. \n\n\n\nSeats are limited—all are welcome! \n\n\n\n    Register for This Event\n\n\n\n\n\nMeet the Speakers\n\n\n\nLiz Bucheit | Goldsmith & Jewelry Designer\n\n\n\nIn Liz’s session\, “Jewels in Your Crown: Women as Legacy Bearers\,” discover how the jewelry we wear shapes our identities\, celebrates resilience\, and builds confidence.  \n\n\n\nThis workshop introduces “jewelry journaling”—a creative way to capture the stories\, memories\, and meaning behind treasured pieces. \n\n\n\nAmanda Blue | Professional Opera Singer\n\n\n\nIn Amanda’s session\, “The Healing Power of Music & Art\,” get inspired by Amanda’s journey of using music and art to heal from chronic illness and create supportive spaces for others.  \n\n\n\nYou’ll also learn how to harness your creativity for personal growth\, deeper understanding\, and stronger community connections. \n\n\n\nVenue\n\n\n\n\n\nContact
URL:https://www.winona.edu/about/event/herstory-women-of-wellness-workshop-may-15/
LOCATION:Minnesota Marine Art Museum\, 800 Riverview Dr\, Winona\, MN\, 55987\, United States
CATEGORIES:Academics,Adult & Continuing Education
ATTACH;FMTTYPE=image/jpeg:https://www.winona.edu/about/wp-content/uploads/sites/3/2024/12/WSU-students-talking-art-gallery-feature-2019-03-20.jpg
ORGANIZER;CN="Julie Kiehne":MAILTO:jkiehne@winona.edu
END:VEVENT
END:VCALENDAR