BEGIN:VCALENDAR
VERSION:2.0
PRODID:-//About - ECPv6.15.16//NONSGML v1.0//EN
CALSCALE:GREGORIAN
METHOD:PUBLISH
X-ORIGINAL-URL:https://www.winona.edu/about
X-WR-CALDESC:Events for About
REFRESH-INTERVAL;VALUE=DURATION:PT1H
X-Robots-Tag:noindex
X-PUBLISHED-TTL:PT1H
BEGIN:VTIMEZONE
TZID:America/Chicago
BEGIN:DAYLIGHT
TZOFFSETFROM:-0600
TZOFFSETTO:-0500
TZNAME:CDT
DTSTART:20240310T080000
END:DAYLIGHT
BEGIN:STANDARD
TZOFFSETFROM:-0500
TZOFFSETTO:-0600
TZNAME:CST
DTSTART:20241103T070000
END:STANDARD
BEGIN:DAYLIGHT
TZOFFSETFROM:-0600
TZOFFSETTO:-0500
TZNAME:CDT
DTSTART:20250309T080000
END:DAYLIGHT
BEGIN:STANDARD
TZOFFSETFROM:-0500
TZOFFSETTO:-0600
TZNAME:CST
DTSTART:20251102T070000
END:STANDARD
BEGIN:DAYLIGHT
TZOFFSETFROM:-0600
TZOFFSETTO:-0500
TZNAME:CDT
DTSTART:20260308T080000
END:DAYLIGHT
BEGIN:STANDARD
TZOFFSETFROM:-0500
TZOFFSETTO:-0600
TZNAME:CST
DTSTART:20261101T070000
END:STANDARD
END:VTIMEZONE
BEGIN:VEVENT
DTSTART;TZID=America/Chicago:20250718T000000
DTEND;TZID=America/Chicago:20250718T235959
DTSTAMP:20260424T193101
CREATED:20250109T171457Z
LAST-MODIFIED:20260115T200709Z
UID:10000417-1752796800-1752883199@www.winona.edu
SUMMARY:New Student Registration for Fall 2025
DESCRIPTION:Fall 2025 class registration for new students occurs on July 18. \n\n\n\n\n\nVenue\n\n\n\n\n\nContact
URL:https://www.winona.edu/about/event/new-student-registration-for-fall-2025-july-18/
LOCATION:Winona Campus\, 175 West Mark Street\, Winona\, MN\, 55987\, United States
CATEGORIES:Important Dates
ATTACH;FMTTYPE=image/jpeg:https://www.winona.edu/about/wp-content/uploads/sites/3/2022/12/WSU-Letters-Somsen-2019-07-23_121106.jpg
ORGANIZER;CN="Academic Affairs":MAILTO:academicaffairs@winona.edu
END:VEVENT
BEGIN:VEVENT
DTSTART;TZID=America/Chicago:20250718T150000
DTEND;TZID=America/Chicago:20250718T183000
DTSTAMP:20260424T193101
CREATED:20250422T160936Z
LAST-MODIFIED:20250422T160937Z
UID:10000854-1752850800-1752863400@www.winona.edu
SUMMARY:Summer Days & River Waves Visit
DESCRIPTION:On July 18\, experience Summer Days & River Waves—a one-of-a-kind visit at Winona State that combines campus vibes with Mississippi River views. \n\n\n\nThis event includes a: \n\n\n\n\nGuided admissions presentation and campus tour starting at 3pm\n\n\n\nOne-hour scenic boat tour at 5:30pm from the Winona Levee\, located just blocks from campus. Refreshments included.\n\n\n\n\nSpots are limited\, so register today! \n\n\n\n    Register for This Event\n\n\n\n\n\nVenue\n\n\n\n\n\nContact
URL:https://www.winona.edu/about/event/summer-days-river-waves-visit-july-18/
LOCATION:Admissions Office\, 170 W 8th St\, Winona\, MN\, 55987\, United States
CATEGORIES:Admissions
ATTACH;FMTTYPE=image/jpeg:https://www.winona.edu/about/wp-content/uploads/sites/3/2023/08/WSU_Students-Cal-Fremling-2021-09-15_140347.jpg
ORGANIZER;CN="Admissions Office":MAILTO:admissions@winona.edu
END:VEVENT
END:VCALENDAR