BEGIN:VCALENDAR
VERSION:2.0
PRODID:-//About - ECPv6.15.16//NONSGML v1.0//EN
CALSCALE:GREGORIAN
METHOD:PUBLISH
X-WR-CALNAME:About
X-ORIGINAL-URL:https://www.winona.edu/about
X-WR-CALDESC:Events for About
REFRESH-INTERVAL;VALUE=DURATION:PT1H
X-Robots-Tag:noindex
X-PUBLISHED-TTL:PT1H
BEGIN:VTIMEZONE
TZID:America/Chicago
BEGIN:DAYLIGHT
TZOFFSETFROM:-0600
TZOFFSETTO:-0500
TZNAME:CDT
DTSTART:20240310T080000
END:DAYLIGHT
BEGIN:STANDARD
TZOFFSETFROM:-0500
TZOFFSETTO:-0600
TZNAME:CST
DTSTART:20241103T070000
END:STANDARD
BEGIN:DAYLIGHT
TZOFFSETFROM:-0600
TZOFFSETTO:-0500
TZNAME:CDT
DTSTART:20250309T080000
END:DAYLIGHT
BEGIN:STANDARD
TZOFFSETFROM:-0500
TZOFFSETTO:-0600
TZNAME:CST
DTSTART:20251102T070000
END:STANDARD
BEGIN:DAYLIGHT
TZOFFSETFROM:-0600
TZOFFSETTO:-0500
TZNAME:CDT
DTSTART:20260308T080000
END:DAYLIGHT
BEGIN:STANDARD
TZOFFSETFROM:-0500
TZOFFSETTO:-0600
TZNAME:CST
DTSTART:20261101T070000
END:STANDARD
END:VTIMEZONE
BEGIN:VEVENT
DTSTART;TZID=America/Chicago:20250818T000000
DTEND;TZID=America/Chicago:20250818T235959
DTSTAMP:20260424T192820
CREATED:20250410T153018Z
LAST-MODIFIED:20250410T153019Z
UID:10000827-1755475200-1755561599@www.winona.edu
SUMMARY:International Student Move-in Day
DESCRIPTION:Aug. 18 is when international students can begin moving in to campus residence halls. \n\n\n\n    Learn More about Moving In\n\n\n\n\n\nVenue\n\n\n\n\n\nContact
URL:https://www.winona.edu/about/event/international-student-move-in-day-2025/
LOCATION:Winona Campus\, 175 West Mark Street\, Winona\, MN\, 55987\, United States
CATEGORIES:Housing & Dining,International Services,Student Life,Support & Services
ATTACH;FMTTYPE=image/jpeg:https://www.winona.edu/about/wp-content/uploads/sites/3/2024/10/WSU-female-student-moving-in-to-dorm-residence-hall-feature-2018-08-20.jpg
ORGANIZER;CN="Housing &amp%3B Residence Life Office":MAILTO:housing@winona.edu
END:VEVENT
BEGIN:VEVENT
DTSTART;TZID=America/Chicago:20250818T120000
DTEND;TZID=America/Chicago:20250818T150000
DTSTAMP:20260424T192820
CREATED:20250624T133400Z
LAST-MODIFIED:20250624T133438Z
UID:10000895-1755518400-1755529200@www.winona.edu
SUMMARY:Nursing Program Visit
DESCRIPTION:Future Nursing students\, this campus and admissions visit on Aug. 18 is for you. \n\n\n\nAt this event\, you will: \n\n\n\n\nGet info about WSU’s highly successful nursing program\n\n\n\nTour nursing facilities and labs\n\n\n\nLearn about WSU in a short admissions presentation\n\n\n\nTour campus buildings and residence halls\n\n\n\n\n    Register for This Event\n\n\n\n\n\nVenue\n\n\n\n\n\nContact
URL:https://www.winona.edu/about/event/nursing-program-visit-aug-18/
LOCATION:Admissions Office\, 170 W 8th St\, Winona\, MN\, 55987\, United States
CATEGORIES:Academics,Admissions,College of Nursing & Health Sciences,Colleges,Undergraduate Nursing Department
ATTACH;FMTTYPE=image/jpeg:https://www.winona.edu/about/wp-content/uploads/sites/3/2024/10/Pro-Female-Nursing-Students-2015.jpg
ORGANIZER;CN="Admissions Office":MAILTO:admissions@winona.edu
END:VEVENT
BEGIN:VEVENT
DTSTART;TZID=America/Chicago:20250818T180000
DTEND;TZID=America/Chicago:20250818T200000
DTSTAMP:20260424T192820
CREATED:20250624T131759Z
LAST-MODIFIED:20250624T131800Z
UID:10000892-1755540000-1755547200@www.winona.edu
SUMMARY:Money Monday: Financial Aid Webinar
DESCRIPTION:Join our Financial Aid webinar on Aug. 18 to get updates about the FAFSA and scholarships including: \n\n\n\n\nTypes of financial aid\n\n\n\nHow to apply for financial aid\n\n\n\nHow to apply for scholarships\n\n\n\nGeneral awarding timelines\n\n\n\n\n \n\n\n\nNo need to sign up–just join us on Zoom! \n\n\n\n    Join the Financial Aid Webinar\n\n\n\n\n\nContact
URL:https://www.winona.edu/about/event/money-monday-financial-aid-webinar-aug-18/
LOCATION:MN
CATEGORIES:Admissions,Financial Aid
ATTACH;FMTTYPE=image/jpeg:https://www.winona.edu/about/wp-content/uploads/sites/3/2022/11/WSU_Student-Laptop-2018-05-01_135957.jpg
ORGANIZER;CN="Admissions Office":MAILTO:admissions@winona.edu
END:VEVENT
END:VCALENDAR