BEGIN:VCALENDAR
VERSION:2.0
PRODID:-//About - ECPv6.15.16//NONSGML v1.0//EN
CALSCALE:GREGORIAN
METHOD:PUBLISH
X-ORIGINAL-URL:https://www.winona.edu/about
X-WR-CALDESC:Events for About
REFRESH-INTERVAL;VALUE=DURATION:PT1H
X-Robots-Tag:noindex
X-PUBLISHED-TTL:PT1H
BEGIN:VTIMEZONE
TZID:America/Chicago
BEGIN:DAYLIGHT
TZOFFSETFROM:-0600
TZOFFSETTO:-0500
TZNAME:CDT
DTSTART:20240310T080000
END:DAYLIGHT
BEGIN:STANDARD
TZOFFSETFROM:-0500
TZOFFSETTO:-0600
TZNAME:CST
DTSTART:20241103T070000
END:STANDARD
BEGIN:DAYLIGHT
TZOFFSETFROM:-0600
TZOFFSETTO:-0500
TZNAME:CDT
DTSTART:20250309T080000
END:DAYLIGHT
BEGIN:STANDARD
TZOFFSETFROM:-0500
TZOFFSETTO:-0600
TZNAME:CST
DTSTART:20251102T070000
END:STANDARD
BEGIN:DAYLIGHT
TZOFFSETFROM:-0600
TZOFFSETTO:-0500
TZNAME:CDT
DTSTART:20260308T080000
END:DAYLIGHT
BEGIN:STANDARD
TZOFFSETFROM:-0500
TZOFFSETTO:-0600
TZNAME:CST
DTSTART:20261101T070000
END:STANDARD
END:VTIMEZONE
BEGIN:VEVENT
DTSTART;TZID=America/Chicago:20250821T000000
DTEND;TZID=America/Chicago:20250824T235959
DTSTAMP:20260424T193249
CREATED:20250109T172122Z
LAST-MODIFIED:20250109T172123Z
UID:10000419-1755734400-1756079999@www.winona.edu
SUMMARY:Welcome Week
DESCRIPTION:Aug. 21-24 is New Student Welcome Week on the Winona Campus. There will be a plethora of activities to join to make friends and get familiar with the campus. \n\n\n\nFirst-year and transfer students can preview their personalized schedules online. \n\n\n\n    Learn More about Welcome Week\n\n\n\n\n\nVenue\n\n\n\n\n\nContact
URL:https://www.winona.edu/about/event/welcome-week-2025/
LOCATION:Winona Campus\, 175 West Mark Street\, Winona\, MN\, 55987\, United States
CATEGORIES:Student Life
ATTACH;FMTTYPE=image/jpeg:https://www.winona.edu/about/wp-content/uploads/sites/3/2022/12/WSU-Students-McCown-Gym-2022-08-19_112138.jpg
ORGANIZER;CN="Student Activities":MAILTO:studentactivities@winona.edu
END:VEVENT
BEGIN:VEVENT
DTSTART;TZID=America/Chicago:20250821T000000
DTEND;TZID=America/Chicago:20250821T235959
DTSTAMP:20260424T193249
CREATED:20250109T171641Z
LAST-MODIFIED:20260115T200743Z
UID:10000418-1755734400-1755820799@www.winona.edu
SUMMARY:New Student Registration for Fall 2025
DESCRIPTION:Fall 2025 class registration for new students occurs on Aug. 21. \n\n\n\n\n\nVenue\n\n\n\n\n\nContact
URL:https://www.winona.edu/about/event/new-student-registration-for-fall-2025-aug-21/
LOCATION:Winona Campus\, 175 West Mark Street\, Winona\, MN\, 55987\, United States
CATEGORIES:Important Dates
ATTACH;FMTTYPE=image/jpeg:https://www.winona.edu/about/wp-content/uploads/sites/3/2022/12/WSU-Letters-Somsen-2019-07-23_121106.jpg
ORGANIZER;CN="Academic Affairs":MAILTO:academicaffairs@winona.edu
END:VEVENT
BEGIN:VEVENT
DTSTART;TZID=America/Chicago:20250821T083000
DTEND;TZID=America/Chicago:20250821T160000
DTSTAMP:20260424T193249
CREATED:20250410T153150Z
LAST-MODIFIED:20250410T153150Z
UID:10000828-1755765000-1755792000@www.winona.edu
SUMMARY:All Student Move-in Day
DESCRIPTION:Aug. 21 is when all students who are enrolled in Fall 2025 classes can begin moving in to campus residence halls. \n\n\n\n    Learn More about Moving In\n\n\n\n\n\nVenue\n\n\n\n\n\nContact
URL:https://www.winona.edu/about/event/all-student-move-in-day-2025/
LOCATION:Winona Campus\, 175 West Mark Street\, Winona\, MN\, 55987\, United States
CATEGORIES:Housing & Dining,Student Life
ATTACH;FMTTYPE=image/jpeg:https://www.winona.edu/about/wp-content/uploads/sites/3/2024/12/WSU-male-student-moving-in-residence-hall-feature-2023-08-16.jpg
ORGANIZER;CN="Housing &amp%3B Residence Life Office":MAILTO:housing@winona.edu
END:VEVENT
END:VCALENDAR