BEGIN:VCALENDAR
VERSION:2.0
PRODID:-//About - ECPv6.15.16//NONSGML v1.0//EN
CALSCALE:GREGORIAN
METHOD:PUBLISH
X-ORIGINAL-URL:https://www.winona.edu/about
X-WR-CALDESC:Events for About
REFRESH-INTERVAL;VALUE=DURATION:PT1H
X-Robots-Tag:noindex
X-PUBLISHED-TTL:PT1H
BEGIN:VTIMEZONE
TZID:America/Chicago
BEGIN:DAYLIGHT
TZOFFSETFROM:-0600
TZOFFSETTO:-0500
TZNAME:CDT
DTSTART:20240310T080000
END:DAYLIGHT
BEGIN:STANDARD
TZOFFSETFROM:-0500
TZOFFSETTO:-0600
TZNAME:CST
DTSTART:20241103T070000
END:STANDARD
BEGIN:DAYLIGHT
TZOFFSETFROM:-0600
TZOFFSETTO:-0500
TZNAME:CDT
DTSTART:20250309T080000
END:DAYLIGHT
BEGIN:STANDARD
TZOFFSETFROM:-0500
TZOFFSETTO:-0600
TZNAME:CST
DTSTART:20251102T070000
END:STANDARD
BEGIN:DAYLIGHT
TZOFFSETFROM:-0600
TZOFFSETTO:-0500
TZNAME:CDT
DTSTART:20260308T080000
END:DAYLIGHT
BEGIN:STANDARD
TZOFFSETFROM:-0500
TZOFFSETTO:-0600
TZNAME:CST
DTSTART:20261101T070000
END:STANDARD
END:VTIMEZONE
BEGIN:VEVENT
DTSTART;TZID=America/Chicago:20250829T000000
DTEND;TZID=America/Chicago:20250829T235959
DTSTAMP:20260424T193101
CREATED:20250109T190338Z
LAST-MODIFIED:20260115T200806Z
UID:10000422-1756425600-1756511999@www.winona.edu
SUMMARY:Last Day to Drop Courses with Full Tuition Refund
DESCRIPTION:Aug. 29 is the last day when students can drop Fall 2025 classes on Student eServices and receive a 100% tuition refund. \n\n\n\n    Visit eServices\n\n\n\n\n\nVenue\n\n\n\n\n\nContact
URL:https://www.winona.edu/about/event/last-day-to-drop-courses-with-full-tuition-refund-fall-2025/
LOCATION:Winona Campus\, 175 West Mark Street\, Winona\, MN\, 55987\, United States
CATEGORIES:Important Dates
ATTACH;FMTTYPE=image/jpeg:https://www.winona.edu/about/wp-content/uploads/sites/3/2022/12/WSU-Campus-Banners-2017-06-12_143111.jpg
ORGANIZER;CN="Academic Affairs":MAILTO:academicaffairs@winona.edu
END:VEVENT
BEGIN:VEVENT
DTSTART;TZID=America/Chicago:20250829T000000
DTEND;TZID=America/Chicago:20250829T235959
DTSTAMP:20260424T193101
CREATED:20250109T190647Z
LAST-MODIFIED:20260115T200814Z
UID:10000423-1756425600-1756511999@www.winona.edu
SUMMARY:Last Day to Add Courses without Instructor Approval
DESCRIPTION:Aug. 29 is the last day when students can add Fall 2024 classes on Student eServices without instructor approval. Registration overrides are required for this to occur after Aug. 29. \n\n\n\n    Visit eServices\n\n\n\n\n\nVenue\n\n\n\n\n\nContact
URL:https://www.winona.edu/about/event/last-day-to-add-courses-without-instructor-approval-fall-2025/
LOCATION:Winona Campus\, 175 West Mark Street\, Winona\, MN\, 55987\, United States
CATEGORIES:Important Dates
ATTACH;FMTTYPE=image/jpeg:https://www.winona.edu/about/wp-content/uploads/sites/3/2022/12/WSU-Letters-Somsen-2019-07-23_121106.jpg
ORGANIZER;CN="Academic Affairs":MAILTO:academicaffairs@winona.edu
END:VEVENT
BEGIN:VEVENT
DTSTART;TZID=America/Chicago:20250829T000000
DTEND;TZID=America/Chicago:20250829T235959
DTSTAMP:20260424T193101
CREATED:20250109T190844Z
LAST-MODIFIED:20260115T200822Z
UID:10000424-1756425600-1756511999@www.winona.edu
SUMMARY:Last Day to Apply for Arranged Courses or Independent Studies
DESCRIPTION:Aug. 29 is the last day when faculty can apply for arranged courses or independent studies for the Fall 2025 term. \n\n\n\n    Find Course Management Resources\n\n\n\n\n\nVenue\n\n\n\n\n\nContact
URL:https://www.winona.edu/about/event/last-day-to-apply-for-arranged-courses-or-independent-studies-fall-2025/
LOCATION:Winona Campus\, 175 West Mark Street\, Winona\, MN\, 55987\, United States
CATEGORIES:Important Dates
ATTACH;FMTTYPE=image/jpeg:https://www.winona.edu/about/wp-content/uploads/sites/3/2022/12/WSU-Letters-Somsen-2019-07-23_121106.jpg
ORGANIZER;CN="Academic Affairs":MAILTO:academicaffairs@winona.edu
END:VEVENT
BEGIN:VEVENT
DTSTART;TZID=America/Chicago:20250829T000000
DTEND;TZID=America/Chicago:20250829T235959
DTSTAMP:20260424T193101
CREATED:20250109T191000Z
LAST-MODIFIED:20260115T200830Z
UID:10000425-1756425600-1756511999@www.winona.edu
SUMMARY:Last Day to Clear In-Progress (IP) Grades from Summer 2025 Courses
DESCRIPTION:Aug. 29 is the last day when students must clear any in-progress (IP) grades for Summer 2025 classes in Student eServices. \n\n\n\n    Visit eServices\n\n\n\n\n\nVenue\n\n\n\n\n\nContact
URL:https://www.winona.edu/about/event/last-day-to-clear-in-progress-ip-grades-from-summer-2025-courses/
LOCATION:Winona Campus\, 175 West Mark Street\, Winona\, MN\, 55987\, United States
CATEGORIES:Important Dates
ATTACH;FMTTYPE=image/jpeg:https://www.winona.edu/about/wp-content/uploads/sites/3/2022/12/WSU-Letters-Somsen-2019-07-23_121106.jpg
ORGANIZER;CN="Academic Affairs":MAILTO:academicaffairs@winona.edu
END:VEVENT
BEGIN:VEVENT
DTSTART;TZID=America/Chicago:20250829T000000
DTEND;TZID=America/Chicago:20250829T235959
DTSTAMP:20260424T193101
CREATED:20250410T141413Z
LAST-MODIFIED:20250410T141414Z
UID:10000822-1756425600-1756511999@www.winona.edu
SUMMARY:Last Day to Purchase a Laptop with a Fee
DESCRIPTION:Students who have participated in the eWarrior Program and who graduated during either the Spring 2025 term or Summer 2025 session can purchase their laptop online or in person at Tech Support. \n\n\n\nWinona students should visit Somsen 207\, and Rochester students should visit Coffman Center 122. \n\n\n\nAug. 29 is when Spring and Summer 2025 graduates can purchase a laptop with a $50 late fee. \n\n\n\n    Learn More about Laptop Sale\n\n\n\n\n\nVenues\n\n\n\n\n\n\n\nContact
URL:https://www.winona.edu/about/event/last-day-to-purchase-a-laptop-with-a-fee-spring-summer-2025/
LOCATION:Technical Support Center (Somsen 207)\, 175 West Mark Street\, Winona\, MN\, 55987\, United States
CATEGORIES:Student Life,Support & Services,Tech Support
ATTACH;FMTTYPE=image/jpeg:https://www.winona.edu/about/wp-content/uploads/sites/3/2022/12/WSU-Student-Laptop-2021-07-20_131144.jpg
ORGANIZER;CN="Tech Support":MAILTO:techsupport@winona.edu
END:VEVENT
BEGIN:VEVENT
DTSTART;TZID=America/Chicago:20250829T163000
DTEND;TZID=America/Chicago:20250829T163000
DTSTAMP:20260424T193101
CREATED:20250109T191914Z
LAST-MODIFIED:20260115T200838Z
UID:10000427-1756485000-1756485000@www.winona.edu
SUMMARY:Registration Cancellation/Drop for Non-Payment Due
DESCRIPTION:Students must pay or have made arrangements to pay Fall 2025 tuition by the end of business day (4:30pm) on Aug. 29. \n\n\n\n\n\nVenue\n\n\n\n\n\nContact
URL:https://www.winona.edu/about/event/registration-cancellation-drop-for-non-payment-due-fall-2025/
LOCATION:Winona Campus\, 175 West Mark Street\, Winona\, MN\, 55987\, United States
CATEGORIES:Important Dates
ATTACH;FMTTYPE=image/jpeg:https://www.winona.edu/about/wp-content/uploads/sites/3/2022/12/WSU-Campus-Banners-2017-06-12_143111.jpg
END:VEVENT
BEGIN:VEVENT
DTSTART;TZID=America/Chicago:20250829T170000
DTEND;TZID=America/Chicago:20250829T190000
DTSTAMP:20260424T193101
CREATED:20250702T191937Z
LAST-MODIFIED:20250702T191938Z
UID:10000912-1756486800-1756494000@www.winona.edu
SUMMARY:WSU Soccer vs. Michigan Technological University Game
DESCRIPTION:On Aug. 29\, come cheer on the Warrior Soccer team as they face off against Michigan Technological University. \n\n\n\nSee all sports games in the Athletics calendar. \n\n\n\n    Get Tickets to This Game\n\n\n\n\n\nVenue\n\n\n\n\n\nContact
URL:https://www.winona.edu/about/event/wsu-soccer-vs-michigan-technological-university-game-2025/
LOCATION:Altra Federal Credit Union Stadium\, 601 Johnson St\, Winona\, MN\, 55987\, United States
CATEGORIES:Student Life,Warrior Athletics
ATTACH;FMTTYPE=image/jpeg:https://www.winona.edu/about/wp-content/uploads/sites/3/2023/09/WSU_Soccer-Game-2022-09-16_181719.jpg
ORGANIZER;CN="Jen Flowers":MAILTO:jennifer.flowers@winona.edu
END:VEVENT
BEGIN:VEVENT
DTSTART;TZID=America/Chicago:20250829T210000
DTEND;TZID=America/Chicago:20250829T235900
DTSTAMP:20260424T193101
CREATED:20250821T144852Z
LAST-MODIFIED:20250905T145045Z
UID:10001026-1756501200-1756511940@www.winona.edu
SUMMARY:Kryzsko After Dark
DESCRIPTION:On Aug. 29\, join us at Kryzsko After Dark for bingo\, trivia\, arts and crafts\, free Panda Express\, and over $1\,000 in giveaways! \n\n\n\nComedian Mia Jackson will also be performing in the Great River Ballroom. \n\n\n\n\n\nVenue\n\n\n\n\n\nContact
URL:https://www.winona.edu/about/event/kryzsko-after-dark-aug-29/
LOCATION:Kryzsko Commons\, 250 W 10th St\, Winona\, MN\, 55987\, United States
CATEGORIES:Clubs & Activities,Clubs & Organizations,Events & Traditions,Student Life,Warrior Entertainment Network
ATTACH;FMTTYPE=image/jpeg:https://www.winona.edu/about/wp-content/uploads/sites/3/2024/11/WSU-students-Kryzsko-after-dark-Panda-food-feature-2023-08-23.jpg
ORGANIZER;CN="Alexandra Thompson":MAILTO:alexandra.thompson@winona.edu
END:VEVENT
END:VCALENDAR