BEGIN:VCALENDAR
VERSION:2.0
PRODID:-//About - ECPv6.15.16//NONSGML v1.0//EN
CALSCALE:GREGORIAN
METHOD:PUBLISH
X-ORIGINAL-URL:https://www.winona.edu/about
X-WR-CALDESC:Events for About
REFRESH-INTERVAL;VALUE=DURATION:PT1H
X-Robots-Tag:noindex
X-PUBLISHED-TTL:PT1H
BEGIN:VTIMEZONE
TZID:America/Chicago
BEGIN:DAYLIGHT
TZOFFSETFROM:-0600
TZOFFSETTO:-0500
TZNAME:CDT
DTSTART:20240310T080000
END:DAYLIGHT
BEGIN:STANDARD
TZOFFSETFROM:-0500
TZOFFSETTO:-0600
TZNAME:CST
DTSTART:20241103T070000
END:STANDARD
BEGIN:DAYLIGHT
TZOFFSETFROM:-0600
TZOFFSETTO:-0500
TZNAME:CDT
DTSTART:20250309T080000
END:DAYLIGHT
BEGIN:STANDARD
TZOFFSETFROM:-0500
TZOFFSETTO:-0600
TZNAME:CST
DTSTART:20251102T070000
END:STANDARD
BEGIN:DAYLIGHT
TZOFFSETFROM:-0600
TZOFFSETTO:-0500
TZNAME:CDT
DTSTART:20260308T080000
END:DAYLIGHT
BEGIN:STANDARD
TZOFFSETFROM:-0500
TZOFFSETTO:-0600
TZNAME:CST
DTSTART:20261101T070000
END:STANDARD
END:VTIMEZONE
BEGIN:VEVENT
DTSTART;TZID=America/Chicago:20250902T123000
DTEND;TZID=America/Chicago:20250902T143000
DTSTAMP:20260424T213716
CREATED:20250823T200404Z
LAST-MODIFIED:20250823T200404Z
UID:10001027-1756816200-1756823400@www.winona.edu
SUMMARY:DIY Aromatherapy Bags
DESCRIPTION:On Sept. 2\, level up your self-care routine with aromatherapy. Stop by the Gazebo for an aromatherapy bag making workshop.  \n\n\n\nEssential oils can benefit your mental health by reducing stress\, enhancing your mood\, and improving sleep. \n\n\n\nWe’ll have all the supplies needed for this event. \n\n\n\n\n\nVenue\n\n\n\n\n\nContact
URL:https://www.winona.edu/about/event/diy-aromatherapy-bags/
LOCATION:Gazebo\, 175 W Mark St\, Winona\, MN\, 55987\, United States
CATEGORIES:Health & Wellness,Student Life
ATTACH;FMTTYPE=image/jpeg:https://www.winona.edu/about/wp-content/uploads/sites/3/2024/12/WSU-students-arts-crafts-feature-2024-04-18.jpg
ORGANIZER;CN="Alexis Green":MAILTO:alexis.green@winona.edu
END:VEVENT
END:VCALENDAR