BEGIN:VCALENDAR
VERSION:2.0
PRODID:-//About - ECPv6.15.16//NONSGML v1.0//EN
CALSCALE:GREGORIAN
METHOD:PUBLISH
X-WR-CALNAME:About
X-ORIGINAL-URL:https://www.winona.edu/about
X-WR-CALDESC:Events for About
REFRESH-INTERVAL;VALUE=DURATION:PT1H
X-Robots-Tag:noindex
X-PUBLISHED-TTL:PT1H
BEGIN:VTIMEZONE
TZID:America/Chicago
BEGIN:DAYLIGHT
TZOFFSETFROM:-0600
TZOFFSETTO:-0500
TZNAME:CDT
DTSTART:20240310T080000
END:DAYLIGHT
BEGIN:STANDARD
TZOFFSETFROM:-0500
TZOFFSETTO:-0600
TZNAME:CST
DTSTART:20241103T070000
END:STANDARD
BEGIN:DAYLIGHT
TZOFFSETFROM:-0600
TZOFFSETTO:-0500
TZNAME:CDT
DTSTART:20250309T080000
END:DAYLIGHT
BEGIN:STANDARD
TZOFFSETFROM:-0500
TZOFFSETTO:-0600
TZNAME:CST
DTSTART:20251102T070000
END:STANDARD
BEGIN:DAYLIGHT
TZOFFSETFROM:-0600
TZOFFSETTO:-0500
TZNAME:CDT
DTSTART:20260308T080000
END:DAYLIGHT
BEGIN:STANDARD
TZOFFSETFROM:-0500
TZOFFSETTO:-0600
TZNAME:CST
DTSTART:20261101T070000
END:STANDARD
END:VTIMEZONE
BEGIN:VEVENT
DTSTART;TZID=America/Chicago:20250908T074500
DTEND;TZID=America/Chicago:20250908T101500
DTSTAMP:20260424T213251
CREATED:20250909T141323Z
LAST-MODIFIED:20250909T141323Z
UID:10001127-1757317500-1757326500@www.winona.edu
SUMMARY:Donuts with the Business Dean
DESCRIPTION:On Sept. 8\, stop by Somsen 309 for a Bloedow’s donut and a quick chat with the College of Business Dean. \n\n\n\nDonuts available while supplies last. \n\n\n\n\n\nVenue\n\n\n\n\n\nContact
URL:https://www.winona.edu/about/event/donuts-with-the-business-dean-sept-8/
LOCATION:College of Business Dean’s Suite (Somsen 309)\, 175 West Mark Street\, Winona\, MN\, 55987\, United States
CATEGORIES:Academics,College of Business,Colleges
ATTACH;FMTTYPE=image/jpeg:https://www.winona.edu/about/wp-content/uploads/sites/3/2024/11/WSU-donuts-display-feature-2018-07-10.jpg
ORGANIZER;CN="Liz Schwanke":MAILTO:collegeofbusiness@winona.edu
END:VEVENT
BEGIN:VEVENT
DTSTART;TZID=America/Chicago:20250908T110000
DTEND;TZID=America/Chicago:20250908T120000
DTSTAMP:20260424T213251
CREATED:20250825T153510Z
LAST-MODIFIED:20250825T153511Z
UID:10000978-1757329200-1757332800@www.winona.edu
SUMMARY:Study Abroad Fast Facts Info Session 
DESCRIPTION:On Sept. 8\, join us for an information session to learn more about how to include a Study Abroad experience in your education. \n\n\n\nThe session will include a casual presentation and Q&A about destinations\, costs\, and the application process. \n\n\n\nMeet us in the Minnesota Rooms in Kryzsko Commons. \n\n\n\n\n\nVenue \n\n\n\n\n\nContact
URL:https://www.winona.edu/about/event/study-abroad-fast-facts-info-session-sept-8/
LOCATION:Minnesota Rooms\, 250 W 10th St\, Winona\, MN\, 55987\, United States
CATEGORIES:Academics,Study Abroad
ATTACH;FMTTYPE=image/jpeg:https://www.winona.edu/about/wp-content/uploads/sites/3/2023/10/WSU_Students-Event-2023-01-20_234236.jpg
ORGANIZER;CN="Kim Doebbert":MAILTO:kim.doebbert@winona.edu
END:VEVENT
BEGIN:VEVENT
DTSTART;TZID=America/Chicago:20250908T123000
DTEND;TZID=America/Chicago:20250908T150000
DTSTAMP:20260424T213251
CREATED:20250813T181449Z
LAST-MODIFIED:20250813T181450Z
UID:10001013-1757334600-1757343600@www.winona.edu
SUMMARY:Nursing Program Visit
DESCRIPTION:Future Nursing students\, this campus and admissions visit on Sept. 8 is for you. \n\n\n\nAt this event\, you will: \n\n\n\n\nGet info about WSU’s highly successful nursing program\n\n\n\nTour nursing facilities and labs\n\n\n\nLearn about WSU in a short admissions presentation\n\n\n\nTour campus buildings and residence halls\n\n\n\n\n    Register for This Event\n\n\n\n\n\nVenue\n\n\n\n\n\nContact
URL:https://www.winona.edu/about/event/nursing-program-visit-sept-8/
LOCATION:Admissions Office\, 170 W 8th St\, Winona\, MN\, 55987\, United States
CATEGORIES:Academics,Admissions,College of Nursing & Health Sciences,Colleges,Undergraduate Nursing Department
ATTACH;FMTTYPE=image/jpeg:https://www.winona.edu/about/wp-content/uploads/sites/3/2024/10/Pro-Female-Nursing-Students-2015.jpg
ORGANIZER;CN="Admissions Office":MAILTO:admissions@winona.edu
END:VEVENT
BEGIN:VEVENT
DTSTART;TZID=America/Chicago:20250908T170000
DTEND;TZID=America/Chicago:20250908T203000
DTSTAMP:20260424T213251
CREATED:20250902T140931Z
LAST-MODIFIED:20250902T140932Z
UID:10001035-1757350800-1757363400@www.winona.edu
SUMMARY:Sorority Recruitment
DESCRIPTION:On Sept. 8\, join the Panhellenic Council for Sorority Recruitment 2025.  \n\n\n\nThrough open house events\, you’ll meet Alpha Sigma Tau\, Delta Phi Epsilon\, and Sigma Sigma Sigma to find the best fit for you! \n\n\n\nTickets are required for this event. \n\n\n\n\n\n    Get Tickets to This Event\n\n\n\n\n\n    Learn More about Greek Life\n\n\n\n\n\n\n\nVenue\n\n\n\n\n\nContact
URL:https://www.winona.edu/about/event/sorority-recruitment-sept-8/
LOCATION:Student Activity Center\, 250 W 10th St\, Winona\, MN\, 55987\, United States
CATEGORIES:Clubs & Activities,Clubs & Organizations,Greek Life,Student Life
ATTACH;FMTTYPE=image/jpeg:https://www.winona.edu/about/wp-content/uploads/sites/3/2024/11/WSU-students-sorority-greek-life-feature-2019-10-18.jpg
ORGANIZER;CN="Alexandra Thompson":MAILTO:alexandra.thompson@winona.edu
END:VEVENT
END:VCALENDAR