BEGIN:VCALENDAR
VERSION:2.0
PRODID:-//About - ECPv6.15.16//NONSGML v1.0//EN
CALSCALE:GREGORIAN
METHOD:PUBLISH
X-ORIGINAL-URL:https://www.winona.edu/about
X-WR-CALDESC:Events for About
REFRESH-INTERVAL;VALUE=DURATION:PT1H
X-Robots-Tag:noindex
X-PUBLISHED-TTL:PT1H
BEGIN:VTIMEZONE
TZID:America/Chicago
BEGIN:DAYLIGHT
TZOFFSETFROM:-0600
TZOFFSETTO:-0500
TZNAME:CDT
DTSTART:20240310T080000
END:DAYLIGHT
BEGIN:STANDARD
TZOFFSETFROM:-0500
TZOFFSETTO:-0600
TZNAME:CST
DTSTART:20241103T070000
END:STANDARD
BEGIN:DAYLIGHT
TZOFFSETFROM:-0600
TZOFFSETTO:-0500
TZNAME:CDT
DTSTART:20250309T080000
END:DAYLIGHT
BEGIN:STANDARD
TZOFFSETFROM:-0500
TZOFFSETTO:-0600
TZNAME:CST
DTSTART:20251102T070000
END:STANDARD
BEGIN:DAYLIGHT
TZOFFSETFROM:-0600
TZOFFSETTO:-0500
TZNAME:CDT
DTSTART:20260308T080000
END:DAYLIGHT
BEGIN:STANDARD
TZOFFSETFROM:-0500
TZOFFSETTO:-0600
TZNAME:CST
DTSTART:20261101T070000
END:STANDARD
END:VTIMEZONE
BEGIN:VEVENT
DTSTART;TZID=America/Chicago:20250910T110000
DTEND;TZID=America/Chicago:20250910T120000
DTSTAMP:20260424T213655
CREATED:20250723T195458Z
LAST-MODIFIED:20250723T195459Z
UID:10000981-1757502000-1757505600@www.winona.edu
SUMMARY:Sant'Anna Institute Study Abroad Partner Visit
DESCRIPTION:On Sept. 10\, meet with a representative from the Sant’Anna Institute to learn more about studying abroad in Sorento\, Italy. \n\n\n\nStudents may ask their questions over Zoom or join us in Maxwell 160. \n\n\n\n\n\n    Join Zoom meeting\n\n\n\n\n\n    Learn More about the Sant’Anna Institute\n\n\n\n\n\n\n\nVenue\n\n\n\n\n\nContact
URL:https://www.winona.edu/about/event/santanna-institute-study-abroad-partner-visit-2025/
LOCATION:Maxwell 160\, 170 W 8th St\, Winona\, MN\, 55987\, United States
CATEGORIES:Academics,Study Abroad
ATTACH;FMTTYPE=image/jpeg:https://www.winona.edu/about/wp-content/uploads/sites/3/2024/03/WSU_Students-2023-05-12_091520.jpg
ORGANIZER;CN="Kim Doebbert":MAILTO:kim.doebbert@winona.edu
END:VEVENT
BEGIN:VEVENT
DTSTART;TZID=America/Chicago:20250910T110000
DTEND;TZID=America/Chicago:20250910T130000
DTSTAMP:20260424T213655
CREATED:20250905T151315Z
LAST-MODIFIED:20250905T151315Z
UID:10001123-1757502000-1757509200@www.winona.edu
SUMMARY:Popsicles & Painting
DESCRIPTION:On Sept. 10\, students and staff can come enjoy popsicles and paint rocks at the Gazebo. Show off your creativity and have a sweet treat! \n\n\n\nThis event is sponsored by WSU Summer & Winter Session.  \n\n\n\n\n\nVenue\n\n\n\n\n\nContact
URL:https://www.winona.edu/about/event/popsicles-painting-sept-10/
LOCATION:Gazebo\, 175 W Mark St\, Winona\, MN\, 55987\, United States
CATEGORIES:Academics,Student Life
ATTACH;FMTTYPE=image/jpeg:https://www.winona.edu/about/wp-content/uploads/sites/3/2024/12/WSU-students-arts-crafts-feature-2024-04-18.jpg
ORGANIZER;CN="Abby Raichert":MAILTO:abby.raichert@winona.edu
END:VEVENT
BEGIN:VEVENT
DTSTART;TZID=America/Chicago:20250910T120000
DTEND;TZID=America/Chicago:20250910T130000
DTSTAMP:20260424T213655
CREATED:20250905T150014Z
LAST-MODIFIED:20250905T150014Z
UID:10001038-1757505600-1757509200@www.winona.edu
SUMMARY:Laura Loge & Steven Luksan Concert
DESCRIPTION:On Sept. 10\, enjoy a free performance by guest artists Laura Loge and Steven Luksan. \n\n\n\nTheir performance\, titled “Musical Migrations\,” celebrates the 200th anniversary of Norwegian Immigration to America. \n\n\n\n\n\nVenue\n\n\n\n\n\nContact
URL:https://www.winona.edu/about/event/laura-loge-steven-luksan-concert-sept-10/
LOCATION:Recital Hall\, 450 Johnson St\, Winona\, MN\, 55987\, United States
CATEGORIES:Academics,Arts & Entertainment,College of Liberal Arts,Colleges,Music Department,Student Life
ATTACH;FMTTYPE=image/jpeg:https://www.winona.edu/about/wp-content/uploads/sites/3/2024/12/WSU-student-hand-playing-piano-feature-2023-02-15.jpg
ORGANIZER;CN="Marybeth Lenhardt":MAILTO:mlenhardt@winona.edu
END:VEVENT
BEGIN:VEVENT
DTSTART;TZID=America/Chicago:20250910T120000
DTEND;TZID=America/Chicago:20250910T130000
DTSTAMP:20260424T213655
CREATED:20250909T141246Z
LAST-MODIFIED:20250909T141247Z
UID:10001128-1757505600-1757509200@www.winona.edu
SUMMARY:Kwik Trip Lunch & Learn: Talent Operations
DESCRIPTION:The College of Business has partnered with Kwik Trip for a monthly series of Lunch & Learn events throughout the semester.  \n\n\n\nOn Sept. 10\, join us to learn about talent operations and acquisition (human resources) at Kwik Trip while enjoying lunch! \n\n\n\nAlthough registration isn’t required to attend\, it’s greatly encouraged and appreciated\, as it helps us estimate how much food is needed for lunch. \n\n\n\n    RSVP to This Event\n\n\n\n\n\nVenue\n\n\n\n\n\nContact
URL:https://www.winona.edu/about/event/kwik-trip-lunch-learn-talent-operations-2025/
LOCATION:College of Business Engagement Center\, 175 West Mark Street\, Winona\, MN\, 55987\, United States
CATEGORIES:Academics,College of Business,Colleges
ATTACH;FMTTYPE=image/jpeg:https://www.winona.edu/about/wp-content/uploads/sites/3/2024/12/WSU-business-students-professional-feature-2018-11-15.jpg
ORGANIZER;CN="Liz Schwanke":MAILTO:collegeofbusiness@winona.edu
END:VEVENT
BEGIN:VEVENT
DTSTART;TZID=America/Chicago:20250910T130000
DTEND;TZID=America/Chicago:20250910T150000
DTSTAMP:20260424T213655
CREATED:20250829T195307Z
LAST-MODIFIED:20250829T195308Z
UID:10001090-1757509200-1757516400@www.winona.edu
SUMMARY:S'more Fun
DESCRIPTION:On Sept. 10\, stop by the Fire Feature Patio for free marshmallow goodness (weather-permitting). \n\n\n\n\n\nVenue\n\n\n\n\n\nContact
URL:https://www.winona.edu/about/event/smore-fun-sept-10/
LOCATION:Fire Feature Patio\, 250 W 10th St\, Winona\, MN\, 55987\, United States
CATEGORIES:Student Life
ATTACH;FMTTYPE=image/jpeg:https://www.winona.edu/about/wp-content/uploads/sites/3/2025/01/WSU-female-students-roasting-smores-fire-feature-2023-08-18.jpg
ORGANIZER;CN="George Micalone":MAILTO:george.micalone@winona.edu
END:VEVENT
BEGIN:VEVENT
DTSTART;TZID=America/Chicago:20250910T170000
DTEND;TZID=America/Chicago:20250910T180000
DTSTAMP:20260424T213655
CREATED:20250827T151217Z
LAST-MODIFIED:20250827T151218Z
UID:10001033-1757523600-1757527200@www.winona.edu
SUMMARY:Student Senate Weekly Meeting
DESCRIPTION:Winona State’s Student Senate invites you to attend their weekly meeting on Sept. 10. \n\n\n\nWSU students\, faculty\, and staff along with the general public can share questions\, comments\, or concerns—or simply listen to the scheduled agenda. \n\n\n\nYou can also stop by the Student Senate Office in Kryzsko Commons to meet with our student senators. \n\n\n\n    Learn More about Student Senate\n\n\n\n\n\nVenue\n\n\n\n\n\nContact
URL:https://www.winona.edu/about/event/student-senate-weekly-meeting-sept-10/
LOCATION:Solarium\, 250 W 10th St\, Winona\, MN\, 55987\, United States
CATEGORIES:Clubs & Activities,Student Life,Student Senate
ATTACH;FMTTYPE=image/jpeg:https://www.winona.edu/about/wp-content/uploads/sites/3/2025/08/WSU-Student-Speaker-2019-03-26.jpg
ORGANIZER;CN="Student Senate":MAILTO:studentsenate@winona.edu
END:VEVENT
BEGIN:VEVENT
DTSTART;TZID=America/Chicago:20250910T170000
DTEND;TZID=America/Chicago:20250910T203000
DTSTAMP:20260424T213655
CREATED:20250902T140933Z
LAST-MODIFIED:20250902T140934Z
UID:10001078-1757523600-1757536200@www.winona.edu
SUMMARY:Sorority Recruitment
DESCRIPTION:On Sept. 10\, join the Panhellenic Council for Sorority Recruitment 2025. \n\n\n\nThrough open house events\, you’ll meet Alpha Sigma Tau\, Delta Phi Epsilon\, and Sigma Sigma Sigma to find the best fit for you! \n\n\n\nTickets are required for this event. \n\n\n\n\n\n    Get Tickets to This Event\n\n\n\n\n\n    Learn More about Greek Life\n\n\n\n\n\n\n\nVenue\n\n\n\n\n\nContact
URL:https://www.winona.edu/about/event/sorority-recruitment-sept-10/
LOCATION:Student Activity Center\, 250 W 10th St\, Winona\, MN\, 55987\, United States
CATEGORIES:Clubs & Activities,Clubs & Organizations,Greek Life,Student Life
ATTACH;FMTTYPE=image/jpeg:https://www.winona.edu/about/wp-content/uploads/sites/3/2024/11/WSU-students-sorority-greek-life-feature-2019-10-18.jpg
ORGANIZER;CN="Alexandra Thompson":MAILTO:alexandra.thompson@winona.edu
END:VEVENT
END:VCALENDAR