BEGIN:VCALENDAR
VERSION:2.0
PRODID:-//About - ECPv6.15.16//NONSGML v1.0//EN
CALSCALE:GREGORIAN
METHOD:PUBLISH
X-ORIGINAL-URL:https://www.winona.edu/about
X-WR-CALDESC:Events for About
REFRESH-INTERVAL;VALUE=DURATION:PT1H
X-Robots-Tag:noindex
X-PUBLISHED-TTL:PT1H
BEGIN:VTIMEZONE
TZID:America/Chicago
BEGIN:DAYLIGHT
TZOFFSETFROM:-0600
TZOFFSETTO:-0500
TZNAME:CDT
DTSTART:20240310T080000
END:DAYLIGHT
BEGIN:STANDARD
TZOFFSETFROM:-0500
TZOFFSETTO:-0600
TZNAME:CST
DTSTART:20241103T070000
END:STANDARD
BEGIN:DAYLIGHT
TZOFFSETFROM:-0600
TZOFFSETTO:-0500
TZNAME:CDT
DTSTART:20250309T080000
END:DAYLIGHT
BEGIN:STANDARD
TZOFFSETFROM:-0500
TZOFFSETTO:-0600
TZNAME:CST
DTSTART:20251102T070000
END:STANDARD
BEGIN:DAYLIGHT
TZOFFSETFROM:-0600
TZOFFSETTO:-0500
TZNAME:CDT
DTSTART:20260308T080000
END:DAYLIGHT
BEGIN:STANDARD
TZOFFSETFROM:-0500
TZOFFSETTO:-0600
TZNAME:CST
DTSTART:20261101T070000
END:STANDARD
END:VTIMEZONE
BEGIN:VEVENT
DTSTART;TZID=America/Chicago:20250912T000000
DTEND;TZID=America/Chicago:20250919T235959
DTSTAMP:20260424T213654
CREATED:20250723T214513Z
LAST-MODIFIED:20250723T214514Z
UID:10000986-1757635200-1758326399@www.winona.edu
SUMMARY:Retiree Travel Opportunity: The Islands of New England
DESCRIPTION:From Sept. 12-19\, the WSU Retiree Center is offering a travel opportunity to Rhode Island and Massachusetts to explore the natural beauty that lies along the shores of New England. \n\n\n\nDiscover the natural beauty that lies along the shores of New England. \n\n\n\nCome to know its coastal charm\, friendly people\, and fresh-from-the sea cuisine. \n\n\n\nTrip Highlights\n\n\n\n\nExplore the local charms\, walk along historic cobblestone streets\, and feel like a true New Englander\n\n\n\nExplore New England’s majestic seaboards\, from Rhode Island to Cape Cod.\n\n\n\nVisit Providence and the Gilded Age mansions of Newport.\n\n\n\nExperience the beautiful islands of Martha’s Vineyard and Nantucket.\n\n\n\nComplete your local experience as you indulge in a traditional seafood and lobster feast.\n\n\n\n\n    Register for This Trip\n\n\n\n\n\nVenue\n\n\n\nIf you’re located in the Winona area\, you’ll meet in the Motor Pool Lot on Sarnia St. before taking a group bus to Minneapolis. WSU will provide free parking passes for this lot for the duration of the trip. \n\n\n\nFor those located outside the Winona area\, our travel agency will pick you up from your house and take you to the nearest airport. \n\n\n\n\n\nContact
URL:https://www.winona.edu/about/event/retiree-travel-opportunity-discover-the-islands-of-new-england-2025/
LOCATION:Motor Pool Lot\, 629 Main Street\, Winona\, MN\, 55987\, United States
CATEGORIES:About,Leadership & Administration
ATTACH;FMTTYPE=image/jpeg:https://www.winona.edu/about/wp-content/uploads/sites/3/2024/11/WSU-passport-book-feature-2022-12-19.jpg
ORGANIZER;CN="Jess Kauphusman":MAILTO:jkauphusman@winona.edu
END:VEVENT
BEGIN:VEVENT
DTSTART;TZID=America/Chicago:20250915T080000
DTEND;TZID=America/Chicago:20250915T093000
DTSTAMP:20260424T213654
CREATED:20250709T191705Z
LAST-MODIFIED:20250709T191705Z
UID:10000920-1757923200-1757928600@www.winona.edu
SUMMARY:Click Into Monday: Photo Session
DESCRIPTION:On Sept. 15\, get your professional photo taken on campus for networking sites like LinkedIn and Handshake. We’ll email your free digital headshot to your WSU account within 7-10 business days. \n\n\n\nSign up on Handshake to reserve your spot. To schedule your time slot\, apply to the Click Into Monday “job” in Handshake. Each shoot has a designated “job” to apply for.  \n\n\n\nDrop-ins are welcomed\, but you may need to wait for the next available timeslot. \n\n\n\nRemember to bring your student ID (and a smile). \n\n\n\n    Explore Handshake\n\n\n\n\n\nOutdoor Venue (Weather Permitting)\n\n\n\n\n\nIndoor Venue\n\n\n\n\n\nContact
URL:https://www.winona.edu/about/event/click-into-monday-photo-session-sept-15/
LOCATION:Phelps Lawn\, 175 West Mark Street\, Winona\, MN\, 55987\, United States
CATEGORIES:Career Services,Student Life,Support & Services,Warrior Success Center
ATTACH;FMTTYPE=image/jpeg:https://www.winona.edu/about/wp-content/uploads/sites/3/2025/01/WSU-male-student-camera-headshot-studio-feature-2017-04-03.jpg
ORGANIZER;CN="DeAnna Goddard":MAILTO:dgoddard@winona.edu
END:VEVENT
BEGIN:VEVENT
DTSTART;TZID=America/Chicago:20250915T080000
DTEND;TZID=America/Chicago:20250915T170000
DTSTAMP:20260424T213654
CREATED:20250905T150052Z
LAST-MODIFIED:20250910T135946Z
UID:10001091-1757923200-1757955600@www.winona.edu
SUMMARY:Poster Sale
DESCRIPTION:On Sept. 15\, deck out your residence hall room or apartment with some new posters. A huge selection of modern prints and timeless classics will be available. \n\n\n\nPrices vary by size and popularity. \n\n\n\n\n\nVenue\n\n\n\n\n\nRain Venue\n\n\n\n\n\nContact
URL:https://www.winona.edu/about/event/poster-sale-sept-15/
LOCATION:Gazebo\, 175 W Mark St\, Winona\, MN\, 55987\, United States
CATEGORIES:Student Life
ATTACH;FMTTYPE=image/jpeg:https://www.winona.edu/about/wp-content/uploads/sites/3/2024/11/WSU-male-student-wall-art-feature-2019-11-29.jpg
ORGANIZER;CN="George Micalone":MAILTO:george.micalone@winona.edu
END:VEVENT
BEGIN:VEVENT
DTSTART;TZID=America/Chicago:20250915T113000
DTEND;TZID=America/Chicago:20250915T140000
DTSTAMP:20260424T213654
CREATED:20250910T170221Z
LAST-MODIFIED:20250910T170222Z
UID:10001140-1757935800-1757944800@www.winona.edu
SUMMARY:Southern Cross University Study Abroad Info Session
DESCRIPTION:For the first hour\, join us for an info session on Southern Cross University to explore study abroad opportunities at their Lismore and Gold Coast campuses in Australia. We’ll also offer drop-in advising in the Maxwell Lobby after the presentation. \n\n\n\n    Learn More about Southern Cross University\n\n\n\n\n\nVenues\n\n\n\n\n\n\n\nContact
URL:https://www.winona.edu/about/event/southern-cross-university-study-abroad-info-session/
LOCATION:Maxwell 160\, 170 W 8th St\, Winona\, MN\, 55987\, United States
CATEGORIES:Academics,Study Abroad
ATTACH;FMTTYPE=image/jpeg:https://www.winona.edu/about/wp-content/uploads/sites/3/2024/03/WSU_Students-2023-05-12_091520.jpg
ORGANIZER;CN="Kim Doebbert":MAILTO:kim.doebbert@winona.edu
END:VEVENT
END:VCALENDAR