BEGIN:VCALENDAR
VERSION:2.0
PRODID:-//About - ECPv6.15.16//NONSGML v1.0//EN
CALSCALE:GREGORIAN
METHOD:PUBLISH
X-ORIGINAL-URL:https://www.winona.edu/about
X-WR-CALDESC:Events for About
REFRESH-INTERVAL;VALUE=DURATION:PT1H
X-Robots-Tag:noindex
X-PUBLISHED-TTL:PT1H
BEGIN:VTIMEZONE
TZID:America/Chicago
BEGIN:DAYLIGHT
TZOFFSETFROM:-0600
TZOFFSETTO:-0500
TZNAME:CDT
DTSTART:20240310T080000
END:DAYLIGHT
BEGIN:STANDARD
TZOFFSETFROM:-0500
TZOFFSETTO:-0600
TZNAME:CST
DTSTART:20241103T070000
END:STANDARD
BEGIN:DAYLIGHT
TZOFFSETFROM:-0600
TZOFFSETTO:-0500
TZNAME:CDT
DTSTART:20250309T080000
END:DAYLIGHT
BEGIN:STANDARD
TZOFFSETFROM:-0500
TZOFFSETTO:-0600
TZNAME:CST
DTSTART:20251102T070000
END:STANDARD
BEGIN:DAYLIGHT
TZOFFSETFROM:-0600
TZOFFSETTO:-0500
TZNAME:CDT
DTSTART:20260308T080000
END:DAYLIGHT
BEGIN:STANDARD
TZOFFSETFROM:-0500
TZOFFSETTO:-0600
TZNAME:CST
DTSTART:20261101T070000
END:STANDARD
END:VTIMEZONE
BEGIN:VEVENT
DTSTART;TZID=America/Chicago:20250912T000000
DTEND;TZID=America/Chicago:20250919T235959
DTSTAMP:20260424T213525
CREATED:20250723T214513Z
LAST-MODIFIED:20250723T214514Z
UID:10000986-1757635200-1758326399@www.winona.edu
SUMMARY:Retiree Travel Opportunity: The Islands of New England
DESCRIPTION:From Sept. 12-19\, the WSU Retiree Center is offering a travel opportunity to Rhode Island and Massachusetts to explore the natural beauty that lies along the shores of New England. \n\n\n\nDiscover the natural beauty that lies along the shores of New England. \n\n\n\nCome to know its coastal charm\, friendly people\, and fresh-from-the sea cuisine. \n\n\n\nTrip Highlights\n\n\n\n\nExplore the local charms\, walk along historic cobblestone streets\, and feel like a true New Englander\n\n\n\nExplore New England’s majestic seaboards\, from Rhode Island to Cape Cod.\n\n\n\nVisit Providence and the Gilded Age mansions of Newport.\n\n\n\nExperience the beautiful islands of Martha’s Vineyard and Nantucket.\n\n\n\nComplete your local experience as you indulge in a traditional seafood and lobster feast.\n\n\n\n\n    Register for This Trip\n\n\n\n\n\nVenue\n\n\n\nIf you’re located in the Winona area\, you’ll meet in the Motor Pool Lot on Sarnia St. before taking a group bus to Minneapolis. WSU will provide free parking passes for this lot for the duration of the trip. \n\n\n\nFor those located outside the Winona area\, our travel agency will pick you up from your house and take you to the nearest airport. \n\n\n\n\n\nContact
URL:https://www.winona.edu/about/event/retiree-travel-opportunity-discover-the-islands-of-new-england-2025/
LOCATION:Motor Pool Lot\, 629 Main Street\, Winona\, MN\, 55987\, United States
CATEGORIES:About,Leadership & Administration
ATTACH;FMTTYPE=image/jpeg:https://www.winona.edu/about/wp-content/uploads/sites/3/2024/11/WSU-passport-book-feature-2022-12-19.jpg
ORGANIZER;CN="Jess Kauphusman":MAILTO:jkauphusman@winona.edu
END:VEVENT
BEGIN:VEVENT
DTSTART;TZID=America/Chicago:20250917T080000
DTEND;TZID=America/Chicago:20250917T170000
DTSTAMP:20260424T213525
CREATED:20250905T150047Z
LAST-MODIFIED:20250910T135957Z
UID:10001093-1758096000-1758128400@www.winona.edu
SUMMARY:Poster Sale
DESCRIPTION:On Sept. 17\, deck out your residence hall room or apartment with some new posters. A huge selection of modern prints and timeless classics will be available. \n\n\n\nPrices vary by size and popularity. \n\n\n\n\n\nVenue\n\n\n\n\n\nRain Venue\n\n\n\n\n\nContact
URL:https://www.winona.edu/about/event/poster-sale-sept-17/
LOCATION:Gazebo\, 175 W Mark St\, Winona\, MN\, 55987\, United States
CATEGORIES:Student Life
ATTACH;FMTTYPE=image/jpeg:https://www.winona.edu/about/wp-content/uploads/sites/3/2024/11/WSU-male-student-wall-art-feature-2019-11-29.jpg
ORGANIZER;CN="George Micalone":MAILTO:george.micalone@winona.edu
END:VEVENT
BEGIN:VEVENT
DTSTART;TZID=America/Chicago:20250917T110000
DTEND;TZID=America/Chicago:20250917T140000
DTSTAMP:20260424T213525
CREATED:20250905T145339Z
LAST-MODIFIED:20250905T145340Z
UID:10001094-1758106800-1758117600@www.winona.edu
SUMMARY:Fall Student Org Fair
DESCRIPTION:On Sept. 17\, visit with WSU’s 100+ registered student organizations. See what’s available and pick some to join.  \n\n\n\nEnjoy freebies\, candy\, swag\, and more. \n\n\n\n    Learn More about Clubs\n\n\n\n\n\nVenue\n\n\n\n\n\nRain Venue\n\n\n\n\n\nContact
URL:https://www.winona.edu/about/event/fall-student-org-fair-2025/
LOCATION:Gazebo\, 175 W Mark St\, Winona\, MN\, 55987\, United States
CATEGORIES:Clubs & Activities,Clubs & Organizations,Events & Traditions,Student Life
ATTACH;FMTTYPE=image/jpeg:https://www.winona.edu/about/wp-content/uploads/sites/3/2024/12/WSU-students-club-fair-feature-2023-08-18.jpg
ORGANIZER;CN="Student Activities":MAILTO:studentactivities@winona.edu
END:VEVENT
BEGIN:VEVENT
DTSTART;TZID=America/Chicago:20250917T130000
DTEND;TZID=America/Chicago:20250917T150000
DTSTAMP:20260424T213525
CREATED:20250905T145902Z
LAST-MODIFIED:20250905T145903Z
UID:10001095-1758114000-1758121200@www.winona.edu
SUMMARY:S'more Fun
DESCRIPTION:On Sept. 17\, stop by the Fire Feature Patio for free marshmallow goodness (weather-permitting). \n\n\n\n\n\nVenue\n\n\n\n\n\nContact
URL:https://www.winona.edu/about/event/smore-fun-sept-17/
LOCATION:Fire Feature Patio\, 250 W 10th St\, Winona\, MN\, 55987\, United States
CATEGORIES:Events & Traditions,Student Life
ATTACH;FMTTYPE=image/jpeg:https://www.winona.edu/about/wp-content/uploads/sites/3/2025/01/WSU-female-students-roasting-smores-fire-feature-2023-08-18.jpg
ORGANIZER;CN="George Micalone":MAILTO:george.micalone@winona.edu
END:VEVENT
BEGIN:VEVENT
DTSTART;TZID=America/Chicago:20250917T170000
DTEND;TZID=America/Chicago:20250917T180000
DTSTAMP:20260424T213525
CREATED:20250828T142743Z
LAST-MODIFIED:20250828T142744Z
UID:10001051-1758128400-1758132000@www.winona.edu
SUMMARY:Student Senate Weekly Meeting
DESCRIPTION:Winona State’s Student Senate invites you to attend their weekly meeting on Sept. 17. \n\n\n\nWSU students\, faculty\, and staff along with the general public can share questions\, comments\, or concerns—or simply listen to the scheduled agenda. \n\n\n\nYou can also stop by the Student Senate Office in Kryzsko Commons to meet with our student senators. \n\n\n\n    Learn More about Student Senate\n\n\n\n\n\nVenue\n\n\n\n\n\nContact
URL:https://www.winona.edu/about/event/student-senate-weekly-meeting-sept-17/
LOCATION:Solarium\, 250 W 10th St\, Winona\, MN\, 55987\, United States
CATEGORIES:Clubs & Activities,Student Life,Student Senate
ATTACH;FMTTYPE=image/jpeg:https://www.winona.edu/about/wp-content/uploads/sites/3/2025/08/WSU-Student-Speaker-2019-03-26.jpg
ORGANIZER;CN="Student Senate":MAILTO:studentsenate@winona.edu
END:VEVENT
END:VCALENDAR