BEGIN:VCALENDAR
VERSION:2.0
PRODID:-//About - ECPv6.15.16//NONSGML v1.0//EN
CALSCALE:GREGORIAN
METHOD:PUBLISH
X-WR-CALNAME:About
X-ORIGINAL-URL:https://www.winona.edu/about
X-WR-CALDESC:Events for About
REFRESH-INTERVAL;VALUE=DURATION:PT1H
X-Robots-Tag:noindex
X-PUBLISHED-TTL:PT1H
BEGIN:VTIMEZONE
TZID:America/Chicago
BEGIN:DAYLIGHT
TZOFFSETFROM:-0600
TZOFFSETTO:-0500
TZNAME:CDT
DTSTART:20240310T080000
END:DAYLIGHT
BEGIN:STANDARD
TZOFFSETFROM:-0500
TZOFFSETTO:-0600
TZNAME:CST
DTSTART:20241103T070000
END:STANDARD
BEGIN:DAYLIGHT
TZOFFSETFROM:-0600
TZOFFSETTO:-0500
TZNAME:CDT
DTSTART:20250309T080000
END:DAYLIGHT
BEGIN:STANDARD
TZOFFSETFROM:-0500
TZOFFSETTO:-0600
TZNAME:CST
DTSTART:20251102T070000
END:STANDARD
BEGIN:DAYLIGHT
TZOFFSETFROM:-0600
TZOFFSETTO:-0500
TZNAME:CDT
DTSTART:20260308T080000
END:DAYLIGHT
BEGIN:STANDARD
TZOFFSETFROM:-0500
TZOFFSETTO:-0600
TZNAME:CST
DTSTART:20261101T070000
END:STANDARD
END:VTIMEZONE
BEGIN:VEVENT
DTSTART;TZID=America/Chicago:20250912T000000
DTEND;TZID=America/Chicago:20250919T235959
DTSTAMP:20260424T213333
CREATED:20250723T214513Z
LAST-MODIFIED:20250723T214514Z
UID:10000986-1757635200-1758326399@www.winona.edu
SUMMARY:Retiree Travel Opportunity: The Islands of New England
DESCRIPTION:From Sept. 12-19\, the WSU Retiree Center is offering a travel opportunity to Rhode Island and Massachusetts to explore the natural beauty that lies along the shores of New England. \n\n\n\nDiscover the natural beauty that lies along the shores of New England. \n\n\n\nCome to know its coastal charm\, friendly people\, and fresh-from-the sea cuisine. \n\n\n\nTrip Highlights\n\n\n\n\nExplore the local charms\, walk along historic cobblestone streets\, and feel like a true New Englander\n\n\n\nExplore New England’s majestic seaboards\, from Rhode Island to Cape Cod.\n\n\n\nVisit Providence and the Gilded Age mansions of Newport.\n\n\n\nExperience the beautiful islands of Martha’s Vineyard and Nantucket.\n\n\n\nComplete your local experience as you indulge in a traditional seafood and lobster feast.\n\n\n\n\n    Register for This Trip\n\n\n\n\n\nVenue\n\n\n\nIf you’re located in the Winona area\, you’ll meet in the Motor Pool Lot on Sarnia St. before taking a group bus to Minneapolis. WSU will provide free parking passes for this lot for the duration of the trip. \n\n\n\nFor those located outside the Winona area\, our travel agency will pick you up from your house and take you to the nearest airport. \n\n\n\n\n\nContact
URL:https://www.winona.edu/about/event/retiree-travel-opportunity-discover-the-islands-of-new-england-2025/
LOCATION:Motor Pool Lot\, 629 Main Street\, Winona\, MN\, 55987\, United States
CATEGORIES:About,Leadership & Administration
ATTACH;FMTTYPE=image/jpeg:https://www.winona.edu/about/wp-content/uploads/sites/3/2024/11/WSU-passport-book-feature-2022-12-19.jpg
ORGANIZER;CN="Jess Kauphusman":MAILTO:jkauphusman@winona.edu
END:VEVENT
BEGIN:VEVENT
DTSTART;TZID=America/Chicago:20250919T000000
DTEND;TZID=America/Chicago:20250921T235959
DTSTAMP:20260424T213333
CREATED:20250522T162256Z
LAST-MODIFIED:20250522T162257Z
UID:10000222-1758240000-1758499199@www.winona.edu
SUMMARY:Family Weekend
DESCRIPTION:Family Weekend is a great time to hang out with your family.  \n\n\n\nFrom Sept. 19-21\, have fun around town with events at WSU and in Winona. \n\n\n\n    Learn More about Family Weekend\n\n\n\n\n\nVenue\n\n\n\n\n\nContact
URL:https://www.winona.edu/about/event/family-weekend-2025/
LOCATION:Winona Campus\, 175 West Mark Street\, Winona\, MN\, 55987\, United States
CATEGORIES:Student Life
ATTACH;FMTTYPE=image/jpeg:https://www.winona.edu/about/wp-content/uploads/sites/3/2024/11/WSU-female-student-family-member-residence-hall-feature-2023-08-19.jpg
ORGANIZER;CN="Student Activities":MAILTO:studentactivities@winona.edu
END:VEVENT
BEGIN:VEVENT
DTSTART;TZID=America/Chicago:20250919T120000
DTEND;TZID=America/Chicago:20250919T140000
DTSTAMP:20260424T213333
CREATED:20250918T185742Z
LAST-MODIFIED:20250918T185743Z
UID:10001203-1758283200-1758290400@www.winona.edu
SUMMARY:Fall Kickoff: Sip\, Snack\, & Craft
DESCRIPTION:Celebrate the start of the Fall season with cozy crafts and delicious caramel apples.  \n\n\n\nPlus\, enjoy complimentary samples from Starbucks’ Fall flavor lineup. \n\n\n\nShow off your creativity and enjoy some sweet treats! \n\n\n\n\n\nVenue\n\n\n\n\n\nContact
URL:https://www.winona.edu/about/event/fall-kickoff-sip-snack-craft/
LOCATION:Zane’s Food Court\, 250 W 10th St\, Winona\, MN\, 55987\, United States
CATEGORIES:Clubs & Activities,Clubs & Organizations,Student Life,Warrior Entertainment Network
ATTACH;FMTTYPE=image/jpeg:https://www.winona.edu/about/wp-content/uploads/sites/3/2024/12/WSU-students-arts-crafts-feature-2024-04-18.jpg
ORGANIZER;CN="Daisy Kirchner":MAILTO:daisy.kirchner@go.winona.edu
END:VEVENT
BEGIN:VEVENT
DTSTART;TZID=America/Chicago:20250919T123000
DTEND;TZID=America/Chicago:20250919T150000
DTSTAMP:20260424T213333
CREATED:20250813T181446Z
LAST-MODIFIED:20250813T181447Z
UID:10001014-1758285000-1758294000@www.winona.edu
SUMMARY:Nursing Program Visit
DESCRIPTION:Future Nursing students\, this campus and admissions visit on Sept. 19 is for you. \n\n\n\nAt this event\, you will: \n\n\n\n\nGet info about WSU’s highly successful nursing program\n\n\n\nTour nursing facilities and labs\n\n\n\nLearn about WSU in a short admissions presentation\n\n\n\nTour campus buildings and residence halls\n\n\n\n\n    Register for This Event\n\n\n\n\n\nVenue\n\n\n\n\n\nContact
URL:https://www.winona.edu/about/event/nursing-program-visit-sept-19/
LOCATION:Admissions Office\, 170 W 8th St\, Winona\, MN\, 55987\, United States
CATEGORIES:Academics,Admissions,College of Nursing & Health Sciences,Colleges,Undergraduate Nursing Department
ATTACH;FMTTYPE=image/jpeg:https://www.winona.edu/about/wp-content/uploads/sites/3/2024/10/Pro-Female-Nursing-Students-2015.jpg
ORGANIZER;CN="Admissions Office":MAILTO:admissions@winona.edu
END:VEVENT
BEGIN:VEVENT
DTSTART;TZID=America/Chicago:20250919T150000
DTEND;TZID=America/Chicago:20250919T170000
DTSTAMP:20260424T213333
CREATED:20250917T200328Z
LAST-MODIFIED:20250917T200329Z
UID:10001193-1758294000-1758301200@www.winona.edu
SUMMARY:Banglar Mela
DESCRIPTION:Join the Bangladesh Club for Banglar Mela. Celebrate Bangladeshi culture with food\, music\, games\, giveaways\, and more! \n\n\n\n\n\nVenue\n\n\n\n\n\nContact
URL:https://www.winona.edu/about/event/banglar-mela-2025/
LOCATION:Fire Feature Patio\, 250 W 10th St\, Winona\, MN\, 55987\, United States
CATEGORIES:Clubs & Activities,Clubs & Organizations,Equity & Inclusive Excellence,Student Life,Support & Services
ATTACH;FMTTYPE=image/jpeg:https://www.winona.edu/about/wp-content/uploads/sites/3/2024/12/WSU-Bangladeshi-alumni-event-feature-2022-08-13.jpg
ORGANIZER;CN="Afrini Hossain":MAILTO:afrini.hossain@go.winona.edu
END:VEVENT
BEGIN:VEVENT
DTSTART;TZID=America/Chicago:20250919T163000
DTEND;TZID=America/Chicago:20250919T190000
DTSTAMP:20260424T213333
CREATED:20250730T194710Z
LAST-MODIFIED:20250731T172822Z
UID:10000991-1758299400-1758308400@www.winona.edu
SUMMARY:Family Weekend Dinner
DESCRIPTION:On Sept. 19\, join us in kicking off Family Weekend with a dinner with your family in the Jack Kane Dining Center. \n\n\n\nStudents can use their Dining Dollars for their family members. Otherwise\, dinner costs $12.14 per person. \n\n\n\n\n\nVenue\n\n\n\n\n\nContact
URL:https://www.winona.edu/about/event/family-weekend-dinner-2025/
LOCATION:Jack Kane Dining Hall\, 250 W 10th St\, Winona\, MN\, 55987\, United States
CATEGORIES:Events & Traditions,Student Life
ATTACH;FMTTYPE=image/jpeg:https://www.winona.edu/about/wp-content/uploads/sites/3/2025/07/WSU-male-students-Jack-Kane-dining-center-food-feature-2023-02-15.jpg
ORGANIZER;CN="Student Activities":MAILTO:studentactivities@winona.edu
END:VEVENT
BEGIN:VEVENT
DTSTART;TZID=America/Chicago:20250919T180000
DTEND;TZID=America/Chicago:20250919T190000
DTSTAMP:20260424T213333
CREATED:20250730T194651Z
LAST-MODIFIED:20250730T194651Z
UID:10000992-1758304800-1758308400@www.winona.edu
SUMMARY:Family Weekend River Cruise
DESCRIPTION:On Sept. 19\, join us for a beautiful 60-minute scenic cruise down the Mississippi River aboard WSU’s Cal Fremling. \n\n\n\nWater and snacks will be provided. Main cabin has heating and cooling capabilities. \n\n\n\nTickets are required. \n\n\n\n    Get Tickets to This Event\n\n\n\n\n\nVenue\n\n\n\n\n\nContact
URL:https://www.winona.edu/about/event/family-weekend-river-cruise-sept-19/
LOCATION:Cal Fremling Boat\, 2 Johnson St\, Winona\, MN\, 55987\, United States
CATEGORIES:Events & Traditions,Student Life
ATTACH;FMTTYPE=image/jpeg:https://www.winona.edu/about/wp-content/uploads/sites/3/2023/08/WSU_Students-Cal-Fremling-2021-09-15_140347.jpg
ORGANIZER;CN="Student Activities":MAILTO:studentactivities@winona.edu
END:VEVENT
BEGIN:VEVENT
DTSTART;TZID=America/Chicago:20250919T180000
DTEND;TZID=America/Chicago:20250919T200000
DTSTAMP:20260424T213333
CREATED:20250702T192903Z
LAST-MODIFIED:20250702T192903Z
UID:10000902-1758304800-1758312000@www.winona.edu
SUMMARY:WSU Volleyball vs. Northern State University Game
DESCRIPTION:On Sept. 19\, come cheer on the Warrior Volleyball team as they face off against Northern State University. \n\n\n\nSee all sports games in the Athletics calendar. \n\n\n\n    Get Tickets to This Game\n\n\n\n\n\nVenue\n\n\n\n\n\nContact
URL:https://www.winona.edu/about/event/wsu-volleyball-vs-northern-state-university-game-2025/
LOCATION:McCown Gym\, 175 W Mark St\, Winona\, MN\, 55987\, United States
CATEGORIES:Student Life,Warrior Athletics
ATTACH;FMTTYPE=image/jpeg:https://www.winona.edu/about/wp-content/uploads/sites/3/2023/09/WSU_Volleyball-Game-2022-09-30_065228.jpg
ORGANIZER;CN="Jen Flowers":MAILTO:jennifer.flowers@winona.edu
END:VEVENT
BEGIN:VEVENT
DTSTART;TZID=America/Chicago:20250919T190000
DTEND;TZID=America/Chicago:20250919T210000
DTSTAMP:20260424T213333
CREATED:20250730T194219Z
LAST-MODIFIED:20250730T194220Z
UID:10001010-1758308400-1758315600@www.winona.edu
SUMMARY:Family Weekend Bingo
DESCRIPTION:On Sept. 19\, join us for a classic Winona State night of bingo. We’ll host games until we’ve distributed all prizes. \n\n\n\nFree tickets are required for this event. \n\n\n\n    Get Tickets to This Event\n\n\n\n\n\nVenue\n\n\n\n\n\nContact
URL:https://www.winona.edu/about/event/family-weekend-bingo-2025/
LOCATION:Great River Ballroom\, 250 W 10th St\, Winona\, MN\, 55987\, United States
CATEGORIES:Events & Traditions,Student Life
ATTACH;FMTTYPE=image/jpeg:https://www.winona.edu/about/wp-content/uploads/sites/3/2024/11/WSU-male-students-bingo-feature-2023-08-17.jpg
END:VEVENT
END:VCALENDAR