BEGIN:VCALENDAR
VERSION:2.0
PRODID:-//About - ECPv6.15.16//NONSGML v1.0//EN
CALSCALE:GREGORIAN
METHOD:PUBLISH
X-WR-CALNAME:About
X-ORIGINAL-URL:https://www.winona.edu/about
X-WR-CALDESC:Events for About
REFRESH-INTERVAL;VALUE=DURATION:PT1H
X-Robots-Tag:noindex
X-PUBLISHED-TTL:PT1H
BEGIN:VTIMEZONE
TZID:America/Chicago
BEGIN:DAYLIGHT
TZOFFSETFROM:-0600
TZOFFSETTO:-0500
TZNAME:CDT
DTSTART:20240310T080000
END:DAYLIGHT
BEGIN:STANDARD
TZOFFSETFROM:-0500
TZOFFSETTO:-0600
TZNAME:CST
DTSTART:20241103T070000
END:STANDARD
BEGIN:DAYLIGHT
TZOFFSETFROM:-0600
TZOFFSETTO:-0500
TZNAME:CDT
DTSTART:20250309T080000
END:DAYLIGHT
BEGIN:STANDARD
TZOFFSETFROM:-0500
TZOFFSETTO:-0600
TZNAME:CST
DTSTART:20251102T070000
END:STANDARD
BEGIN:DAYLIGHT
TZOFFSETFROM:-0600
TZOFFSETTO:-0500
TZNAME:CDT
DTSTART:20260308T080000
END:DAYLIGHT
BEGIN:STANDARD
TZOFFSETFROM:-0500
TZOFFSETTO:-0600
TZNAME:CST
DTSTART:20261101T070000
END:STANDARD
END:VTIMEZONE
BEGIN:VEVENT
DTSTART;TZID=America/Chicago:20250919T000000
DTEND;TZID=America/Chicago:20250921T235959
DTSTAMP:20260424T213333
CREATED:20250522T162256Z
LAST-MODIFIED:20250522T162257Z
UID:10000222-1758240000-1758499199@www.winona.edu
SUMMARY:Family Weekend
DESCRIPTION:Family Weekend is a great time to hang out with your family.  \n\n\n\nFrom Sept. 19-21\, have fun around town with events at WSU and in Winona. \n\n\n\n    Learn More about Family Weekend\n\n\n\n\n\nVenue\n\n\n\n\n\nContact
URL:https://www.winona.edu/about/event/family-weekend-2025/
LOCATION:Winona Campus\, 175 West Mark Street\, Winona\, MN\, 55987\, United States
CATEGORIES:Student Life
ATTACH;FMTTYPE=image/jpeg:https://www.winona.edu/about/wp-content/uploads/sites/3/2024/11/WSU-female-student-family-member-residence-hall-feature-2023-08-19.jpg
ORGANIZER;CN="Student Activities":MAILTO:studentactivities@winona.edu
END:VEVENT
BEGIN:VEVENT
DTSTART;TZID=America/Chicago:20250920T090000
DTEND;TZID=America/Chicago:20250920T100000
DTSTAMP:20260424T213333
CREATED:20250730T194648Z
LAST-MODIFIED:20250730T194650Z
UID:10000994-1758358800-1758362400@www.winona.edu
SUMMARY:Family Weekend River Cruise
DESCRIPTION:On Sept. 20\, join us for a beautiful 60-minute scenic cruise down the Mississippi River aboard WSU’s Cal Fremling. \n\n\n\nWater and snacks will be provided. Main cabin has heating and cooling capabilities. \n\n\n\nTickets are required. \n\n\n\n    Get Tickets to This Event\n\n\n\n\n\nVenue\n\n\n\n\n\nContact
URL:https://www.winona.edu/about/event/family-weekend-river-cruise-sept-20-9am/
LOCATION:Cal Fremling Boat\, 2 Johnson St\, Winona\, MN\, 55987\, United States
CATEGORIES:Events & Traditions,Student Life
ATTACH;FMTTYPE=image/jpeg:https://www.winona.edu/about/wp-content/uploads/sites/3/2023/08/WSU_Students-Cal-Fremling-2021-09-15_140347.jpg
ORGANIZER;CN="Student Activities":MAILTO:studentactivities@winona.edu
END:VEVENT
BEGIN:VEVENT
DTSTART;TZID=America/Chicago:20250920T093000
DTEND;TZID=America/Chicago:20250920T113000
DTSTAMP:20260424T213333
CREATED:20250730T194627Z
LAST-MODIFIED:20250731T172831Z
UID:10000999-1758360600-1758367800@www.winona.edu
SUMMARY:Family Weekend Welcome & Brunch
DESCRIPTION:On Sept. 20\, join us for brunch and a university welcome from WSU President Kenneth Janz.  \n\n\n\nYour registration also includes a photo booth picture with a branded magnet frame. \n\n\n\nTickets are required for this event. \n\n\n\n    Get Tickets to This Event\n\n\n\n\n\nVenue\n\n\n\n\n\nContact
URL:https://www.winona.edu/about/event/family-weekend-brunch-with-the-president-2025/
LOCATION:Great River Ballroom\, 250 W 10th St\, Winona\, MN\, 55987\, United States
CATEGORIES:Events & Traditions,Student Life
ATTACH;FMTTYPE=image/jpeg:https://www.winona.edu/about/wp-content/uploads/sites/3/2025/07/WSU-male-students-Jack-Kane-dining-center-food-feature-2023-02-15.jpg
ORGANIZER;CN="Student Activities":MAILTO:studentactivities@winona.edu
END:VEVENT
BEGIN:VEVENT
DTSTART;TZID=America/Chicago:20250920T100000
DTEND;TZID=America/Chicago:20250920T140000
DTSTAMP:20260424T213333
CREATED:20250910T170309Z
LAST-MODIFIED:20250910T170310Z
UID:10001137-1758362400-1758376800@www.winona.edu
SUMMARY:Great North Star Read Together
DESCRIPTION:Grab your favorite book and head to the Darrell W. Krueger Library for the very first Great North Star Read Together! \n\n\n\nJoin readers across Minnesota in this statewide read-in event to celebrate and support our libraries. \n\n\n\nThis event is open to students\, faculty\, and staff\, along with Winona community members. \n\n\n\n    Learn More about the Great North Star Read Together\n\n\n\n\n\nVenue\n\n\n\n\n\nContact
URL:https://www.winona.edu/about/event/great-north-star-read-together-2025/
LOCATION:Library Floor 1\, 525 Johnson St\, Winona\, MN\, 55987\, United States
CATEGORIES:Academics,Library,Student Life
ATTACH;FMTTYPE=image/jpeg:https://www.winona.edu/about/wp-content/uploads/sites/3/2025/09/WSU-Student-Reading-12-18-900x600-1.jpg
ORGANIZER;CN="Kayla Olson":MAILTO:kayla.olson@winona.edu
END:VEVENT
BEGIN:VEVENT
DTSTART;TZID=America/Chicago:20250920T103000
DTEND;TZID=America/Chicago:20250920T113000
DTSTAMP:20260424T213333
CREATED:20250730T194554Z
LAST-MODIFIED:20250730T194555Z
UID:10000995-1758364200-1758367800@www.winona.edu
SUMMARY:Family Weekend River Cruise
DESCRIPTION:On Sept. 20\, join us for a beautiful 60-minute scenic cruise down the Mississippi River aboard WSU’s Cal Fremling. \n\n\n\nWater and snacks will be provided. Main cabin has heating and cooling capabilities. \n\n\n\nTickets are required. \n\n\n\n    Get Tickets to This Event\n\n\n\n\n\nVenue\n\n\n\n\n\nContact
URL:https://www.winona.edu/about/event/family-weekend-river-cruise-sept-20-1030am/
LOCATION:Cal Fremling Boat\, 2 Johnson St\, Winona\, MN\, 55987\, United States
CATEGORIES:Events & Traditions,Student Life
ATTACH;FMTTYPE=image/jpeg:https://www.winona.edu/about/wp-content/uploads/sites/3/2023/08/WSU_Students-Cal-Fremling-2021-09-15_140347.jpg
ORGANIZER;CN="Student Activities":MAILTO:studentactivities@winona.edu
END:VEVENT
BEGIN:VEVENT
DTSTART;TZID=America/Chicago:20250920T110000
DTEND;TZID=America/Chicago:20250920T130000
DTSTAMP:20260424T213333
CREATED:20250108T193625Z
LAST-MODIFIED:20250905T145548Z
UID:10000355-1758366000-1758373200@www.winona.edu
SUMMARY:Warrior Game Day Experience
DESCRIPTION:The Warrior Game Day Experience (WGDX) event is a great way to connect with friends and family\, have fun\, boost fan spirit\, and support the Warrior football team. \n\n\n\n    Learn More about WGDX\n\n\n\n\n\nVenue\n\n\n\n\n\nContact
URL:https://www.winona.edu/about/event/warrior-game-day-experience-sept-20/
LOCATION:Johnson Street\, Johnson St.\, Winona\, MN\, 55987\, United States
CATEGORIES:Events & Traditions,Student Life,Warrior Athletics
ATTACH;FMTTYPE=image/jpeg:https://www.winona.edu/about/wp-content/uploads/sites/3/2022/12/WSU-Students-Campus-Event-2022-09-07_141626.jpg
ORGANIZER;CN="Tracy Hale":MAILTO:thale@winona.edu
END:VEVENT
BEGIN:VEVENT
DTSTART;TZID=America/Chicago:20250920T110000
DTEND;TZID=America/Chicago:20250920T130000
DTSTAMP:20260424T213333
CREATED:20250730T195639Z
LAST-MODIFIED:20250730T195640Z
UID:10001011-1758366000-1758373200@www.winona.edu
SUMMARY:Birds of Prey Show
DESCRIPTION:On Sept. 20\, join the Raptor Center for an informative and exciting raptor presentation. \n\n\n\nLearn more about these impressive birds and get an up close look at what they can do. \n\n\n\nTickets are required for this event.  \n\n\n\n    Get Tickets to This Event\n\n\n\n\n\nVenue\n\n\n\n\n\nContact
URL:https://www.winona.edu/about/event/birds-of-prey-show/
LOCATION:Great River Ballroom\, 250 W 10th St\, Winona\, MN\, 55987\, United States
CATEGORIES:Events & Traditions,Student Life
ATTACH;FMTTYPE=image/jpeg:https://www.winona.edu/about/wp-content/uploads/sites/3/2023/10/WSU_Students-Event-2023-01-20_234236.jpg
ORGANIZER;CN="Student Activities":MAILTO:studentactivities@winona.edu
END:VEVENT
BEGIN:VEVENT
DTSTART;TZID=America/Chicago:20250920T110000
DTEND;TZID=America/Chicago:20250920T130000
DTSTAMP:20260424T213333
CREATED:20250910T170026Z
LAST-MODIFIED:20250910T170027Z
UID:10001136-1758366000-1758373200@www.winona.edu
SUMMARY:Food Drive Fundraiser for Warrior Cupboard
DESCRIPTION:Help us stock our on-campus food shelf\, the Warrior Cupboard\, with non-perishable groceries. Look for our table at the Warrior Game Day Experience (WGDX). \n\n\n\n    Learn More about the Warrior Cupboard\n\n\n\n\n\nVenue\n\n\n\n\n\nContact
URL:https://www.winona.edu/about/event/food-drive-fundraiser-for-warrior-cupboard-sept-20/
LOCATION:Johnson Street\, Johnson St.\, Winona\, MN\, 55987\, United States
CATEGORIES:Student Life,Support & Services
ATTACH;FMTTYPE=image/jpeg:https://www.winona.edu/about/wp-content/uploads/sites/3/2024/03/WSU_Student-Seeds-2019-02-14_151702.jpg
ORGANIZER;CN="Aurea Osgood":MAILTO:aosgood@winona.edu
END:VEVENT
BEGIN:VEVENT
DTSTART;TZID=America/Chicago:20250920T110000
DTEND;TZID=America/Chicago:20250920T150000
DTSTAMP:20260424T213333
CREATED:20250902T141140Z
LAST-MODIFIED:20250902T141141Z
UID:10001084-1758366000-1758380400@www.winona.edu
SUMMARY:WSU-Rochester Dogs Downtown Booth
DESCRIPTION:On Sept. 20\, join WSU-Rochester at Dogs Downtown\, a free\, canine-centric event where four-legged friends (and their humans) will have a blast with crafts\, games\, activities\, and giveaways. \n\n\n\nThe WSU-R campus is hosting a booth where you can score WSU-Rochester swag\, learn about transfer resources\, and connect with WSU-R staff. \n\n\n\n\n\nVenue\n\n\n\n\n\nContact
URL:https://www.winona.edu/about/event/wsu-rochester-dogs-downtown-booth/
LOCATION:Central Park\, 225 1st Ave NW\, Rochester\, MN\, 55901\, United States
CATEGORIES:Student Life
ATTACH;FMTTYPE=image/jpeg:https://www.winona.edu/about/wp-content/uploads/sites/3/2025/05/WSU-student-community-member-booth-feature-2024-10-12.jpg
ORGANIZER;CN="WSU-Rochester":MAILTO:wsurochester@winona.edu
END:VEVENT
BEGIN:VEVENT
DTSTART;TZID=America/Chicago:20250920T120000
DTEND;TZID=America/Chicago:20250920T130000
DTSTAMP:20260424T213333
CREATED:20250730T194550Z
LAST-MODIFIED:20250730T194551Z
UID:10000996-1758369600-1758373200@www.winona.edu
SUMMARY:Family Weekend River Cruise
DESCRIPTION:On Sept. 20\, join us for a beautiful 60-minute scenic cruise down the Mississippi River aboard WSU’s Cal Fremling. \n\n\n\nWater and snacks will be provided. Main cabin has heating and cooling capabilities. \n\n\n\nTickets are required. \n\n\n\n    Get Tickets to This Event\n\n\n\n\n\nVenue\n\n\n\n\n\nContact
URL:https://www.winona.edu/about/event/family-weekend-river-cruise-sept-20-12pm/
LOCATION:Cal Fremling Boat\, 2 Johnson St\, Winona\, MN\, 55987\, United States
CATEGORIES:Events & Traditions,Student Life
ATTACH;FMTTYPE=image/jpeg:https://www.winona.edu/about/wp-content/uploads/sites/3/2023/08/WSU_Students-Cal-Fremling-2021-09-15_140347.jpg
ORGANIZER;CN="Student Activities":MAILTO:studentactivities@winona.edu
END:VEVENT
BEGIN:VEVENT
DTSTART;TZID=America/Chicago:20250920T120000
DTEND;TZID=America/Chicago:20250920T190000
DTSTAMP:20260424T213333
CREATED:20250902T141009Z
LAST-MODIFIED:20250902T141010Z
UID:10001083-1758369600-1758394800@www.winona.edu
SUMMARY:WSU-Rochester Latino Fest Booth
DESCRIPTION:On Sept. 20\, join WSU-Rochester at Latino Fest\, an annual event during Hispanic Heritage Month that celebrates Latino culture through art\, live music\, authentic Latin food\, and more. \n\n\n\nThe WSU-R campus is hosting a booth where you can score WSU-Rochester swag\, learn about transfer resources\, and connect with WSU-R staff. \n\n\n\n\n\nVenue\n\n\n\n\n\nContact
URL:https://www.winona.edu/about/event/wsu-rochester-latino-fest-booth/
LOCATION:Peace Plaza\, 38 Peace Plaza\, Rochester\, MN\, 55902\, United States
CATEGORIES:Student Life
ATTACH;FMTTYPE=image/jpeg:https://www.winona.edu/about/wp-content/uploads/sites/3/2025/05/WSU-student-community-member-booth-feature-2024-10-12.jpg
ORGANIZER;CN="WSU-Rochester":MAILTO:wsurochester@winona.edu
END:VEVENT
BEGIN:VEVENT
DTSTART;TZID=America/Chicago:20250920T130000
DTEND;TZID=America/Chicago:20250920T150000
DTSTAMP:20260424T213333
CREATED:20250828T133451Z
LAST-MODIFIED:20250828T133452Z
UID:10000896-1758373200-1758380400@www.winona.edu
SUMMARY:WSU Football vs. Minot State University Game
DESCRIPTION:On Sept. 20\, come cheer on the Warrior Football team as they face off against Minot State University. \n\n\n\nThis game’s theme is Hunger Action Day\, so wear your white attire. \n\n\n\nSee all sports games in the Athletics calendar. \n\n\n\n    Get Tickets to This Game\n\n\n\n\n\nVenue\n\n\n\n\n\nContact
URL:https://www.winona.edu/about/event/wsu-football-vs-minot-state-university-game-2025/
LOCATION:Altra Federal Credit Union Stadium\, 601 Johnson St\, Winona\, MN\, 55987\, United States
CATEGORIES:Student Life,Warrior Athletics
ATTACH;FMTTYPE=image/jpeg:https://www.winona.edu/about/wp-content/uploads/sites/3/2023/08/WSU_Football-Players-2018-09-07_105727.jpg
ORGANIZER;CN="Jen Flowers":MAILTO:jennifer.flowers@winona.edu
END:VEVENT
BEGIN:VEVENT
DTSTART;TZID=America/Chicago:20250920T163000
DTEND;TZID=America/Chicago:20250920T173000
DTSTAMP:20260424T213333
CREATED:20250730T194548Z
LAST-MODIFIED:20250730T194548Z
UID:10000997-1758385800-1758389400@www.winona.edu
SUMMARY:Family Weekend River Cruise
DESCRIPTION:On Sept. 20\, join us for a beautiful 60-minute scenic cruise down the Mississippi River aboard WSU’s Cal Fremling. \n\n\n\nWater and snacks will be provided. Main cabin has heating and cooling capabilities. \n\n\n\nTickets are required. \n\n\n\n    Get Tickets to This Event\n\n\n\n\n\nVenue\n\n\n\n\n\nContact
URL:https://www.winona.edu/about/event/family-weekend-river-cruise-sept-20-430pm/
LOCATION:Cal Fremling Boat\, 2 Johnson St\, Winona\, MN\, 55987\, United States
CATEGORIES:Events & Traditions,Student Life
ATTACH;FMTTYPE=image/jpeg:https://www.winona.edu/about/wp-content/uploads/sites/3/2023/08/WSU_Students-Cal-Fremling-2021-09-15_140347.jpg
ORGANIZER;CN="Student Activities":MAILTO:studentactivities@winona.edu
END:VEVENT
BEGIN:VEVENT
DTSTART;TZID=America/Chicago:20250920T170000
DTEND;TZID=America/Chicago:20250920T190000
DTSTAMP:20260424T213333
CREATED:20250702T192933Z
LAST-MODIFIED:20250702T192933Z
UID:10000903-1758387600-1758394800@www.winona.edu
SUMMARY:WSU Volleyball vs. University of Jamestown Game
DESCRIPTION:On Sept. 20\, come cheer on the Warrior Volleyball team as they face off against the University of Jamestown. \n\n\n\nSee all sports games in the Athletics calendar. \n\n\n\n    Get Tickets to This Game\n\n\n\n\n\nVenue\n\n\n\n\n\nContact
URL:https://www.winona.edu/about/event/wsu-volleyball-vs-university-of-jamestown-game-2025/
LOCATION:McCown Gym\, 175 W Mark St\, Winona\, MN\, 55987\, United States
CATEGORIES:Student Life,Warrior Athletics
ATTACH;FMTTYPE=image/jpeg:https://www.winona.edu/about/wp-content/uploads/sites/3/2023/09/WSU_Volleyball-Game-2022-09-30_065228.jpg
ORGANIZER;CN="Jen Flowers":MAILTO:jennifer.flowers@winona.edu
END:VEVENT
BEGIN:VEVENT
DTSTART;TZID=America/Chicago:20250920T180000
DTEND;TZID=America/Chicago:20250920T190000
DTSTAMP:20260424T213333
CREATED:20250730T194546Z
LAST-MODIFIED:20250730T194547Z
UID:10000998-1758391200-1758394800@www.winona.edu
SUMMARY:Family Weekend River Cruise
DESCRIPTION:On Sept. 20\, join us for a beautiful 60-minute scenic cruise down the Mississippi River aboard WSU’s Cal Fremling. \n\n\n\nWater and snacks will be provided. Main cabin has heating and cooling capabilities. \n\n\n\nTickets are required. \n\n\n\n    Get Tickets to This Event\n\n\n\n\n\nVenue\n\n\n\n\n\nContact
URL:https://www.winona.edu/about/event/family-weekend-river-cruise-sept-20-6pm/
LOCATION:Cal Fremling Boat\, 2 Johnson St\, Winona\, MN\, 55987\, United States
CATEGORIES:Events & Traditions,Student Life
ATTACH;FMTTYPE=image/jpeg:https://www.winona.edu/about/wp-content/uploads/sites/3/2023/08/WSU_Students-Cal-Fremling-2021-09-15_140347.jpg
ORGANIZER;CN="Student Activities":MAILTO:studentactivities@winona.edu
END:VEVENT
BEGIN:VEVENT
DTSTART;TZID=America/Chicago:20250920T190000
DTEND;TZID=America/Chicago:20250920T210000
DTSTAMP:20260424T213333
CREATED:20250730T194806Z
LAST-MODIFIED:20250730T195637Z
UID:10001001-1758394800-1758402000@www.winona.edu
SUMMARY:Comedy Show with David Koechner
DESCRIPTION:On Sept. 20\, enjoy a night of hilarious comedy that you don’t want to miss with comedian and actor David Koechner. \n\n\n\nHe’s known for iconic roles in “Anchorman: The Legend of Ron Burgundy\,” “The Office\,” and “Talladega Nights: The Ballad of Ricky Bobby.” \n\n\n\nTickets are $10 for WSU students and $25 for the public. \n\n\n\n    Get Tickets to This Event\n\n\n\n\n\nVenue\n\n\n\n\n\nContact
URL:https://www.winona.edu/about/event/comedy-show-with-david-koechner/
LOCATION:Great River Ballroom\, 250 W 10th St\, Winona\, MN\, 55987\, United States
CATEGORIES:Events & Traditions,Student Life,Warrior Entertainment Network
ATTACH;FMTTYPE=image/jpeg:https://www.winona.edu/about/wp-content/uploads/sites/3/2025/07/Pro-David-Koechne-feature.jpg
ORGANIZER;CN="Student Activities":MAILTO:studentactivities@winona.edu
END:VEVENT
END:VCALENDAR