BEGIN:VCALENDAR
VERSION:2.0
PRODID:-//About - ECPv6.15.16//NONSGML v1.0//EN
CALSCALE:GREGORIAN
METHOD:PUBLISH
X-WR-CALNAME:About
X-ORIGINAL-URL:https://www.winona.edu/about
X-WR-CALDESC:Events for About
REFRESH-INTERVAL;VALUE=DURATION:PT1H
X-Robots-Tag:noindex
X-PUBLISHED-TTL:PT1H
BEGIN:VTIMEZONE
TZID:America/Chicago
BEGIN:DAYLIGHT
TZOFFSETFROM:-0600
TZOFFSETTO:-0500
TZNAME:CDT
DTSTART:20240310T080000
END:DAYLIGHT
BEGIN:STANDARD
TZOFFSETFROM:-0500
TZOFFSETTO:-0600
TZNAME:CST
DTSTART:20241103T070000
END:STANDARD
BEGIN:DAYLIGHT
TZOFFSETFROM:-0600
TZOFFSETTO:-0500
TZNAME:CDT
DTSTART:20250309T080000
END:DAYLIGHT
BEGIN:STANDARD
TZOFFSETFROM:-0500
TZOFFSETTO:-0600
TZNAME:CST
DTSTART:20251102T070000
END:STANDARD
BEGIN:DAYLIGHT
TZOFFSETFROM:-0600
TZOFFSETTO:-0500
TZNAME:CDT
DTSTART:20260308T080000
END:DAYLIGHT
BEGIN:STANDARD
TZOFFSETFROM:-0500
TZOFFSETTO:-0600
TZNAME:CST
DTSTART:20261101T070000
END:STANDARD
END:VTIMEZONE
BEGIN:VEVENT
DTSTART;TZID=America/Chicago:20250922T000000
DTEND;TZID=America/Chicago:20251121T235959
DTSTAMP:20260424T213332
CREATED:20250827T140249Z
LAST-MODIFIED:20250827T140250Z
UID:10001034-1758499200-1763769599@www.winona.edu
SUMMARY:Intramural Sports
DESCRIPTION:Join intramural sports this semester through team or pick-up leagues.  \n\n\n\nChoose from: \n\n\n\n\nbags\n\n\n\nbasketball\n\n\n\nfootball\n\n\n\npickleball\n\n\n\nsoccer\n\n\n\nvolleyball\n\n\n\n\nTeam leagues must submit their rosters by Sept. 12.  \n\n\n\nPick-up leagues do not have a registration deadline—you can drop in throughout the semester. \n\n\n\n    Learn More about Intramurals\n\n\n\n\n\nVenues\n\n\n\nVaries. Please see the intramurals schedule for more info. \n\n\n\nContact
URL:https://www.winona.edu/about/event/intramural-sports-fall-2025/
LOCATION:MN
CATEGORIES:Clubs & Activities,Health & Wellness,Intramural Sports,Student Life
ATTACH;FMTTYPE=image/jpeg:https://www.winona.edu/about/wp-content/uploads/sites/3/2025/08/WSU-male-student-hitting-pickleball-feauture-2025-03-05.jpg
ORGANIZER;CN="Kaitlyn Calabrese":MAILTO:kaitlyn.calabrese@winona.edu
END:VEVENT
BEGIN:VEVENT
DTSTART;TZID=America/Chicago:20251002T103000
DTEND;TZID=America/Chicago:20251002T120000
DTSTAMP:20260424T213332
CREATED:20250924T165112Z
LAST-MODIFIED:20250924T165112Z
UID:10001195-1759401000-1759406400@www.winona.edu
SUMMARY:Flu Shot Clinic
DESCRIPTION:Students can get a flu shot at the Kryzsko Commons Student Activity Center\, located on campus. \n\n\n\nFlu shots are available via walk-in\, on a first come\, first serve basis. \n\n\n\nRemember to bring a copy of your insurance card. \n\n\n\n\n\nVenue\n\n\n\n\n\nContact
URL:https://www.winona.edu/about/event/flu-shot-clinic-oct-2-morning/
LOCATION:Student Activity Center\, 250 W 10th St\, Winona\, MN\, 55987\, United States
CATEGORIES:Health & Wellness,Student Life
ATTACH;FMTTYPE=image/jpeg:https://www.winona.edu/about/wp-content/uploads/sites/3/2024/10/Pro-Female-Nursing-Students-2015.jpg
ORGANIZER;CN="Grace Rasmussen":MAILTO:grace.rasmussen@winona.edu
END:VEVENT
BEGIN:VEVENT
DTSTART;TZID=America/Chicago:20251002T133000
DTEND;TZID=America/Chicago:20251002T143000
DTSTAMP:20260424T213332
CREATED:20250924T165114Z
LAST-MODIFIED:20250924T165115Z
UID:10001198-1759411800-1759415400@www.winona.edu
SUMMARY:Flu Shot Clinic
DESCRIPTION:Students can get a flu shot at the Science Laboratory Center\, located on campus \n\n\n\nFlu shots are available via walk-in\, on a first come\, first serve basis. \n\n\n\nRemember to bring a copy of your insurance card. \n\n\n\n\n\nVenue\n\n\n\n\n\nContact
URL:https://www.winona.edu/about/event/flu-shot-clinic-oct-2-afternoon/
LOCATION:Science Laboratory Center\, 400 Winona St\, Winona\, MN\, 55987\, United States
CATEGORIES:Health & Wellness,Student Life
ATTACH;FMTTYPE=image/jpeg:https://www.winona.edu/about/wp-content/uploads/sites/3/2024/10/Pro-Female-Nursing-Students-2015.jpg
ORGANIZER;CN="Grace Rasmussen":MAILTO:grace.rasmussen@winona.edu
END:VEVENT
END:VCALENDAR