BEGIN:VCALENDAR
VERSION:2.0
PRODID:-//About - ECPv6.15.16//NONSGML v1.0//EN
CALSCALE:GREGORIAN
METHOD:PUBLISH
X-WR-CALNAME:About
X-ORIGINAL-URL:https://www.winona.edu/about
X-WR-CALDESC:Events for About
REFRESH-INTERVAL;VALUE=DURATION:PT1H
X-Robots-Tag:noindex
X-PUBLISHED-TTL:PT1H
BEGIN:VTIMEZONE
TZID:America/Chicago
BEGIN:DAYLIGHT
TZOFFSETFROM:-0600
TZOFFSETTO:-0500
TZNAME:CDT
DTSTART:20240310T080000
END:DAYLIGHT
BEGIN:STANDARD
TZOFFSETFROM:-0500
TZOFFSETTO:-0600
TZNAME:CST
DTSTART:20241103T070000
END:STANDARD
BEGIN:DAYLIGHT
TZOFFSETFROM:-0600
TZOFFSETTO:-0500
TZNAME:CDT
DTSTART:20250309T080000
END:DAYLIGHT
BEGIN:STANDARD
TZOFFSETFROM:-0500
TZOFFSETTO:-0600
TZNAME:CST
DTSTART:20251102T070000
END:STANDARD
BEGIN:DAYLIGHT
TZOFFSETFROM:-0600
TZOFFSETTO:-0500
TZNAME:CDT
DTSTART:20260308T080000
END:DAYLIGHT
BEGIN:STANDARD
TZOFFSETFROM:-0500
TZOFFSETTO:-0600
TZNAME:CST
DTSTART:20261101T070000
END:STANDARD
END:VTIMEZONE
BEGIN:VEVENT
DTSTART;TZID=America/Chicago:20250922T000000
DTEND;TZID=America/Chicago:20251121T235959
DTSTAMP:20260424T213211
CREATED:20250827T140249Z
LAST-MODIFIED:20250827T140250Z
UID:10001034-1758499200-1763769599@www.winona.edu
SUMMARY:Intramural Sports
DESCRIPTION:Join intramural sports this semester through team or pick-up leagues.  \n\n\n\nChoose from: \n\n\n\n\nbags\n\n\n\nbasketball\n\n\n\nfootball\n\n\n\npickleball\n\n\n\nsoccer\n\n\n\nvolleyball\n\n\n\n\nTeam leagues must submit their rosters by Sept. 12.  \n\n\n\nPick-up leagues do not have a registration deadline—you can drop in throughout the semester. \n\n\n\n    Learn More about Intramurals\n\n\n\n\n\nVenues\n\n\n\nVaries. Please see the intramurals schedule for more info. \n\n\n\nContact
URL:https://www.winona.edu/about/event/intramural-sports-fall-2025/
LOCATION:MN
CATEGORIES:Clubs & Activities,Health & Wellness,Intramural Sports,Student Life
ATTACH;FMTTYPE=image/jpeg:https://www.winona.edu/about/wp-content/uploads/sites/3/2025/08/WSU-male-student-hitting-pickleball-feauture-2025-03-05.jpg
ORGANIZER;CN="Kaitlyn Calabrese":MAILTO:kaitlyn.calabrese@winona.edu
END:VEVENT
BEGIN:VEVENT
DTSTART;TZID=America/Chicago:20251003T130000
DTEND;TZID=America/Chicago:20251003T150000
DTSTAMP:20260424T213211
CREATED:20250717T143955Z
LAST-MODIFIED:20250717T143956Z
UID:10000961-1759496400-1759503600@www.winona.edu
SUMMARY:Senior University Lite: More Than Just Trees 
DESCRIPTION:On Oct. 3\, join us for the first part of this 2-part Senior University class to explore what an arboretum is and the WSU arboretum’s plans for a changing future. \n\n\n\nTaught by WSU Arboretum Committee member Melanie Rapp\, this session will follow a lecture format. Then the second session will feature an outdoor walk through the WSU arboretum to take a closer look at the trees on campus. \n\n\n\nThe course fee of $20 covers both class meetings. \n\n\n\nThis class is for older adults only. \n\n\n\n    Register for This Class\n\n\n\n\n\nVenue\n\n\n\n\n\nContact
URL:https://www.winona.edu/about/event/senior-university-lite-the-wsu-arboretum-more-than-just-trees-oct-3/
LOCATION:Maxwell 272\, 170 W 8th St\, Winona\, MN\, 55987\, United States
CATEGORIES:About,Leadership & Administration
ATTACH;FMTTYPE=image/jpeg:https://www.winona.edu/about/wp-content/uploads/sites/3/2022/12/WSU-Campus-Trees-Spring-2021-04-27_093255.jpg
ORGANIZER;CN="Jess Kauphusman":MAILTO:jkauphusman@winona.edu
END:VEVENT
BEGIN:VEVENT
DTSTART;TZID=America/Chicago:20251003T170000
DTEND;TZID=America/Chicago:20251003T180000
DTSTAMP:20260424T213211
CREATED:20250917T150649Z
LAST-MODIFIED:20250917T150650Z
UID:10001141-1759510800-1759514400@www.winona.edu
SUMMARY:"Winona Sings!" Choir Concert
DESCRIPTION:Enjoy a free performance from Minnesota high school students participating in Winona State’s “Winona Sings!” program. \n\n\n\nAfter spending time with WSU Choir students\, enjoying a voice recital\, and engaging with WSU faculty\, these high school students will take the stage to share the music they’ve learned throughout the day. \n\n\n\n\n\nVenue\n\n\n\n\n\nContact
URL:https://www.winona.edu/about/event/winona-sings-choir-concert-2025/
LOCATION:Harriet Johnson Auditorium\, 175 West Mark Street\, Winona\, MN\, 55987\, United States
CATEGORIES:Academics,Arts & Entertainment,College of Liberal Arts,Colleges,Music Department,Student Life
ATTACH;FMTTYPE=image/jpeg:https://www.winona.edu/about/wp-content/uploads/sites/3/2024/11/WSU-students-chorus-singing-feature-2023-12-02.jpg
ORGANIZER;CN="Marybeth Lenhardt":MAILTO:mlenhardt@winona.edu
END:VEVENT
BEGIN:VEVENT
DTSTART;TZID=America/Chicago:20251003T180000
DTEND;TZID=America/Chicago:20251003T200000
DTSTAMP:20260424T213211
CREATED:20250702T192952Z
LAST-MODIFIED:20250930T151205Z
UID:10000904-1759514400-1759521600@www.winona.edu
SUMMARY:WSU Volleyball vs. Wayne State College Game
DESCRIPTION:On Oct. 3\, come cheer on the Warrior Volleyball team as they face off against Wayne State College. \n\n\n\nSee all sports games in the Athletics calendar. \n\n\n\n    Get Tickets to This Game\n\n\n\n\n\nVenue\n\n\n\n\n\nContact
URL:https://www.winona.edu/about/event/wsu-volleyball-vs-wayne-state-college-game-2025/
LOCATION:McCown Gym\, 175 W Mark St\, Winona\, MN\, 55987\, United States
CATEGORIES:Student Life,Warrior Athletics
ATTACH;FMTTYPE=image/jpeg:https://www.winona.edu/about/wp-content/uploads/sites/3/2023/09/WSU_Volleyball-Game-2022-09-30_065228.jpg
ORGANIZER;CN="Jen Flowers":MAILTO:jennifer.flowers@winona.edu
END:VEVENT
END:VCALENDAR