BEGIN:VCALENDAR
VERSION:2.0
PRODID:-//About - ECPv6.15.16//NONSGML v1.0//EN
CALSCALE:GREGORIAN
METHOD:PUBLISH
X-ORIGINAL-URL:https://www.winona.edu/about
X-WR-CALDESC:Events for About
REFRESH-INTERVAL;VALUE=DURATION:PT1H
X-Robots-Tag:noindex
X-PUBLISHED-TTL:PT1H
BEGIN:VTIMEZONE
TZID:America/Chicago
BEGIN:DAYLIGHT
TZOFFSETFROM:-0600
TZOFFSETTO:-0500
TZNAME:CDT
DTSTART:20240310T080000
END:DAYLIGHT
BEGIN:STANDARD
TZOFFSETFROM:-0500
TZOFFSETTO:-0600
TZNAME:CST
DTSTART:20241103T070000
END:STANDARD
BEGIN:DAYLIGHT
TZOFFSETFROM:-0600
TZOFFSETTO:-0500
TZNAME:CDT
DTSTART:20250309T080000
END:DAYLIGHT
BEGIN:STANDARD
TZOFFSETFROM:-0500
TZOFFSETTO:-0600
TZNAME:CST
DTSTART:20251102T070000
END:STANDARD
BEGIN:DAYLIGHT
TZOFFSETFROM:-0600
TZOFFSETTO:-0500
TZNAME:CDT
DTSTART:20260308T080000
END:DAYLIGHT
BEGIN:STANDARD
TZOFFSETFROM:-0500
TZOFFSETTO:-0600
TZNAME:CST
DTSTART:20261101T070000
END:STANDARD
END:VTIMEZONE
BEGIN:VEVENT
DTSTART;TZID=America/Chicago:20250922T000000
DTEND;TZID=America/Chicago:20251121T235959
DTSTAMP:20260424T213449
CREATED:20250827T140249Z
LAST-MODIFIED:20250827T140250Z
UID:10001034-1758499200-1763769599@www.winona.edu
SUMMARY:Intramural Sports
DESCRIPTION:Join intramural sports this semester through team or pick-up leagues.  \n\n\n\nChoose from: \n\n\n\n\nbags\n\n\n\nbasketball\n\n\n\nfootball\n\n\n\npickleball\n\n\n\nsoccer\n\n\n\nvolleyball\n\n\n\n\nTeam leagues must submit their rosters by Sept. 12.  \n\n\n\nPick-up leagues do not have a registration deadline—you can drop in throughout the semester. \n\n\n\n    Learn More about Intramurals\n\n\n\n\n\nVenues\n\n\n\nVaries. Please see the intramurals schedule for more info. \n\n\n\nContact
URL:https://www.winona.edu/about/event/intramural-sports-fall-2025/
LOCATION:MN
CATEGORIES:Clubs & Activities,Health & Wellness,Intramural Sports,Student Life
ATTACH;FMTTYPE=image/jpeg:https://www.winona.edu/about/wp-content/uploads/sites/3/2025/08/WSU-male-student-hitting-pickleball-feauture-2025-03-05.jpg
ORGANIZER;CN="Kaitlyn Calabrese":MAILTO:kaitlyn.calabrese@winona.edu
END:VEVENT
BEGIN:VEVENT
DTSTART;TZID=America/Chicago:20251004T100000
DTEND;TZID=America/Chicago:20251004T120000
DTSTAMP:20260424T213449
CREATED:20251010T163444Z
LAST-MODIFIED:20251010T163444Z
UID:10001331-1759572000-1759579200@www.winona.edu
SUMMARY:WSU Women's Rugby vs. University of Wisconsin–La Crosse Game
DESCRIPTION:Cheer on the women’s Rugby team as they play against the University of Wisconsin–La Crosse. \n\n\n\n\n\nVenue\n\n\n\n\n\nContact
URL:https://www.winona.edu/about/event/wsu-womens-rugby-vs-university-of-wisconsin-la-crosse-game/
LOCATION:Minnesota State College Southeast (Winona)\, 1250 Homer Road\, Winona\, MN\, 55987\, United States
CATEGORIES:Clubs & Activities,Clubs & Organizations,Sports Clubs,Student Life
ATTACH;FMTTYPE=image/jpeg:https://www.winona.edu/about/wp-content/uploads/sites/3/2025/09/WSU-womens-rugby-team-ball-feature-2025-10-04.jpg
ORGANIZER;CN="Addison Schmidtlein":MAILTO:addison.schmidtlein@go.winona.edu
END:VEVENT
BEGIN:VEVENT
DTSTART;TZID=America/Chicago:20251004T110000
DTEND;TZID=America/Chicago:20251004T130000
DTSTAMP:20260424T213449
CREATED:20250108T194235Z
LAST-MODIFIED:20250905T145542Z
UID:10000356-1759575600-1759582800@www.winona.edu
SUMMARY:Warrior Game Day Experience
DESCRIPTION:The Warrior Game Day Experience (WGDX) event is a great way to connect with friends and family\, have fun\, boost fan spirit\, and support the Warrior football team. \n\n\n\n    Learn More about WGDX\n\n\n\n\n\nVenue\n\n\n\n\n\nContact
URL:https://www.winona.edu/about/event/warrior-game-day-experience-oct-04/
LOCATION:Johnson Street\, Johnson St.\, Winona\, MN\, 55987\, United States
CATEGORIES:Events & Traditions,Student Life,Warrior Athletics
ATTACH;FMTTYPE=image/jpeg:https://www.winona.edu/about/wp-content/uploads/sites/3/2022/12/WSU-Students-Campus-Event-2022-09-07_141626.jpg
ORGANIZER;CN="Tracy Hale":MAILTO:thale@winona.edu
END:VEVENT
BEGIN:VEVENT
DTSTART;TZID=America/Chicago:20251004T130000
DTEND;TZID=America/Chicago:20251004T150000
DTSTAMP:20260424T213449
CREATED:20250828T133601Z
LAST-MODIFIED:20250930T151201Z
UID:10000897-1759582800-1759590000@www.winona.edu
SUMMARY:WSU Football vs. Wayne State College Game
DESCRIPTION:On Oct. 4\, come cheer on the Warrior Football team as they face off against Wayne State College. \n\n\n\nThis game’s theme is Think Pink\, so wear your pink attire. \n\n\n\nSee all sports games in the Athletics calendar. \n\n\n\n    Get Tickets to This Game\n\n\n\n\n\nVenue\n\n\n\n\n\nContact
URL:https://www.winona.edu/about/event/wsu-football-vs-wayne-state-college-game-2025/
LOCATION:Altra Federal Credit Union Stadium\, 601 Johnson St\, Winona\, MN\, 55987\, United States
CATEGORIES:Student Life,Warrior Athletics
ATTACH;FMTTYPE=image/jpeg:https://www.winona.edu/about/wp-content/uploads/sites/3/2023/08/WSU_Football-Players-2018-09-07_105727.jpg
ORGANIZER;CN="Jen Flowers":MAILTO:jennifer.flowers@winona.edu
END:VEVENT
BEGIN:VEVENT
DTSTART;TZID=America/Chicago:20251004T170000
DTEND;TZID=America/Chicago:20251004T190000
DTSTAMP:20260424T213449
CREATED:20250702T193105Z
LAST-MODIFIED:20250930T151156Z
UID:10000905-1759597200-1759604400@www.winona.edu
SUMMARY:WSU Volleyball vs. Augustana University Game
DESCRIPTION:On Oct. 4\, come cheer on the Warrior Volleyball team as they face off against Augustana University. \n\n\n\nSee all sports games in the Athletics calendar. \n\n\n\n    Get Tickets to This Game\n\n\n\n\n\nVenue\n\n\n\n\n\nContact
URL:https://www.winona.edu/about/event/wsu-volleyball-vs-augustana-university-game-2025/
LOCATION:McCown Gym\, 175 W Mark St\, Winona\, MN\, 55987\, United States
CATEGORIES:Student Life,Warrior Athletics
ATTACH;FMTTYPE=image/jpeg:https://www.winona.edu/about/wp-content/uploads/sites/3/2023/09/WSU_Volleyball-Game-2022-09-30_065228.jpg
ORGANIZER;CN="Jen Flowers":MAILTO:jennifer.flowers@winona.edu
END:VEVENT
END:VCALENDAR