BEGIN:VCALENDAR
VERSION:2.0
PRODID:-//About - ECPv6.15.16//NONSGML v1.0//EN
CALSCALE:GREGORIAN
METHOD:PUBLISH
X-ORIGINAL-URL:https://www.winona.edu/about
X-WR-CALDESC:Events for About
REFRESH-INTERVAL;VALUE=DURATION:PT1H
X-Robots-Tag:noindex
X-PUBLISHED-TTL:PT1H
BEGIN:VTIMEZONE
TZID:America/Chicago
BEGIN:DAYLIGHT
TZOFFSETFROM:-0600
TZOFFSETTO:-0500
TZNAME:CDT
DTSTART:20250309T080000
END:DAYLIGHT
BEGIN:STANDARD
TZOFFSETFROM:-0500
TZOFFSETTO:-0600
TZNAME:CST
DTSTART:20251102T070000
END:STANDARD
BEGIN:DAYLIGHT
TZOFFSETFROM:-0600
TZOFFSETTO:-0500
TZNAME:CDT
DTSTART:20260308T080000
END:DAYLIGHT
BEGIN:STANDARD
TZOFFSETFROM:-0500
TZOFFSETTO:-0600
TZNAME:CST
DTSTART:20261101T070000
END:STANDARD
BEGIN:DAYLIGHT
TZOFFSETFROM:-0600
TZOFFSETTO:-0500
TZNAME:CDT
DTSTART:20270314T080000
END:DAYLIGHT
BEGIN:STANDARD
TZOFFSETFROM:-0500
TZOFFSETTO:-0600
TZNAME:CST
DTSTART:20271107T070000
END:STANDARD
END:VTIMEZONE
BEGIN:VEVENT
DTSTART;TZID=America/Chicago:20260127T104500
DTEND;TZID=America/Chicago:20260127T130000
DTSTAMP:20260424T213450
CREATED:20260121T204915Z
LAST-MODIFIED:20260121T204916Z
UID:10001457-1769510700-1769518800@www.winona.edu
SUMMARY:DIY Hand Warmers
DESCRIPTION:Create your own reusable rice-filled hand warmers with this cozy\, hands-on workshop. \n\n\n\nMicrowave for just a few seconds\, and they’re ready to tuck into your pockets for the day and to use all season long. \n\n\n\nCome craft\, relax\, and leave with something useful you made yourself. \n\n\n\nThe cost to attend this event is one meal swipe or $11.28 plus tax with a credit or debit card at the gate. \n\n\n\n\n\nVenue\n\n\n\n\n\nContact\n\n\n\n\n\nDisclaimer\n\n\n\nThe views and opinions expressed by the speakers and programs hosted at Winona State University do not necessarily reflect the views or positions of the university or of the Minnesota State Colleges & Universities system.
URL:https://www.winona.edu/about/event/diy-hand-warmers/
LOCATION:Jack Kane Dining Hall\, 250 W 10th St\, Winona\, MN\, 55987\, United States
CATEGORIES:Housing & Dining,Student Life
ATTACH;FMTTYPE=image/jpeg:https://www.winona.edu/about/wp-content/uploads/sites/3/2025/11/WSU-student-drinking-cup-mittens-feature-2018-10-29.jpg
ORGANIZER;CN="Grace Waller":MAILTO:grace.waller@winon.edu
END:VEVENT
BEGIN:VEVENT
DTSTART;TZID=America/Chicago:20260127T110000
DTEND;TZID=America/Chicago:20260127T133000
DTSTAMP:20260424T213450
CREATED:20250917T145935Z
LAST-MODIFIED:20251103T171021Z
UID:10001164-1769511600-1769520600@www.winona.edu
SUMMARY:Tea Tuesday
DESCRIPTION:Enjoy free tea on the first floor of the library. \n\n\n\n\n\nVenue\n\n\n\n\n\nContact\n\n\n\n\n\nDisclaimer\n\n\n\nThe views and opinions expressed by the speakers and programs hosted at Winona State University do not necessarily reflect the views or positions of the university or of the Minnesota State Colleges & Universities system.
URL:https://www.winona.edu/about/event/tea-tuesday-jan-27/
LOCATION:Library Floor 1\, 525 Johnson St\, Winona\, MN\, 55987\, United States
CATEGORIES:Health & Wellness,Student Life
ATTACH;FMTTYPE=image/jpeg:https://www.winona.edu/about/wp-content/uploads/sites/3/2024/12/WSU-female-student-coffee-mug-feature-2019-06-03.jpg
ORGANIZER;CN="Kayla Olson":MAILTO:kayla.olson@winona.edu
END:VEVENT
BEGIN:VEVENT
DTSTART;TZID=America/Chicago:20260127T133000
DTEND;TZID=America/Chicago:20260127T150000
DTSTAMP:20260424T213450
CREATED:20260127T165747Z
LAST-MODIFIED:20260127T165748Z
UID:10001452-1769520600-1769526000@www.winona.edu
SUMMARY:Senior University Lite: Whale of a Time!
DESCRIPTION:Explore the “Grand Panorama of a Whaling Voyage ‘Round the World” exhibition at the Minnesota Marine Art Museum (MMAM). \n\n\n\nTaught by MMAM curators Heather Casper and Kamala Nair\, this second session will continue our discussion on the exhibition\, the history of whaling\, and the state of whales today. \n\n\n\nThis Senior University class is 2 sessions total\, and the course fee of $20 covers both class meetings. \n\n\n\nThis class is for older adults only. \n\n\n\n    Register for This Class\n\n\n\n\n\nVenue\n\n\n\n\n\nContact\n\n\n\n\n\nDisclaimer\n\n\n\nThe views and opinions expressed by the speakers and programs hosted at Winona State University do not necessarily reflect the views or positions of the university or of the Minnesota State Colleges & Universities system.
URL:https://www.winona.edu/about/event/senior-university-lite-whale-of-a-time-jan-27/
LOCATION:Minnesota Marine Art Museum\, 800 Riverview Dr\, Winona\, MN\, 55987\, United States
CATEGORIES:About,Leadership & Administration
ATTACH;FMTTYPE=image/jpeg:https://www.winona.edu/about/wp-content/uploads/sites/3/2023/08/WSU_Art-Museum-2023-05-09_134557.jpg
ORGANIZER;CN="Jess Kauphusman":MAILTO:jkauphusman@winona.edu
END:VEVENT
END:VCALENDAR