BEGIN:VCALENDAR
VERSION:2.0
PRODID:-//About - ECPv6.15.16//NONSGML v1.0//EN
CALSCALE:GREGORIAN
METHOD:PUBLISH
X-WR-CALNAME:About
X-ORIGINAL-URL:https://www.winona.edu/about
X-WR-CALDESC:Events for About
REFRESH-INTERVAL;VALUE=DURATION:PT1H
X-Robots-Tag:noindex
X-PUBLISHED-TTL:PT1H
BEGIN:VTIMEZONE
TZID:America/Chicago
BEGIN:DAYLIGHT
TZOFFSETFROM:-0600
TZOFFSETTO:-0500
TZNAME:CDT
DTSTART:20250309T080000
END:DAYLIGHT
BEGIN:STANDARD
TZOFFSETFROM:-0500
TZOFFSETTO:-0600
TZNAME:CST
DTSTART:20251102T070000
END:STANDARD
BEGIN:DAYLIGHT
TZOFFSETFROM:-0600
TZOFFSETTO:-0500
TZNAME:CDT
DTSTART:20260308T080000
END:DAYLIGHT
BEGIN:STANDARD
TZOFFSETFROM:-0500
TZOFFSETTO:-0600
TZNAME:CST
DTSTART:20261101T070000
END:STANDARD
BEGIN:DAYLIGHT
TZOFFSETFROM:-0600
TZOFFSETTO:-0500
TZNAME:CDT
DTSTART:20270314T080000
END:DAYLIGHT
BEGIN:STANDARD
TZOFFSETFROM:-0500
TZOFFSETTO:-0600
TZNAME:CST
DTSTART:20271107T070000
END:STANDARD
END:VTIMEZONE
BEGIN:VEVENT
DTSTART;TZID=America/Chicago:20260201T000000
DTEND;TZID=America/Chicago:20260208T235959
DTSTAMP:20260424T213212
CREATED:20260123T162019Z
LAST-MODIFIED:20260123T162020Z
UID:10001460-1769904000-1770595199@www.winona.edu
SUMMARY:Frozen River Film Festival
DESCRIPTION:Celebrate independent film at the Frozen River Film Festival (FRFF). Filmmakers\, students\, and film lovers alike are invited to come together for curated screenings\, conversations\, and special events. \n\n\n\nAttendees can watch feature-length documentaries and shorts as well as join Q&As with filmmakers. \n\n\n\nThis festival is open to the public and free for Winona State students to attend. Students who attend a film are eligible to enter a prize raffle. \n\n\n\nTo receive a free student pass\, go to the FRFF Passes website and enter the code “WSUStudent2026” at checkout. \n\n\n\n    See the Full FRFF Schedule\n\n\n\n\n\nVenues\n\n\n\n\n\n\n\n\n\n\n\nContact\n\n\n\n\n\nDisclaimer\n\n\n\nThe views and opinions expressed by the speakers and programs hosted at Winona State University do not necessarily reflect the views or positions of the university or of the Minnesota State Colleges & Universities system.
URL:https://www.winona.edu/about/event/frozen-river-film-festival-2026/
LOCATION:The ARC\, 255 Main St\, Winona\, MN\, 55987\, United States
CATEGORIES:Academics,Arts & Entertainment,College of Liberal Arts,Colleges,English Department,Student Life
ATTACH;FMTTYPE=image/jpeg:https://www.winona.edu/about/wp-content/uploads/sites/3/2024/11/WSU-students-attending-presentation-feature-2020-02-24.jpg
ORGANIZER;CN="Kay Hannahan":MAILTO:kathryn.hannahan@winona.edu
END:VEVENT
BEGIN:VEVENT
DTSTART;TZID=America/Chicago:20260201T000000
DTEND;TZID=America/Chicago:20260222T235959
DTSTAMP:20260424T213212
CREATED:20251003T151544Z
LAST-MODIFIED:20251103T170923Z
UID:10001265-1769904000-1771804799@www.winona.edu
SUMMARY:2026-27 Priority Housing Application Opens for Current Students
DESCRIPTION:Feb. 1-22 is the priority housing application period for the 2026-27 academic year. \n\n\n\nStudents currently living on campus for Spring 2026 can submit their application and request roommates on their Housing Portal. \n\n\n\n    Learn More about Housing for Current Students\n\n\n\n\n\nVenue\n\n\n\n\n\nContact\n\n\n\n\n\nDisclaimer\n\n\n\nThe views and opinions expressed by the speakers and programs hosted at Winona State University do not necessarily reflect the views or positions of the university or of the Minnesota State Colleges & Universities system.
URL:https://www.winona.edu/about/event/2026-27-priority-housing-application-opens-for-current-students/
LOCATION:Winona Campus\, 175 West Mark Street\, Winona\, MN\, 55987\, United States
CATEGORIES:Housing & Dining,Student Life
ATTACH;FMTTYPE=image/jpeg:https://www.winona.edu/about/wp-content/uploads/sites/3/2025/01/Pro-students-residence-hall-community-feature-2021-10-12.jpg
ORGANIZER;CN="Candice Guenther":MAILTO:cguenther@winona.edu
END:VEVENT
BEGIN:VEVENT
DTSTART;TZID=America/Chicago:20260204T100000
DTEND;TZID=America/Chicago:20260204T113000
DTSTAMP:20260424T213212
CREATED:20260106T215658Z
LAST-MODIFIED:20260106T215659Z
UID:10001399-1770199200-1770204600@www.winona.edu
SUMMARY:Click Into Wednesday: Photo Session
DESCRIPTION:Get your professional photo taken on campus for networking sites like LinkedIn and Handshake. We’ll email your free digital profile picture to your WSU account within 7-10 business days. \n\n\n\nSign up on Handshake to reserve your spot. To schedule your time slot\, apply to the Click Into Wednesday “job” in Handshake. Each photoshoot has a designated “job” to apply for. \n\n\n\nDrop-ins are welcomed\, but you may need to wait for the next available timeslot. \n\n\n\nRemember to bring your student ID (and a smile). \n\n\n\n    Explore Handshake\n\n\n\n\n\nVenue\n\n\n\n\n\nContact\n\n\n\n\n\nDisclaimer\n\n\n\nThe views and opinions expressed by the speakers and programs hosted at Winona State University do not necessarily reflect the views or positions of the university or of the Minnesota State Colleges & Universities system.
URL:https://www.winona.edu/about/event/click-into-wednesday-photo-session-feb-4/
LOCATION:Photo Studio (Phelps B7)\, 175 West Mark Street\, Winona\, MN\, 55987\, United States
CATEGORIES:Career Services,Student Life,Support & Services,Warrior Success Center
ATTACH;FMTTYPE=image/jpeg:https://www.winona.edu/about/wp-content/uploads/sites/3/2026/01/WSU-student-professional-headshot-photo-studio-camera-2025-11-25.jpg
ORGANIZER;CN="DeAnna Goddard":MAILTO:dgoddard@winona.edu
END:VEVENT
BEGIN:VEVENT
DTSTART;TZID=America/Chicago:20260204T130000
DTEND;TZID=America/Chicago:20260204T150000
DTSTAMP:20260424T213212
CREATED:20250905T142248Z
LAST-MODIFIED:20251103T170858Z
UID:10001110-1770210000-1770217200@www.winona.edu
SUMMARY:S'more Fun
DESCRIPTION:On Feb. 4\, stop by the Fire Feature Patio for free marshmallow goodness (weather-permitting). \n\n\n\n\n\nVenue\n\n\n\n\n\nContact\n\n\n\n\n\nDisclaimer\n\n\n\nThe views and opinions expressed by the speakers and programs hosted at Winona State University do not necessarily reflect the views or positions of the university or of the Minnesota State Colleges & Universities system.
URL:https://www.winona.edu/about/event/smore-fun-feb-4/
LOCATION:Fire Feature Patio\, 250 W 10th St\, Winona\, MN\, 55987\, United States
CATEGORIES:Events & Traditions,Student Life
ATTACH;FMTTYPE=image/jpeg:https://www.winona.edu/about/wp-content/uploads/sites/3/2025/01/WSU-female-students-roasting-smores-fire-feature-2023-08-18.jpg
ORGANIZER;CN="George Micalone":MAILTO:george.micalone@winona.edu
END:VEVENT
BEGIN:VEVENT
DTSTART;TZID=America/Chicago:20260204T140000
DTEND;TZID=America/Chicago:20260204T160000
DTSTAMP:20260424T213212
CREATED:20260127T165625Z
LAST-MODIFIED:20260127T165626Z
UID:10001453-1770213600-1770220800@www.winona.edu
SUMMARY:Senior University: The Aging Brain
DESCRIPTION:Join a discussion about the aging brain and the science of strokes. You’ll also learn about stroke warning signs\, risk factors\, prevention\, and treatment. \n\n\n\nTaught by neuroscientist Dr. Richard Deyo\, this first session invites participants to explore hands-on memory and movement activities\, plus some basic microscope work in Winona State’s Neurosciences Lab. \n\n\n\nThis Senior University class is 5 sessions total\, and the course fee of $40 covers all 5 class meetings. \n\n\n\nThis class is for older adults only. \n\n\n\n    Register for This Class\n\n\n\n\n\nVenue\n\n\n\n\n\nContact\n\n\n\n\n\nDisclaimer\n\n\n\nThe views and opinions expressed by the speakers and programs hosted at Winona State University do not necessarily reflect the views or positions of the university or of the Minnesota State Colleges & Universities system.
URL:https://www.winona.edu/about/event/senior-university-the-aging-brain-feb-4/
LOCATION:Phelps 210\, 175 West Mark Street\, Winona\, MN\, 55987\, United States
CATEGORIES:About,Leadership & Administration
ATTACH;FMTTYPE=image/jpeg:https://www.winona.edu/about/wp-content/uploads/sites/3/2023/02/WSU-Student-Older-Adult-Blood-Pressure-2016-09-23.jpg
ORGANIZER;CN="Jess Kauphusman":MAILTO:jkauphusman@winona.edu
END:VEVENT
END:VCALENDAR