BEGIN:VCALENDAR
VERSION:2.0
PRODID:-//About - ECPv6.15.16//NONSGML v1.0//EN
CALSCALE:GREGORIAN
METHOD:PUBLISH
X-ORIGINAL-URL:https://www.winona.edu/about
X-WR-CALDESC:Events for About
REFRESH-INTERVAL;VALUE=DURATION:PT1H
X-Robots-Tag:noindex
X-PUBLISHED-TTL:PT1H
BEGIN:VTIMEZONE
TZID:America/Chicago
BEGIN:DAYLIGHT
TZOFFSETFROM:-0600
TZOFFSETTO:-0500
TZNAME:CDT
DTSTART:20250309T080000
END:DAYLIGHT
BEGIN:STANDARD
TZOFFSETFROM:-0500
TZOFFSETTO:-0600
TZNAME:CST
DTSTART:20251102T070000
END:STANDARD
BEGIN:DAYLIGHT
TZOFFSETFROM:-0600
TZOFFSETTO:-0500
TZNAME:CDT
DTSTART:20260308T080000
END:DAYLIGHT
BEGIN:STANDARD
TZOFFSETFROM:-0500
TZOFFSETTO:-0600
TZNAME:CST
DTSTART:20261101T070000
END:STANDARD
BEGIN:DAYLIGHT
TZOFFSETFROM:-0600
TZOFFSETTO:-0500
TZNAME:CDT
DTSTART:20270314T080000
END:DAYLIGHT
BEGIN:STANDARD
TZOFFSETFROM:-0500
TZOFFSETTO:-0600
TZNAME:CST
DTSTART:20271107T070000
END:STANDARD
END:VTIMEZONE
BEGIN:VEVENT
DTSTART;TZID=America/Chicago:20260201T000000
DTEND;TZID=America/Chicago:20260208T235959
DTSTAMP:20260424T213450
CREATED:20260123T162019Z
LAST-MODIFIED:20260123T162020Z
UID:10001460-1769904000-1770595199@www.winona.edu
SUMMARY:Frozen River Film Festival
DESCRIPTION:Celebrate independent film at the Frozen River Film Festival (FRFF). Filmmakers\, students\, and film lovers alike are invited to come together for curated screenings\, conversations\, and special events. \n\n\n\nAttendees can watch feature-length documentaries and shorts as well as join Q&As with filmmakers. \n\n\n\nThis festival is open to the public and free for Winona State students to attend. Students who attend a film are eligible to enter a prize raffle. \n\n\n\nTo receive a free student pass\, go to the FRFF Passes website and enter the code “WSUStudent2026” at checkout. \n\n\n\n    See the Full FRFF Schedule\n\n\n\n\n\nVenues\n\n\n\n\n\n\n\n\n\n\n\nContact\n\n\n\n\n\nDisclaimer\n\n\n\nThe views and opinions expressed by the speakers and programs hosted at Winona State University do not necessarily reflect the views or positions of the university or of the Minnesota State Colleges & Universities system.
URL:https://www.winona.edu/about/event/frozen-river-film-festival-2026/
LOCATION:The ARC\, 255 Main St\, Winona\, MN\, 55987\, United States
CATEGORIES:Academics,Arts & Entertainment,College of Liberal Arts,Colleges,English Department,Student Life
ATTACH;FMTTYPE=image/jpeg:https://www.winona.edu/about/wp-content/uploads/sites/3/2024/11/WSU-students-attending-presentation-feature-2020-02-24.jpg
ORGANIZER;CN="Kay Hannahan":MAILTO:kathryn.hannahan@winona.edu
END:VEVENT
BEGIN:VEVENT
DTSTART;TZID=America/Chicago:20260201T000000
DTEND;TZID=America/Chicago:20260222T235959
DTSTAMP:20260424T213450
CREATED:20251003T151544Z
LAST-MODIFIED:20251103T170923Z
UID:10001265-1769904000-1771804799@www.winona.edu
SUMMARY:2026-27 Priority Housing Application Opens for Current Students
DESCRIPTION:Feb. 1-22 is the priority housing application period for the 2026-27 academic year. \n\n\n\nStudents currently living on campus for Spring 2026 can submit their application and request roommates on their Housing Portal. \n\n\n\n    Learn More about Housing for Current Students\n\n\n\n\n\nVenue\n\n\n\n\n\nContact\n\n\n\n\n\nDisclaimer\n\n\n\nThe views and opinions expressed by the speakers and programs hosted at Winona State University do not necessarily reflect the views or positions of the university or of the Minnesota State Colleges & Universities system.
URL:https://www.winona.edu/about/event/2026-27-priority-housing-application-opens-for-current-students/
LOCATION:Winona Campus\, 175 West Mark Street\, Winona\, MN\, 55987\, United States
CATEGORIES:Housing & Dining,Student Life
ATTACH;FMTTYPE=image/jpeg:https://www.winona.edu/about/wp-content/uploads/sites/3/2025/01/Pro-students-residence-hall-community-feature-2021-10-12.jpg
ORGANIZER;CN="Candice Guenther":MAILTO:cguenther@winona.edu
END:VEVENT
BEGIN:VEVENT
DTSTART;TZID=America/Chicago:20260207T130000
DTEND;TZID=America/Chicago:20260207T150000
DTSTAMP:20260424T213450
CREATED:20251001T151110Z
LAST-MODIFIED:20251107T164553Z
UID:10001242-1770469200-1770476400@www.winona.edu
SUMMARY:WSU Women's Basketball vs. Augustana University Game
DESCRIPTION:Come cheer on the women’s Basketball team as they face off against Augustana University. \n\n\n\nSee all sports games in the Athletics calendar. \n\n\n\n    Get Tickets to This Game\n\n\n\n\n\nVenue\n\n\n\n\n\nContact\n\n\n\n\n\nDisclaimer\n\n\n\nThe views and opinions expressed by the speakers and programs hosted at Winona State University do not necessarily reflect the views or positions of the university or of the Minnesota State Colleges & Universities system.
URL:https://www.winona.edu/about/event/wsu-womens-basketball-vs-augustana-university-game-2026/
LOCATION:McCown Gym\, 175 W Mark St\, Winona\, MN\, 55987\, United States
CATEGORIES:Student Life,Warrior Athletics
ATTACH;FMTTYPE=image/jpeg:https://www.winona.edu/about/wp-content/uploads/sites/3/2025/09/WSU-Womens-Basketball-01-15-22.jpg
ORGANIZER;CN="Jen Flowers":MAILTO:jennifer.flowers@winona.edu
END:VEVENT
BEGIN:VEVENT
DTSTART;TZID=America/Chicago:20260207T130000
DTEND;TZID=America/Chicago:20260207T150000
DTSTAMP:20260424T213450
CREATED:20251003T150439Z
LAST-MODIFIED:20251107T164545Z
UID:10001259-1770469200-1770476400@www.winona.edu
SUMMARY:WSU Women's Tennis vs. University of Wisconsin-Eau Claire Game
DESCRIPTION:Come cheer on the women’s Tennis team as they compete against the University of Wisconsin-Eau Claire. \n\n\n\nSee all sports games in the Athletics calendar. \n\n\n\n\n\nVenue\n\n\n\n\n\nContact\n\n\n\n\n\nDisclaimer\n\n\n\nThe views and opinions expressed by the speakers and programs hosted at Winona State University do not necessarily reflect the views or positions of the university or of the Minnesota State Colleges & Universities system.
URL:https://www.winona.edu/about/event/wsu-womens-tennis-vs-university-of-wisconsin-eau-claire-game-2026/
LOCATION:Winona Tennis Center\, 360 Vila St\, Winona\, MN\, 55987\, United States
CATEGORIES:Student Life,Warrior Athletics
ATTACH;FMTTYPE=image/jpeg:https://www.winona.edu/about/wp-content/uploads/sites/3/2025/02/Pro-womens-tennis-athlete-racket-court-feature-2022-04-04.jpg
ORGANIZER;CN="Jen Flowers":MAILTO:jennifer.flowers@winona.edu
END:VEVENT
BEGIN:VEVENT
DTSTART;TZID=America/Chicago:20260207T150000
DTEND;TZID=America/Chicago:20260207T170000
DTSTAMP:20260424T213450
CREATED:20251003T150437Z
LAST-MODIFIED:20251107T164539Z
UID:10001281-1770476400-1770483600@www.winona.edu
SUMMARY:WSU Men's Basketball vs. Augustana University Game
DESCRIPTION:Come cheer on the men’s Basketball team as they face off against Augustana University. \n\n\n\nSee all sports games in the Athletics calendar. \n\n\n\n    Get Tickets to This Game\n\n\n\n\n\nVenue\n\n\n\n\n\nContact\n\n\n\n\n\nDisclaimer\n\n\n\nThe views and opinions expressed by the speakers and programs hosted at Winona State University do not necessarily reflect the views or positions of the university or of the Minnesota State Colleges & Universities system.
URL:https://www.winona.edu/about/event/wsu-mens-basketball-vs-augustana-university-game-2026/
LOCATION:McCown Gym\, 175 W Mark St\, Winona\, MN\, 55987\, United States
CATEGORIES:Student Life,Warrior Athletics
ATTACH;FMTTYPE=image/jpeg:https://www.winona.edu/about/wp-content/uploads/sites/3/2025/02/Pro-mens-basketball-player-court-feature-2022-11-06.jpg
ORGANIZER;CN="Jen Flowers":MAILTO:jennifer.flowers@winona.edu
END:VEVENT
END:VCALENDAR