BEGIN:VCALENDAR
VERSION:2.0
PRODID:-//About - ECPv6.15.16//NONSGML v1.0//EN
CALSCALE:GREGORIAN
METHOD:PUBLISH
X-ORIGINAL-URL:https://www.winona.edu/about
X-WR-CALDESC:Events for About
REFRESH-INTERVAL;VALUE=DURATION:PT1H
X-Robots-Tag:noindex
X-PUBLISHED-TTL:PT1H
BEGIN:VTIMEZONE
TZID:America/Chicago
BEGIN:DAYLIGHT
TZOFFSETFROM:-0600
TZOFFSETTO:-0500
TZNAME:CDT
DTSTART:20250309T080000
END:DAYLIGHT
BEGIN:STANDARD
TZOFFSETFROM:-0500
TZOFFSETTO:-0600
TZNAME:CST
DTSTART:20251102T070000
END:STANDARD
BEGIN:DAYLIGHT
TZOFFSETFROM:-0600
TZOFFSETTO:-0500
TZNAME:CDT
DTSTART:20260308T080000
END:DAYLIGHT
BEGIN:STANDARD
TZOFFSETFROM:-0500
TZOFFSETTO:-0600
TZNAME:CST
DTSTART:20261101T070000
END:STANDARD
BEGIN:DAYLIGHT
TZOFFSETFROM:-0600
TZOFFSETTO:-0500
TZNAME:CDT
DTSTART:20270314T080000
END:DAYLIGHT
BEGIN:STANDARD
TZOFFSETFROM:-0500
TZOFFSETTO:-0600
TZNAME:CST
DTSTART:20271107T070000
END:STANDARD
END:VTIMEZONE
BEGIN:VEVENT
DTSTART;TZID=America/Chicago:20260201T000000
DTEND;TZID=America/Chicago:20260222T235959
DTSTAMP:20260424T213526
CREATED:20251003T151544Z
LAST-MODIFIED:20251103T170923Z
UID:10001265-1769904000-1771804799@www.winona.edu
SUMMARY:2026-27 Priority Housing Application Opens for Current Students
DESCRIPTION:Feb. 1-22 is the priority housing application period for the 2026-27 academic year. \n\n\n\nStudents currently living on campus for Spring 2026 can submit their application and request roommates on their Housing Portal. \n\n\n\n    Learn More about Housing for Current Students\n\n\n\n\n\nVenue\n\n\n\n\n\nContact\n\n\n\n\n\nDisclaimer\n\n\n\nThe views and opinions expressed by the speakers and programs hosted at Winona State University do not necessarily reflect the views or positions of the university or of the Minnesota State Colleges & Universities system.
URL:https://www.winona.edu/about/event/2026-27-priority-housing-application-opens-for-current-students/
LOCATION:Winona Campus\, 175 West Mark Street\, Winona\, MN\, 55987\, United States
CATEGORIES:Housing & Dining,Student Life
ATTACH;FMTTYPE=image/jpeg:https://www.winona.edu/about/wp-content/uploads/sites/3/2025/01/Pro-students-residence-hall-community-feature-2021-10-12.jpg
ORGANIZER;CN="Candice Guenther":MAILTO:cguenther@winona.edu
END:VEVENT
BEGIN:VEVENT
DTSTART;TZID=America/Chicago:20260210T000000
DTEND;TZID=America/Chicago:20260210T235959
DTSTAMP:20260424T213526
CREATED:20250109T163152Z
LAST-MODIFIED:20260121T221437Z
UID:10000404-1770681600-1770767999@www.winona.edu
SUMMARY:University Assessment Day
DESCRIPTION:University Assessment Day is Feb. 10. This date is also a Non-Class Faculty Duty Day.  \n\n\n\nClasses meeting before 3:30pm are cancelled. Labs and classes meeting once per week may still meet as scheduled. Offices may also still be open today. \n\n\n\n\n\nVenue\n\n\n\n\n\nContact\n\n\n\n\n\nDisclaimer\n\n\n\nThe views and opinions expressed by the speakers and programs hosted at Winona State University do not necessarily reflect the views or positions of the university or of the Minnesota State Colleges & Universities system.
URL:https://www.winona.edu/about/event/university-assessment-day-2026/
LOCATION:Winona Campus\, 175 West Mark Street\, Winona\, MN\, 55987\, United States
CATEGORIES:No Classes/Offices Closed
ATTACH;FMTTYPE=image/jpeg:https://www.winona.edu/about/wp-content/uploads/sites/3/2022/12/WSU-Letters-2019-09-25_183226.jpg
ORGANIZER;CN="Academic Affairs":MAILTO:academicaffairs@winona.edu
END:VEVENT
BEGIN:VEVENT
DTSTART;TZID=America/Chicago:20260210T100000
DTEND;TZID=America/Chicago:20260210T130000
DTSTAMP:20260424T213526
CREATED:20260122T180731Z
LAST-MODIFIED:20260122T180732Z
UID:10001439-1770717600-1770728400@www.winona.edu
SUMMARY:Retiree Movie Morning
DESCRIPTION:The Retiree Center invites you and a guest to enjoy a free movie at the Winona 7 Theatre. \n\n\n\nThe name of the movie will be emailed to all retirees one week prior to the event. \n\n\n\nThis event is for Winona State retirees and their guests. \n\n\n\n\n\nVenue\n\n\n\n\n\nContact\n\n\n\n\n\nDisclaimer\n\n\n\nThe views and opinions expressed by the speakers and programs hosted at Winona State University do not necessarily reflect the views or positions of the university or of the Minnesota State Colleges & Universities system.
URL:https://www.winona.edu/about/event/retiree-movie-mornings-feb-10/
LOCATION:Winona 7 Theatre\, 70 W 2nd St\, Winona\, MN\, 55987\, United States
CATEGORIES:About,Leadership & Administration
ATTACH;FMTTYPE=image/jpeg:https://www.winona.edu/about/wp-content/uploads/sites/3/2024/12/WSU-empty-auditorium-chairs-feature-2016-03-30.jpg
ORGANIZER;CN="Jess Kauphusman":MAILTO:jkauphusman@winona.edu
END:VEVENT
BEGIN:VEVENT
DTSTART;TZID=America/Chicago:20260210T110000
DTEND;TZID=America/Chicago:20260210T133000
DTSTAMP:20260424T213526
CREATED:20250917T145931Z
LAST-MODIFIED:20251107T164526Z
UID:10001166-1770721200-1770730200@www.winona.edu
SUMMARY:Tea Tuesday
DESCRIPTION:Enjoy free tea on the first floor of the library. \n\n\n\n\n\nVenue\n\n\n\n\n\nContact\n\n\n\n\n\nDisclaimer\n\n\n\nThe views and opinions expressed by the speakers and programs hosted at Winona State University do not necessarily reflect the views or positions of the university or of the Minnesota State Colleges & Universities system.
URL:https://www.winona.edu/about/event/tea-tuesday-feb-10/
LOCATION:Library Floor 1\, 525 Johnson St\, Winona\, MN\, 55987\, United States
CATEGORIES:Health & Wellness,Student Life
ATTACH;FMTTYPE=image/jpeg:https://www.winona.edu/about/wp-content/uploads/sites/3/2024/12/WSU-female-student-coffee-mug-feature-2019-06-03.jpg
ORGANIZER;CN="Kayla Olson":MAILTO:kayla.olson@winona.edu
END:VEVENT
BEGIN:VEVENT
DTSTART;TZID=America/Chicago:20260210T130000
DTEND;TZID=America/Chicago:20260210T160000
DTSTAMP:20260424T213526
CREATED:20260205T170006Z
LAST-MODIFIED:20260205T170007Z
UID:10001523-1770728400-1770739200@www.winona.edu
SUMMARY:Cultural Competence Training with the Honoring Dakota Project
DESCRIPTION:Winona State’s Office of Equity & Inclusive Excellence is partnering with the Honoring Dakota Project to offer a collaborative learning experience. This cultural competence training is about Dakota history\, advocacy\, and shared perspectives. \n\n\n\nPlease note that in-person participants are expected to attend the full 3-hour session. Virtual attendance is limited to online and Rochester-based students. \n\n\n\nRegistration is encouraged. Refreshments will be provided for in-person attendees. \n\n\n\n    Register for This Event\n\n\n\n\n\nVenue\n\n\n\n\n\nContact\n\n\n\n\n\nDisclaimer\n\n\n\nThe views and opinions expressed by the speakers and programs hosted at Winona State University do not necessarily reflect the views or positions of the university or of the Minnesota State Colleges & Universities system.
URL:https://www.winona.edu/about/event/cultural-competence-training-with-the-honoring-dakota-project/
LOCATION:Great River Ballroom\, 250 W 10th St\, Winona\, MN\, 55987\, United States
CATEGORIES:Equity & Inclusive Excellence,Student Life,Support & Services
ATTACH;FMTTYPE=image/jpeg:https://www.winona.edu/about/wp-content/uploads/sites/3/2024/11/WSU-native-american-indigenous-artificat-feature-2017-09-07.jpg
ORGANIZER;CN="Charles Martin-Stanley II":MAILTO:charles.martin-stanley@winona.edu
END:VEVENT
END:VCALENDAR