BEGIN:VCALENDAR
VERSION:2.0
PRODID:-//About - ECPv6.15.16//NONSGML v1.0//EN
CALSCALE:GREGORIAN
METHOD:PUBLISH
X-ORIGINAL-URL:https://www.winona.edu/about
X-WR-CALDESC:Events for About
REFRESH-INTERVAL;VALUE=DURATION:PT1H
X-Robots-Tag:noindex
X-PUBLISHED-TTL:PT1H
BEGIN:VTIMEZONE
TZID:America/Chicago
BEGIN:DAYLIGHT
TZOFFSETFROM:-0600
TZOFFSETTO:-0500
TZNAME:CDT
DTSTART:20250309T080000
END:DAYLIGHT
BEGIN:STANDARD
TZOFFSETFROM:-0500
TZOFFSETTO:-0600
TZNAME:CST
DTSTART:20251102T070000
END:STANDARD
BEGIN:DAYLIGHT
TZOFFSETFROM:-0600
TZOFFSETTO:-0500
TZNAME:CDT
DTSTART:20260308T080000
END:DAYLIGHT
BEGIN:STANDARD
TZOFFSETFROM:-0500
TZOFFSETTO:-0600
TZNAME:CST
DTSTART:20261101T070000
END:STANDARD
BEGIN:DAYLIGHT
TZOFFSETFROM:-0600
TZOFFSETTO:-0500
TZNAME:CDT
DTSTART:20270314T080000
END:DAYLIGHT
BEGIN:STANDARD
TZOFFSETFROM:-0500
TZOFFSETTO:-0600
TZNAME:CST
DTSTART:20271107T070000
END:STANDARD
END:VTIMEZONE
BEGIN:VEVENT
DTSTART;TZID=America/Chicago:20260201T000000
DTEND;TZID=America/Chicago:20260222T235959
DTSTAMP:20260424T213619
CREATED:20251003T151544Z
LAST-MODIFIED:20251103T170923Z
UID:10001265-1769904000-1771804799@www.winona.edu
SUMMARY:2026-27 Priority Housing Application Opens for Current Students
DESCRIPTION:Feb. 1-22 is the priority housing application period for the 2026-27 academic year. \n\n\n\nStudents currently living on campus for Spring 2026 can submit their application and request roommates on their Housing Portal. \n\n\n\n    Learn More about Housing for Current Students\n\n\n\n\n\nVenue\n\n\n\n\n\nContact\n\n\n\n\n\nDisclaimer\n\n\n\nThe views and opinions expressed by the speakers and programs hosted at Winona State University do not necessarily reflect the views or positions of the university or of the Minnesota State Colleges & Universities system.
URL:https://www.winona.edu/about/event/2026-27-priority-housing-application-opens-for-current-students/
LOCATION:Winona Campus\, 175 West Mark Street\, Winona\, MN\, 55987\, United States
CATEGORIES:Housing & Dining,Student Life
ATTACH;FMTTYPE=image/jpeg:https://www.winona.edu/about/wp-content/uploads/sites/3/2025/01/Pro-students-residence-hall-community-feature-2021-10-12.jpg
ORGANIZER;CN="Candice Guenther":MAILTO:cguenther@winona.edu
END:VEVENT
BEGIN:VEVENT
DTSTART;TZID=America/Chicago:20260212T100000
DTEND;TZID=America/Chicago:20260212T130000
DTSTAMP:20260424T213619
CREATED:20260123T154046Z
LAST-MODIFIED:20260217T214502Z
UID:10001465-1770890400-1770901200@www.winona.edu
SUMMARY:Summer Session Pop-Up: Sweet Treats & Smart Schedules
DESCRIPTION:Stop by the Lower Hyphen in Kryzsko Commons to chat about summer courses and enjoy a sweet treat. \n\n\n\nWinona State’s Summer Session is a great opportunity for students to catch up\, keep up\, or get ahead with over 250 classes offered—including online\, in-person\, hybrid\, internship\, and faculty-led study abroad options. \n\n\n\n    Learn More about Summer Session\n\n\n\n\n\nVenue\n\n\n\n\n\nContact\n\n\n\n\n\nDisclaimer\n\n\n\nThe views and opinions expressed by the speakers and programs hosted at Winona State University do not necessarily reflect the views or positions of the university or of the Minnesota State Colleges & Universities system.
URL:https://www.winona.edu/about/event/summer-session-pop-up-sweet-treats-smart-schedules-feb-12/
LOCATION:Kryzsko Commons\, 250 W 10th St\, Winona\, MN\, 55987\, United States
CATEGORIES:Academics
ATTACH;FMTTYPE=image/jpeg:https://www.winona.edu/about/wp-content/uploads/sites/3/2024/11/WSU-advisor-meeting-student-feature-2023-03-01.jpg
ORGANIZER;CN="Abby Raichert":MAILTO:abby.raichert@winona.edu
END:VEVENT
BEGIN:VEVENT
DTSTART;TZID=America/Chicago:20260212T140000
DTEND;TZID=America/Chicago:20260212T160000
DTSTAMP:20260424T213619
CREATED:20260210T214230Z
LAST-MODIFIED:20260210T214231Z
UID:10001477-1770904800-1770912000@www.winona.edu
SUMMARY:Retiree Discussion Group: War\, Peace\, & Terrorism
DESCRIPTION:Join us for the third session of this discussion-based group to discuss timely global issues in a Socrates Café-style format. \n\n\n\nLed by Emeritus Professor of Philosophy Don E. Scheid\, this group will explore complex themes of war\, the pursuit of peace\, and the changing nature of terrorism. \n\n\n\nOpen to all adult learners within and beyond the Winona State University community. \n\n\n\n\n\nVenue\n\n\n\n\n\nContact\n\n\n\n\n\nDisclaimer\n\n\n\nThe views and opinions expressed by the speakers and programs hosted at Winona State University do not necessarily reflect the views or positions of the university or of the Minnesota State Colleges & Universities system.
URL:https://www.winona.edu/about/event/retiree-discussion-group-war-peace-terrorism-feb-12/
LOCATION:Minné 236\, 525 Washington St\, Winona\, MN\, 55987\, United States
CATEGORIES:About,Leadership & Administration
ATTACH;FMTTYPE=image/jpeg:https://www.winona.edu/about/wp-content/uploads/sites/3/2025/07/WSU-Retiree-adults-feature-2023-04-27.jpg
ORGANIZER;CN="Jess Kauphusman":MAILTO:jkauphusman@winona.edu
END:VEVENT
BEGIN:VEVENT
DTSTART;TZID=America/Chicago:20260212T163000
DTEND;TZID=America/Chicago:20260212T200000
DTSTAMP:20260424T213619
CREATED:20260121T205419Z
LAST-MODIFIED:20260121T205420Z
UID:10001458-1770913800-1770926400@www.winona.edu
SUMMARY:DIY Valentine's Day Cookie Decorating
DESCRIPTION:Celebrate the season of sweet treats and creativity by designing your own festive and delicious cookies at the Jack Kane Dining Hall. \n\n\n\nThe cost to attend this event is one meal swipe or $11.28 plus tax with a credit or debit card at the gate. \n\n\n\n\n\nVenue\n\n\n\n\n\nContact\n\n\n\n\n\nDisclaimer\n\n\n\nThe views and opinions expressed by the speakers and programs hosted at Winona State University do not necessarily reflect the views or positions of the university or of the Minnesota State Colleges & Universities system.
URL:https://www.winona.edu/about/event/diy-valentines-day-cookie-decorating/
LOCATION:Jack Kane Dining Hall\, 250 W 10th St\, Winona\, MN\, 55987\, United States
CATEGORIES:Housing & Dining,Student Life
ATTACH;FMTTYPE=image/jpeg:https://www.winona.edu/about/wp-content/uploads/sites/3/2025/07/WSU-male-students-Jack-Kane-dining-center-food-feature-2023-02-15.jpg
ORGANIZER;CN="Grace Waller":MAILTO:grace.waller@winon.edu
END:VEVENT
END:VCALENDAR