BEGIN:VCALENDAR
VERSION:2.0
PRODID:-//About - ECPv6.15.16//NONSGML v1.0//EN
CALSCALE:GREGORIAN
METHOD:PUBLISH
X-WR-CALNAME:About
X-ORIGINAL-URL:https://www.winona.edu/about
X-WR-CALDESC:Events for About
REFRESH-INTERVAL;VALUE=DURATION:PT1H
X-Robots-Tag:noindex
X-PUBLISHED-TTL:PT1H
BEGIN:VTIMEZONE
TZID:America/Chicago
BEGIN:DAYLIGHT
TZOFFSETFROM:-0600
TZOFFSETTO:-0500
TZNAME:CDT
DTSTART:20250309T080000
END:DAYLIGHT
BEGIN:STANDARD
TZOFFSETFROM:-0500
TZOFFSETTO:-0600
TZNAME:CST
DTSTART:20251102T070000
END:STANDARD
BEGIN:DAYLIGHT
TZOFFSETFROM:-0600
TZOFFSETTO:-0500
TZNAME:CDT
DTSTART:20260308T080000
END:DAYLIGHT
BEGIN:STANDARD
TZOFFSETFROM:-0500
TZOFFSETTO:-0600
TZNAME:CST
DTSTART:20261101T070000
END:STANDARD
BEGIN:DAYLIGHT
TZOFFSETFROM:-0600
TZOFFSETTO:-0500
TZNAME:CDT
DTSTART:20270314T080000
END:DAYLIGHT
BEGIN:STANDARD
TZOFFSETFROM:-0500
TZOFFSETTO:-0600
TZNAME:CST
DTSTART:20271107T070000
END:STANDARD
END:VTIMEZONE
BEGIN:VEVENT
DTSTART;TZID=America/Chicago:20260201T000000
DTEND;TZID=America/Chicago:20260222T235959
DTSTAMP:20260424T211528
CREATED:20251003T151544Z
LAST-MODIFIED:20251103T170923Z
UID:10001265-1769904000-1771804799@www.winona.edu
SUMMARY:2026-27 Priority Housing Application Opens for Current Students
DESCRIPTION:Feb. 1-22 is the priority housing application period for the 2026-27 academic year. \n\n\n\nStudents currently living on campus for Spring 2026 can submit their application and request roommates on their Housing Portal. \n\n\n\n    Learn More about Housing for Current Students\n\n\n\n\n\nVenue\n\n\n\n\n\nContact\n\n\n\n\n\nDisclaimer\n\n\n\nThe views and opinions expressed by the speakers and programs hosted at Winona State University do not necessarily reflect the views or positions of the university or of the Minnesota State Colleges & Universities system.
URL:https://www.winona.edu/about/event/2026-27-priority-housing-application-opens-for-current-students/
LOCATION:Winona Campus\, 175 West Mark Street\, Winona\, MN\, 55987\, United States
CATEGORIES:Housing & Dining,Student Life
ATTACH;FMTTYPE=image/jpeg:https://www.winona.edu/about/wp-content/uploads/sites/3/2025/01/Pro-students-residence-hall-community-feature-2021-10-12.jpg
ORGANIZER;CN="Candice Guenther":MAILTO:cguenther@winona.edu
END:VEVENT
BEGIN:VEVENT
DTSTART;TZID=America/Chicago:20260221T000000
DTEND;TZID=America/Chicago:20260221T235959
DTSTAMP:20260424T211528
CREATED:20260226T212259Z
LAST-MODIFIED:20260226T212300Z
UID:10001190-1771632000-1771718399@www.winona.edu
SUMMARY:Music Scholarship Audition Day
DESCRIPTION:Music scholarship auditions for the 2026-27 academic year will be held on Feb. 21.  \n\n\n\nRenewable yearly awards range from $500-3\,000. \n\n\n\n    Learn More about Auditions & Music Scholarships\n\n\n\n\n\nVenue\n\n\n\n\n\nContact\n\n\n\n\n\nDisclaimer\n\n\n\nThe views and opinions expressed by the speakers and programs hosted at Winona State University do not necessarily reflect the views or positions of the university or of the Minnesota State Colleges & Universities system.
URL:https://www.winona.edu/about/event/music-scholarship-audition-day-feb-21/
LOCATION:Robert DuFresne Performing Arts Center (PAC)\, 450 Johnson St\, Winona\, MN\, 55987\, United States
CATEGORIES:Academics,College of Liberal Arts,Colleges,Music Department
ATTACH;FMTTYPE=image/jpeg:https://www.winona.edu/about/wp-content/uploads/sites/3/2024/12/WSU-student-hand-playing-piano-feature-2023-02-15.jpg
ORGANIZER;CN="Marybeth Lenhardt":MAILTO:mlenhardt@winona.edu
END:VEVENT
BEGIN:VEVENT
DTSTART;TZID=America/Chicago:20260221T103000
DTEND;TZID=America/Chicago:20260221T150000
DTSTAMP:20260424T211528
CREATED:20260128T204827Z
LAST-MODIFIED:20260128T204829Z
UID:10001501-1771669800-1771686000@www.winona.edu
SUMMARY:Composite Materials Engineering Program Showcase
DESCRIPTION:On Feb. 21\, prospective students can attend this fun\, informational campus visit featuring our one-of-a-kind Composite Materials Engineering program. \n\n\n\nAt this event\, you will: \n\n\n\n\nGet your next steps to pursuing this exciting degree\n\n\n\nTour state-of-the-art engineering labs\n\n\n\nVisit with program faculty and advisors\n\n\n\n\n    Register for This Event\n\n\n\n\n\nVenue\n\n\n\n\n\nContact\n\n\n\n\n\nDisclaimer\n\n\n\nThe views and opinions expressed by the speakers and programs hosted at Winona State University do not necessarily reflect the views or positions of the university or of the Minnesota State Colleges & Universities system.
URL:https://www.winona.edu/about/event/composite-materials-engineering-visit-feb-21/
LOCATION:Bluffs Lounge\, 250 W 10th St\, Winona\, MN\, 55987\, United States
CATEGORIES:Academics,Admissions,College of Science & Engineering,Colleges,Composite Materials Engineering Department
ATTACH;FMTTYPE=image/jpeg:https://www.winona.edu/about/wp-content/uploads/sites/3/2025/01/WSU-male-students-engineering-lab-feature-2018-09-26.jpg
ORGANIZER;CN="Admissions Office":MAILTO:admissions@winona.edu
END:VEVENT
BEGIN:VEVENT
DTSTART;TZID=America/Chicago:20260221T130000
DTEND;TZID=America/Chicago:20260221T150000
DTSTAMP:20260424T211528
CREATED:20251001T151107Z
LAST-MODIFIED:20251107T164355Z
UID:10001243-1771678800-1771686000@www.winona.edu
SUMMARY:WSU Women's Basketball vs. St. Cloud State University Game
DESCRIPTION:Come cheer on the women’s Basketball team as they face off against St. Cloud State University. \n\n\n\nSee all sports games in the Athletics calendar. \n\n\n\n    Get Tickets to This Game\n\n\n\n\n\nVenue\n\n\n\n\n\nContact\n\n\n\n\n\nDisclaimer\n\n\n\nThe views and opinions expressed by the speakers and programs hosted at Winona State University do not necessarily reflect the views or positions of the university or of the Minnesota State Colleges & Universities system.
URL:https://www.winona.edu/about/event/wsu-womens-basketball-vs-st-cloud-state-university-game-2026/
LOCATION:McCown Gym\, 175 W Mark St\, Winona\, MN\, 55987\, United States
CATEGORIES:Student Life,Warrior Athletics
ATTACH;FMTTYPE=image/jpeg:https://www.winona.edu/about/wp-content/uploads/sites/3/2025/09/WSU-Womens-Basketball-01-15-22.jpg
ORGANIZER;CN="Jen Flowers":MAILTO:jennifer.flowers@winona.edu
END:VEVENT
BEGIN:VEVENT
DTSTART;TZID=America/Chicago:20260221T150000
DTEND;TZID=America/Chicago:20260221T170000
DTSTAMP:20260424T211528
CREATED:20251003T150430Z
LAST-MODIFIED:20251107T164347Z
UID:10001282-1771686000-1771693200@www.winona.edu
SUMMARY:WSU Men's Basketball vs. St. Cloud State University Game
DESCRIPTION:Come cheer on the men’s Basketball team as they face off against St. Cloud State University. \n\n\n\nSee all sports games in the Athletics calendar. \n\n\n\n    Get Tickets to This Game\n\n\n\n\n\nVenue\n\n\n\n\n\nContact\n\n\n\n\n\nDisclaimer\n\n\n\nThe views and opinions expressed by the speakers and programs hosted at Winona State University do not necessarily reflect the views or positions of the university or of the Minnesota State Colleges & Universities system.
URL:https://www.winona.edu/about/event/wsu-mens-basketball-vs-st-cloud-state-university-game-2026/
LOCATION:McCown Gym\, 175 W Mark St\, Winona\, MN\, 55987\, United States
CATEGORIES:Student Life,Warrior Athletics
ATTACH;FMTTYPE=image/jpeg:https://www.winona.edu/about/wp-content/uploads/sites/3/2025/02/Pro-mens-basketball-player-court-feature-2022-11-06.jpg
ORGANIZER;CN="Jen Flowers":MAILTO:jennifer.flowers@winona.edu
END:VEVENT
BEGIN:VEVENT
DTSTART;TZID=America/Chicago:20260221T193000
DTEND;TZID=America/Chicago:20260221T213000
DTSTAMP:20260424T211528
CREATED:20251003T151516Z
LAST-MODIFIED:20260122T191530Z
UID:10001221-1771702200-1771709400@www.winona.edu
SUMMARY:Dancescape Performance
DESCRIPTION:Enjoy the annual Dancescape performance\, featuring original choreography and design by students\, faculty\, and guest artists. \n\n\n\nThis production includes modern\, contemporary\, jazz\, street\, and experimental dance. \n\n\n\n    Get Tickets to This Event\n\n\n\n\n\nVenue\n\n\n\n\n\nContact\n\n\n\n\n\nDisclaimer\n\n\n\nThe views and opinions expressed by the speakers and programs hosted at Winona State University do not necessarily reflect the views or positions of the university or of the Minnesota State Colleges & Universities system.
URL:https://www.winona.edu/about/event/dancescape-performance-feb-21-2026/
LOCATION:Vivian Fusillo Main Stage Theatre\, 450 Johnson St\, Winona\, MN\, 55987\, United States
CATEGORIES:Academics,Arts & Entertainment,College of Liberal Arts,Colleges,Student Life,Theatre & Dance Department
ATTACH;FMTTYPE=image/jpeg:https://www.winona.edu/about/wp-content/uploads/sites/3/2024/03/WSU_Dance-Performance-2023-02-09_202249.jpg
ORGANIZER;CN="Marybeth Lenhardt":MAILTO:mlenhardt@winona.edu
END:VEVENT
END:VCALENDAR