BEGIN:VCALENDAR
VERSION:2.0
PRODID:-//About - ECPv6.15.16//NONSGML v1.0//EN
CALSCALE:GREGORIAN
METHOD:PUBLISH
X-ORIGINAL-URL:https://www.winona.edu/about
X-WR-CALDESC:Events for About
REFRESH-INTERVAL;VALUE=DURATION:PT1H
X-Robots-Tag:noindex
X-PUBLISHED-TTL:PT1H
BEGIN:VTIMEZONE
TZID:America/Chicago
BEGIN:DAYLIGHT
TZOFFSETFROM:-0600
TZOFFSETTO:-0500
TZNAME:CDT
DTSTART:20250309T080000
END:DAYLIGHT
BEGIN:STANDARD
TZOFFSETFROM:-0500
TZOFFSETTO:-0600
TZNAME:CST
DTSTART:20251102T070000
END:STANDARD
BEGIN:DAYLIGHT
TZOFFSETFROM:-0600
TZOFFSETTO:-0500
TZNAME:CDT
DTSTART:20260308T080000
END:DAYLIGHT
BEGIN:STANDARD
TZOFFSETFROM:-0500
TZOFFSETTO:-0600
TZNAME:CST
DTSTART:20261101T070000
END:STANDARD
BEGIN:DAYLIGHT
TZOFFSETFROM:-0600
TZOFFSETTO:-0500
TZNAME:CDT
DTSTART:20270314T080000
END:DAYLIGHT
BEGIN:STANDARD
TZOFFSETFROM:-0500
TZOFFSETTO:-0600
TZNAME:CST
DTSTART:20271107T070000
END:STANDARD
END:VTIMEZONE
BEGIN:VEVENT
DTSTART;TZID=America/Chicago:20260224T104500
DTEND;TZID=America/Chicago:20260224T130000
DTSTAMP:20260424T193249
CREATED:20260127T170242Z
LAST-MODIFIED:20260127T170243Z
UID:10001471-1771929900-1771938000@www.winona.edu
SUMMARY:Teaching Kitchen: Tropical Salsa
DESCRIPTION:Join Dietitian Mara and Chef Joe for a hands-on demo creating a vibrant tropical salsa loaded with vitamins\, antioxidants\, and natural sweetness. \n\n\n\nLearn how simple ingredients come together to make a delicious\, healthy snack or a perfect pairing for any meal. \n\n\n\nThe cost to attend this event is one meal swipe or $11.28 plus tax with a credit or debit card at the gate. \n\n\n\nThis event is sponsored by Chartwells. \n\n\n\n\n\nVenue\n\n\n\n\n\nContact\n\n\n\n\n\nDisclaimer\n\n\n\nThe views and opinions expressed by the speakers and programs hosted at Winona State University do not necessarily reflect the views or positions of the university or of the Minnesota State Colleges & Universities system.
URL:https://www.winona.edu/about/event/teaching-kitchen-tropical-salsa/
LOCATION:Jack Kane Dining Hall\, 250 W 10th St\, Winona\, MN\, 55987\, United States
CATEGORIES:Housing & Dining,Student Life
ATTACH;FMTTYPE=image/jpeg:https://www.winona.edu/about/wp-content/uploads/sites/3/2025/01/WSU-female-student-served-food-event-feature-2024-03-23.jpg
ORGANIZER;CN="Grace Waller":MAILTO:grace.waller@winon.edu
END:VEVENT
BEGIN:VEVENT
DTSTART;TZID=America/Chicago:20260224T110000
DTEND;TZID=America/Chicago:20260224T133000
DTSTAMP:20260424T193249
CREATED:20250917T150259Z
LAST-MODIFIED:20251107T164944Z
UID:10001168-1771930800-1771939800@www.winona.edu
SUMMARY:Tea Tuesday
DESCRIPTION:Enjoy free tea on the first floor of the library. \n\n\n\n\n\nVenue\n\n\n\n\n\nContact\n\n\n\n\n\nDisclaimer\n\n\n\nThe views and opinions expressed by the speakers and programs hosted at Winona State University do not necessarily reflect the views or positions of the university or of the Minnesota State Colleges & Universities system.
URL:https://www.winona.edu/about/event/tea-tuesday-feb-24/
LOCATION:Library Floor 1\, 525 Johnson St\, Winona\, MN\, 55987\, United States
CATEGORIES:Health & Wellness,Student Life
ATTACH;FMTTYPE=image/jpeg:https://www.winona.edu/about/wp-content/uploads/sites/3/2024/12/WSU-female-student-coffee-mug-feature-2019-06-03.jpg
ORGANIZER;CN="Kayla Olson":MAILTO:kayla.olson@winona.edu
END:VEVENT
BEGIN:VEVENT
DTSTART;TZID=America/Chicago:20260224T180000
DTEND;TZID=America/Chicago:20260224T200000
DTSTAMP:20260424T193249
CREATED:20260220T120722Z
LAST-MODIFIED:20260220T120723Z
UID:10001551-1771956000-1771963200@www.winona.edu
SUMMARY:“What It Means To Be Two-Spirit” Keynote
DESCRIPTION:Spend the evening with Giiwedin\, an Ojibwe Two-Spirit influencer and environmental advocate\, as they discuss what it means to be Two-Spirit. \n\n\n\nThis event is sponsored by Winona State’s Indigenous Relations\, Education\, & Programming Committee. \n\n\n\nThis event is also open to everyone\, in person and via Zoom. Registration for the Zoom meeting is required. \n\n\n\n    Register for This Zoom Meeting\n\n\n\n\n\n    \n        \n            \n                        \n            \n\nAbout the Speaker\n\n\n\nGiiwedin (they/them) is an Ojibwe Two-Spirit influencer and environmental advocate who shares content about Indigenous culture\, environmental justice\, and queer Indigenous history. \n\n\n\nTheir primary Instagram account (@giiwedinindizhinikaaz) has more than 200\,000 followers. In 2022\, they were recognized as a “20 Under 20 LGBTQ+ Changemaker” by Teen Vogue and The Gay & Lesbian Alliance Against Defamation (GLAAD). \n\n\n\nGiiwedin also models in the Native fashion world\, walking in Native Fashion Week in Santa Fe\, New Mexico\, and the first Indigenous New York Fashion Week. \n\n\n\nIn addition to their online work\, Giiwedin advocates for the health of wild rice. They host camps on their land in northern Minnesota where they teach traditional harvesting and processing methods. \n\n\n        \n    \n\n\n\n\nVenue\n\n\n\n\n\nContact\n\n\n\n\n\nDisclaimer\n\n\n\nThe views and opinions expressed by the speakers and programs hosted at Winona State University do not necessarily reflect the views or positions of the university or of the Minnesota State Colleges & Universities system.
URL:https://www.winona.edu/about/event/what-it-means-to-be-two-spirit-keynote/
LOCATION:Solarium\, 250 W 10th St\, Winona\, MN\, 55987\, United States
CATEGORIES:Arts & Entertainment,Equity & Inclusive Excellence,Speakers & Educational Series,Student Life,Support & Services
ATTACH;FMTTYPE=image/jpeg:https://www.winona.edu/about/wp-content/uploads/sites/3/2023/10/WSU_Students-Event-2023-01-20_234236.jpg
ORGANIZER;CN="Office of Equity &amp%3B Inclusive Excellence":MAILTO:equity@winona.edu
END:VEVENT
END:VCALENDAR