BEGIN:VCALENDAR
VERSION:2.0
PRODID:-//About - ECPv6.15.16//NONSGML v1.0//EN
CALSCALE:GREGORIAN
METHOD:PUBLISH
X-ORIGINAL-URL:https://www.winona.edu/about
X-WR-CALDESC:Events for About
REFRESH-INTERVAL;VALUE=DURATION:PT1H
X-Robots-Tag:noindex
X-PUBLISHED-TTL:PT1H
BEGIN:VTIMEZONE
TZID:America/Chicago
BEGIN:DAYLIGHT
TZOFFSETFROM:-0600
TZOFFSETTO:-0500
TZNAME:CDT
DTSTART:20250309T080000
END:DAYLIGHT
BEGIN:STANDARD
TZOFFSETFROM:-0500
TZOFFSETTO:-0600
TZNAME:CST
DTSTART:20251102T070000
END:STANDARD
BEGIN:DAYLIGHT
TZOFFSETFROM:-0600
TZOFFSETTO:-0500
TZNAME:CDT
DTSTART:20260308T080000
END:DAYLIGHT
BEGIN:STANDARD
TZOFFSETFROM:-0500
TZOFFSETTO:-0600
TZNAME:CST
DTSTART:20261101T070000
END:STANDARD
BEGIN:DAYLIGHT
TZOFFSETFROM:-0600
TZOFFSETTO:-0500
TZNAME:CDT
DTSTART:20270314T080000
END:DAYLIGHT
BEGIN:STANDARD
TZOFFSETFROM:-0500
TZOFFSETTO:-0600
TZNAME:CST
DTSTART:20271107T070000
END:STANDARD
END:VTIMEZONE
BEGIN:VEVENT
DTSTART;TZID=America/Chicago:20260226T000000
DTEND;TZID=America/Chicago:20260226T235959
DTSTAMP:20260424T193247
CREATED:20251003T151542Z
LAST-MODIFIED:20251107T164927Z
UID:10001266-1772064000-1772150399@www.winona.edu
SUMMARY:Same Hall Selection Opens for 2026-27 Priority Housing Application
DESCRIPTION:Feb. 26 is when students can pick a room in the same residence hall they currently live in.  \n\n\n\nThis is part of current students’ priority housing applications for the 2026-27 academic year. \n\n\n\n    Learn More about Housing for Current Students\n\n\n\n\n\nVenue\n\n\n\n\n\nContact\n\n\n\n\n\nDisclaimer\n\n\n\nThe views and opinions expressed by the speakers and programs hosted at Winona State University do not necessarily reflect the views or positions of the university or of the Minnesota State Colleges & Universities system.
URL:https://www.winona.edu/about/event/same-hall-selection-opens-for-2026-27-priority-housing-application/
LOCATION:Winona Campus\, 175 West Mark Street\, Winona\, MN\, 55987\, United States
CATEGORIES:Housing & Dining,Student Life
ATTACH;FMTTYPE=image/jpeg:https://www.winona.edu/about/wp-content/uploads/sites/3/2025/01/Pro-students-residence-hall-community-feature-2021-10-12.jpg
ORGANIZER;CN="Candice Guenther":MAILTO:cguenther@winona.edu
END:VEVENT
BEGIN:VEVENT
DTSTART;TZID=America/Chicago:20260226T083000
DTEND;TZID=America/Chicago:20260226T160000
DTSTAMP:20260424T193247
CREATED:20260218T161455Z
LAST-MODIFIED:20260218T161456Z
UID:10001549-1772094600-1772121600@www.winona.edu
SUMMARY:Wellness Rocks Scavenger Hunt
DESCRIPTION:On Feb. 26\, be on the lookout for painted rocks hidden somewhere around campus for the chance to win a prize and gift card. \n\n\n\nIf you find a rock\, bring it to Health & Wellness Services (IWC 222) before 4pm to redeem a small prize and enter a drawing to win one of 3 available $20 Mugby Junction gift cards. Winners of the drawing will be announced on WSU Health & Wellness Services’ Instagram (@wsuhealth). \n\n\n\nAlthough rocks won’t be in plain sight\, they will not be under any fixed or permanent structure or in anything where property would be damaged to find them. \n\n\n\nWinners of the Wellness Rocks scavenger hunt can go to the Health & Wellness Services front desk during business hours to pick up their gift card. \n\n\n\n\n\nVenue\n\n\n\n\n\nContact\n\n\n\n\n\nDisclaimer\n\n\n\nThe views and opinions expressed by the speakers and programs hosted at Winona State University do not necessarily reflect the views or positions of the university or of the Minnesota State Colleges & Universities system.
URL:https://www.winona.edu/about/event/wellness-rocks-scavenger-hunt/
LOCATION:Winona Campus\, 175 West Mark Street\, Winona\, MN\, 55987\, United States
CATEGORIES:Health & Wellness,Student Life
ATTACH;FMTTYPE=image/jpeg:https://www.winona.edu/about/wp-content/uploads/sites/3/2024/12/WSU-students-club-fair-feature-2023-08-18.jpg
ORGANIZER;CN="Alexis Green":MAILTO:alexis.green@winona.edu
END:VEVENT
BEGIN:VEVENT
DTSTART;TZID=America/Chicago:20260226T100000
DTEND;TZID=America/Chicago:20260226T130000
DTSTAMP:20260424T193247
CREATED:20260123T154059Z
LAST-MODIFIED:20260217T214420Z
UID:10001469-1772100000-1772110800@www.winona.edu
SUMMARY:Summer Session Pop-Up: Sweet Treats & Smart Schedules
DESCRIPTION:Stop by the Lower Hyphen in Kryzsko Commons to chat about summer courses and enjoy a sweet treat. \n\n\n\nWinona State’s Summer Session is a great opportunity for students to catch up\, keep up\, or get ahead with over 250 classes offered—including online\, in-person\, hybrid\, internship\, and faculty-led study abroad options. \n\n\n\n    Learn More about Summer Session\n\n\n\n\n\nVenue\n\n\n\n\n\nContact\n\n\n\n\n\nDisclaimer\n\n\n\nThe views and opinions expressed by the speakers and programs hosted at Winona State University do not necessarily reflect the views or positions of the university or of the Minnesota State Colleges & Universities system.
URL:https://www.winona.edu/about/event/summer-session-pop-up-sweet-treats-smart-schedules-feb-26/
LOCATION:Kryzsko Commons\, 250 W 10th St\, Winona\, MN\, 55987\, United States
CATEGORIES:Academics
ATTACH;FMTTYPE=image/jpeg:https://www.winona.edu/about/wp-content/uploads/sites/3/2024/11/WSU-advisor-meeting-student-feature-2023-03-01.jpg
ORGANIZER;CN="Abby Raichert":MAILTO:abby.raichert@winona.edu
END:VEVENT
BEGIN:VEVENT
DTSTART;TZID=America/Chicago:20260226T103000
DTEND;TZID=America/Chicago:20260226T113000
DTSTAMP:20260424T193247
CREATED:20260123T154745Z
LAST-MODIFIED:20260123T154859Z
UID:10001473-1772101800-1772105400@www.winona.edu
SUMMARY:Catering Pop-Up: Mystery Drink
DESCRIPTION:Join Chartwells in the Maxwell Lobby for a special catering pop‑up. Chartwells will be serving a mystery drink to anyone who stops by. \n\n\n\nThis event is free\, and the drink is served on a first-come\, first-served basis. \n\n\n\n\n\nVenue\n\n\n\n\n\nContact\n\n\n\n\n\nDisclaimer\n\n\n\nThe views and opinions expressed by the speakers and programs hosted at Winona State University do not necessarily reflect the views or positions of the university or of the Minnesota State Colleges & Universities system.
URL:https://www.winona.edu/about/event/catering-pop-up-feb-26/
LOCATION:Maxwell Lobby\, 170 W 8th St\, Winona\, MN\, 55987\, United States
CATEGORIES:Housing & Dining,Student Life
ATTACH;FMTTYPE=image/jpeg:https://www.winona.edu/about/wp-content/uploads/sites/3/2025/07/WSU-male-students-Jack-Kane-dining-center-food-feature-2023-02-15.jpg
ORGANIZER;CN="Grace Waller":MAILTO:grace.waller@winon.edu
END:VEVENT
BEGIN:VEVENT
DTSTART;TZID=America/Chicago:20260226T140000
DTEND;TZID=America/Chicago:20260226T160000
DTSTAMP:20260424T193247
CREATED:20260225T163212Z
LAST-MODIFIED:20260225T163213Z
UID:10001478-1772114400-1772121600@www.winona.edu
SUMMARY:Retiree Discussion Group: War\, Peace\, & Terrorism
DESCRIPTION:Join us for the fourth session of this discussion-based group to discuss timely global issues in a Socrates Café-style format. \n\n\n\nLed by Emeritus Professor of Philosophy Don E. Scheid\, this group will explore complex themes of war\, the pursuit of peace\, and the changing nature of terrorism. \n\n\n\nOpen to all adult learners within and beyond the Winona State University community. \n\n\n\n\n\nVenue\n\n\n\n\n\nContact\n\n\n\n\n\nDisclaimer\n\n\n\nThe views and opinions expressed by the speakers and programs hosted at Winona State University do not necessarily reflect the views or positions of the university or of the Minnesota State Colleges & Universities system.
URL:https://www.winona.edu/about/event/retiree-discussion-group-war-peace-terrorism-feb-26/
LOCATION:Minné 236\, 525 Washington St\, Winona\, MN\, 55987\, United States
CATEGORIES:About,Leadership & Administration
ATTACH;FMTTYPE=image/jpeg:https://www.winona.edu/about/wp-content/uploads/sites/3/2025/07/WSU-Retiree-adults-feature-2023-04-27.jpg
ORGANIZER;CN="Jess Kauphusman":MAILTO:jkauphusman@winona.edu
END:VEVENT
BEGIN:VEVENT
DTSTART;TZID=America/Chicago:20260226T190000
DTEND;TZID=America/Chicago:20260226T203000
DTSTAMP:20260424T193247
CREATED:20260220T120728Z
LAST-MODIFIED:20260220T120728Z
UID:10001552-1772132400-1772137800@www.winona.edu
SUMMARY:Collegiate Day of Prayer
DESCRIPTION:Join students of Chi Alpha in the Great River Ballroom for an evening of worship and guided prayer. \n\n\n\nThis event will feature 6 different student-led prayer prompts\, creating a space for reflection and community. \n\n\n\nAll students are welcome to attend\, whether you have a religious background or are simply looking for a meaningful experience. \n\n\n\n\n\nVenue\n\n\n\n\n\nContact\n\n\n\n\n\nDisclaimer\n\n\n\nThe views and opinions expressed by the speakers and programs hosted at Winona State University do not necessarily reflect the views or positions of the university or of the Minnesota State Colleges & Universities system.
URL:https://www.winona.edu/about/event/collegiate-day-of-prayer-feb-26/
LOCATION:Great River Ballroom\, 250 W 10th St\, Winona\, MN\, 55987\, United States
CATEGORIES:Clubs & Activities,Clubs & Organizations,Student Life
ATTACH;FMTTYPE=image/jpeg:https://www.winona.edu/about/wp-content/uploads/sites/3/2025/01/Pro-students-walking-neighborhood-houses-feature-2022-09-26.jpg
ORGANIZER;CN="Brenna Korneck":MAILTO:brenna.korneck@go.winona.edu
END:VEVENT
BEGIN:VEVENT
DTSTART;TZID=America/Chicago:20260226T190000
DTEND;TZID=America/Chicago:20260226T203000
DTSTAMP:20260424T193247
CREATED:20260203T200231Z
LAST-MODIFIED:20260204T204026Z
UID:10001511-1772132400-1772137800@www.winona.edu
SUMMARY:Common Book Film Series Screening: "Grizzly Man"
DESCRIPTION:Join us for the third screening of the Common Book Film Series\, inspired by this year’s Common Book\, “Fuzz: When Nature Breaks the Law” by Mary Roach. \n\n\n\nThe screening features the documentary “Grizzly Man\,” which follows a grizzly bear enthusiast compelled to live among bears in the Alaskan wilderness. \n\n\n\nThis event is free and open to the public. \n\n\n\n    Learn More about the Common Book\n\n\n\n\n\nVenue\n\n\n\n\n\nContact\n\n\n\n\n\nDisclaimer\n\n\n\nThe views and opinions expressed by the speakers and programs hosted at Winona State University do not necessarily reflect the views or positions of the university or of the Minnesota State Colleges & Universities system.
URL:https://www.winona.edu/about/event/common-book-film-series-screening-grizzly-man/
LOCATION:SLC 120\, 400 Winona St\, Winona\, MN\, 55987\, United States
CATEGORIES:Academics,Arts & Entertainment,College of Liberal Arts,Colleges,Common Book,English Department,Speakers & Educational Series,Student Life
ATTACH;FMTTYPE=image/jpeg:https://www.winona.edu/about/wp-content/uploads/sites/3/2024/12/WSU-empty-auditorium-chairs-feature-2016-03-30.jpg
ORGANIZER;CN="Blandine Berthelot":MAILTO:bberthelot@winona.edu
END:VEVENT
END:VCALENDAR