BEGIN:VCALENDAR
VERSION:2.0
PRODID:-//About - ECPv6.15.16//NONSGML v1.0//EN
CALSCALE:GREGORIAN
METHOD:PUBLISH
X-WR-CALNAME:About
X-ORIGINAL-URL:https://www.winona.edu/about
X-WR-CALDESC:Events for About
REFRESH-INTERVAL;VALUE=DURATION:PT1H
X-Robots-Tag:noindex
X-PUBLISHED-TTL:PT1H
BEGIN:VTIMEZONE
TZID:America/Chicago
BEGIN:DAYLIGHT
TZOFFSETFROM:-0600
TZOFFSETTO:-0500
TZNAME:CDT
DTSTART:20250309T080000
END:DAYLIGHT
BEGIN:STANDARD
TZOFFSETFROM:-0500
TZOFFSETTO:-0600
TZNAME:CST
DTSTART:20251102T070000
END:STANDARD
BEGIN:DAYLIGHT
TZOFFSETFROM:-0600
TZOFFSETTO:-0500
TZNAME:CDT
DTSTART:20260308T080000
END:DAYLIGHT
BEGIN:STANDARD
TZOFFSETFROM:-0500
TZOFFSETTO:-0600
TZNAME:CST
DTSTART:20261101T070000
END:STANDARD
BEGIN:DAYLIGHT
TZOFFSETFROM:-0600
TZOFFSETTO:-0500
TZNAME:CDT
DTSTART:20270314T080000
END:DAYLIGHT
BEGIN:STANDARD
TZOFFSETFROM:-0500
TZOFFSETTO:-0600
TZNAME:CST
DTSTART:20271107T070000
END:STANDARD
END:VTIMEZONE
BEGIN:VEVENT
DTSTART;TZID=America/Chicago:20260228T083000
DTEND;TZID=America/Chicago:20260228T170000
DTSTAMP:20260424T192827
CREATED:20260218T161240Z
LAST-MODIFIED:20260218T161241Z
UID:10001550-1772267400-1772298000@www.winona.edu
SUMMARY:Winona State Hackathon
DESCRIPTION:Join us for a one-day innovation challenge where individual students or teams (up to 5 members) will develop projects inspired by one of the following themes: \n\n\n\n\nArtificial Intelligence and Me\n\n\n\nDigital Resistance\n\n\n\nData Poisoning\n\n\n\nEcosystem of the Web\n\n\n\n\nThe judging rubric will be provided on the day of the Hackathon. We encourage interdisciplinary teams and research\, but no development is allowed before the event begins. \n\n\n\nThe first-place winner(s) will receive a $50 Amazon gift card per participant (individual or team member)\, and the second-place winner(s) will receive a $30 Amazon gift card per participant. \n\n\n\nSchedule\n\n\n\n\n8:30am – Check-in and breakfast (provided)\n\n\n\n9am – Hackathon begins\n\n\n\n12pm – Lunch (provided)\n\n\n\n3pm – Project presentations\n\n\n\n4pm – Judging\n\n\n\n5pm – Awards\n\n\n\n\nThis event is sponsored by the WSU Computer Science Club and Women in Computing and STEM (WiCS). \n\n\n\nPre-registration is encouraged but not required. \n\n\n\n    Register for This Event\n\n\n\n\n\nVenue\n\n\n\n\n\nContact\n\n\n\n\n\nDisclaimer\n\n\n\nThe views and opinions expressed by the speakers and programs hosted at Winona State University do not necessarily reflect the views or positions of the university or of the Minnesota State Colleges & Universities system.
URL:https://www.winona.edu/about/event/winona-state-hackathon-2026/
LOCATION:Solarium\, 250 W 10th St\, Winona\, MN\, 55987\, United States
CATEGORIES:Academics,Clubs & Activities,Clubs & Organizations,College of Science & Engineering,Colleges,Computer Science Department,Student Life
ATTACH;FMTTYPE=image/jpeg:https://www.winona.edu/about/wp-content/uploads/sites/3/2022/11/WSU_Female-Student-Laptop-Code-2022-05-18_134220.jpg
ORGANIZER;CN="Hamilton Ferris":MAILTO:hamilton.ferris@go.winona.edu
END:VEVENT
BEGIN:VEVENT
DTSTART;TZID=America/Chicago:20260228T160000
DTEND;TZID=America/Chicago:20260228T170000
DTSTAMP:20260424T192827
CREATED:20250917T150617Z
LAST-MODIFIED:20260227T151531Z
UID:10001046-1772294400-1772298000@www.winona.edu
SUMMARY:Orchestra Concert
DESCRIPTION:On Feb. 28\, attend this free concert featuring WSU orchestra students. \n\n\n\n\n\nVenue\n\n\n\n\n\nContact\n\n\n\n\n\nDisclaimer\n\n\n\nThe views and opinions expressed by the speakers and programs hosted at Winona State University do not necessarily reflect the views or positions of the university or of the Minnesota State Colleges & Universities system.
URL:https://www.winona.edu/about/event/orchestra-concert-feb-28/
LOCATION:Vivian Fusillo Main Stage Theatre\, 450 Johnson St\, Winona\, MN\, 55987\, United States
CATEGORIES:Academics,Arts & Entertainment,College of Liberal Arts,Colleges,Music Department,Student Life
ATTACH;FMTTYPE=image/jpeg:https://www.winona.edu/about/wp-content/uploads/sites/3/2022/12/WSU-Violins-Concert-2021-10-23_122904.jpg
ORGANIZER;CN="Marybeth Lenhardt":MAILTO:mlenhardt@winona.edu
END:VEVENT
END:VCALENDAR