BEGIN:VCALENDAR
VERSION:2.0
PRODID:-//About - ECPv6.15.16//NONSGML v1.0//EN
CALSCALE:GREGORIAN
METHOD:PUBLISH
X-WR-CALNAME:About
X-ORIGINAL-URL:https://www.winona.edu/about
X-WR-CALDESC:Events for About
REFRESH-INTERVAL;VALUE=DURATION:PT1H
X-Robots-Tag:noindex
X-PUBLISHED-TTL:PT1H
BEGIN:VTIMEZONE
TZID:America/Chicago
BEGIN:DAYLIGHT
TZOFFSETFROM:-0600
TZOFFSETTO:-0500
TZNAME:CDT
DTSTART:20250309T080000
END:DAYLIGHT
BEGIN:STANDARD
TZOFFSETFROM:-0500
TZOFFSETTO:-0600
TZNAME:CST
DTSTART:20251102T070000
END:STANDARD
BEGIN:DAYLIGHT
TZOFFSETFROM:-0600
TZOFFSETTO:-0500
TZNAME:CDT
DTSTART:20260308T080000
END:DAYLIGHT
BEGIN:STANDARD
TZOFFSETFROM:-0500
TZOFFSETTO:-0600
TZNAME:CST
DTSTART:20261101T070000
END:STANDARD
BEGIN:DAYLIGHT
TZOFFSETFROM:-0600
TZOFFSETTO:-0500
TZNAME:CDT
DTSTART:20270314T080000
END:DAYLIGHT
BEGIN:STANDARD
TZOFFSETFROM:-0500
TZOFFSETTO:-0600
TZNAME:CST
DTSTART:20271107T070000
END:STANDARD
END:VTIMEZONE
BEGIN:VEVENT
DTSTART;TZID=America/Chicago:20260301T000000
DTEND;TZID=America/Chicago:20260331T235959
DTSTAMP:20260424T192828
CREATED:20260306T195156Z
LAST-MODIFIED:20260306T195157Z
UID:10001584-1772323200-1775001599@www.winona.edu
SUMMARY:WSU Colleges Food Drive Competition
DESCRIPTION:Make an impact at Winona State by joining the WSU Colleges Food Drive Competition—a friendly\, campus-wide competition that brings students\, faculty\, and staff together to support our community.  \n\n\n\nThroughout March\, each College will collect donations and compete to see who can make the biggest impact. \n\n\n\nThis food drive will help stock and raise money for our on-campus food shelf\, the Warrior Cupboard. \n\n\n\nHow It Works\n\n\n\nDrop off food and household items to your Dean’s office\, then earn one point per item. \n\n\n\nYou can also earn one point per one dollar donated. (For example\, donating $50 earns your College 50 points.) \n\n\n\n    Donate to the Warrior Cupboard\n\n\n\n\n\nSuggested Items for Donation\n\n\n\n\nCanned meat and meals (tuna\, chicken\, stews\, soup\, ravioli\, etc.)\n\n\n\nCanned vegetables and fruits\n\n\n\nPeanut butter\n\n\n\nBoxed meals (Hamburger Helper\, Rice-A-Roni\, Mac & Cheese\, etc.)\n\n\n\nBaking ingredients (flour\, sugar\, Bisquick\, oil\, etc.)\n\n\n\nHousehold items (hand soap\, Kleenex\, laundry soap\, etc.)\n\n\n\nPersonal care items (deodorant\, shampoo\, toothpaste\, etc.)\n\n\n\nPlates\, silverware\, can openers\, serving spoons\, etc\n\n\n\n\nVenues\n\n\n\n\n\n\n\n\n\n\n\n\n\nContact\n\n\n\n\n\nDisclaimer\n\n\n\nThe views and opinions expressed by the speakers and programs hosted at Winona State University do not necessarily reflect the views or positions of the university or of the Minnesota State Colleges & Universities system.
URL:https://www.winona.edu/about/event/wsu-colleges-food-drive-competition-2026/
LOCATION:College of Business Dean’s Suite (Somsen 309)\, 175 West Mark Street\, Winona\, MN\, 55987\, United States
CATEGORIES:Academics,College of Business,College of Education,College of Liberal Arts,College of Nursing & Health Sciences,College of Science & Engineering,Colleges,Student Life,Support & Services
ATTACH;FMTTYPE=image/jpeg:https://www.winona.edu/about/wp-content/uploads/sites/3/2024/03/WSU_Student-Seeds-2019-02-14_151702.jpg
ORGANIZER;CN="Liz Schwanke":MAILTO:collegeofbusiness@winona.edu
END:VEVENT
BEGIN:VEVENT
DTSTART;TZID=America/Chicago:20260304T000000
DTEND;TZID=America/Chicago:20260305T235959
DTSTAMP:20260424T192828
CREATED:20251003T151540Z
LAST-MODIFIED:20251107T164858Z
UID:10001267-1772582400-1772755199@www.winona.edu
SUMMARY:All Hall Selection Opens for 2026-27 Priority Housing Application
DESCRIPTION:March 4-5 is when students can choose a room in any available residence hall.  \n\n\n\nThis is part of current students’ priority housing applications for the 2026-27 academic year. \n\n\n\n    Learn More about Housing for Current Students\n\n\n\n\n\nVenue\n\n\n\n\n\nContact\n\n\n\n\n\nDisclaimer\n\n\n\nThe views and opinions expressed by the speakers and programs hosted at Winona State University do not necessarily reflect the views or positions of the university or of the Minnesota State Colleges & Universities system.
URL:https://www.winona.edu/about/event/all-hall-selection-opens-for-2026-27-priority-housing-application/
LOCATION:Winona Campus\, 175 West Mark Street\, Winona\, MN\, 55987\, United States
CATEGORIES:Housing & Dining,Student Life
ATTACH;FMTTYPE=image/jpeg:https://www.winona.edu/about/wp-content/uploads/sites/3/2025/01/Pro-students-residence-hall-community-feature-2021-10-12.jpg
ORGANIZER;CN="Candice Guenther":MAILTO:cguenther@winona.edu
END:VEVENT
BEGIN:VEVENT
DTSTART;TZID=America/Chicago:20260304T100000
DTEND;TZID=America/Chicago:20260304T113000
DTSTAMP:20260424T192828
CREATED:20260106T215720Z
LAST-MODIFIED:20260106T215720Z
UID:10001401-1772618400-1772623800@www.winona.edu
SUMMARY:Click Into Wednesday: Photo Session
DESCRIPTION:Get your professional photo taken on campus for networking sites like LinkedIn and Handshake. We’ll email your free digital profile picture to your WSU account within 7-10 business days. \n\n\n\nSign up on Handshake to reserve your spot. To schedule your time slot\, apply to the Click Into Wednesday “job” in Handshake. Each photoshoot has a designated “job” to apply for. \n\n\n\nDrop-ins are welcomed\, but you may need to wait for the next available timeslot. \n\n\n\nRemember to bring your student ID (and a smile). \n\n\n\n    Explore Handshake\n\n\n\n\n\nVenue\n\n\n\n\n\nContact\n\n\n\n\n\nDisclaimer\n\n\n\nThe views and opinions expressed by the speakers and programs hosted at Winona State University do not necessarily reflect the views or positions of the university or of the Minnesota State Colleges & Universities system.
URL:https://www.winona.edu/about/event/click-into-wednesday-photo-session-march-4/
LOCATION:Photo Studio (Phelps B7)\, 175 West Mark Street\, Winona\, MN\, 55987\, United States
CATEGORIES:Career Services,Student Life,Support & Services,Warrior Success Center
ATTACH;FMTTYPE=image/jpeg:https://www.winona.edu/about/wp-content/uploads/sites/3/2026/01/WSU-student-professional-headshot-photo-studio-camera-2025-11-25.jpg
ORGANIZER;CN="DeAnna Goddard":MAILTO:dgoddard@winona.edu
END:VEVENT
BEGIN:VEVENT
DTSTART;TZID=America/Chicago:20260304T120000
DTEND;TZID=America/Chicago:20260304T130000
DTSTAMP:20260424T192828
CREATED:20260226T170823Z
LAST-MODIFIED:20260226T184533Z
UID:10001554-1772625600-1772629200@www.winona.edu
SUMMARY:Affinity Plus Lunch & Learn: Public Relations
DESCRIPTION:The College of Business has partnered with Affinity Plus Federal Credit Union for a monthly series of Lunch & Learn events throughout the Spring 2026 semester. \n\n\n\nOn March 4\, learn how Content & Public Relations Specialist Danielle Johnson creates and manages communications for Affinity Plus. \n\n\n\nLunch will also be provided. Although registration isn’t required to attend\, it’s greatly encouraged and appreciated\, as it helps us estimate how much food is needed for lunch. \n\n\n\n    Register for This Event\n\n\n\n\n\nVenue\n\n\n\n\n\nContact\n\n\n\n\n\nDisclaimer\n\n\n\nThe views and opinions expressed by the speakers and programs hosted at Winona State University do not necessarily reflect the views or positions of the university or of the Minnesota State Colleges & Universities system.
URL:https://www.winona.edu/about/event/affinity-plus-lunch-learn-public-relations/
LOCATION:College of Business Engagement Center\, 175 West Mark Street\, Winona\, MN\, 55987\, United States
CATEGORIES:Academics,College of Business,Colleges
ATTACH;FMTTYPE=image/jpeg:https://www.winona.edu/about/wp-content/uploads/sites/3/2024/12/WSU-business-students-professional-feature-2018-11-15.jpg
ORGANIZER;CN="Liz Schwanke":MAILTO:collegeofbusiness@winona.edu
END:VEVENT
BEGIN:VEVENT
DTSTART;TZID=America/Chicago:20260304T130000
DTEND;TZID=America/Chicago:20260304T150000
DTSTAMP:20260424T192828
CREATED:20250905T142240Z
LAST-MODIFIED:20251107T164850Z
UID:10001114-1772629200-1772636400@www.winona.edu
SUMMARY:S'more Fun
DESCRIPTION:On March 4\, stop by the Fire Feature Patio for free marshmallow goodness (weather-permitting). \n\n\n\n\n\nVenue\n\n\n\n\n\nContact\n\n\n\n\n\nDisclaimer\n\n\n\nThe views and opinions expressed by the speakers and programs hosted at Winona State University do not necessarily reflect the views or positions of the university or of the Minnesota State Colleges & Universities system.
URL:https://www.winona.edu/about/event/smore-fun-march-4/
LOCATION:Fire Feature Patio\, 250 W 10th St\, Winona\, MN\, 55987\, United States
CATEGORIES:Events & Traditions,Student Life
ATTACH;FMTTYPE=image/jpeg:https://www.winona.edu/about/wp-content/uploads/sites/3/2025/01/WSU-female-students-roasting-smores-fire-feature-2023-08-18.jpg
ORGANIZER;CN="George Micalone":MAILTO:george.micalone@winona.edu
END:VEVENT
BEGIN:VEVENT
DTSTART;TZID=America/Chicago:20260304T140000
DTEND;TZID=America/Chicago:20260304T160000
DTSTAMP:20260424T192828
CREATED:20260127T165617Z
LAST-MODIFIED:20260127T165618Z
UID:10001499-1772632800-1772640000@www.winona.edu
SUMMARY:Senior University: The Aging Brain
DESCRIPTION:Join a discussion about the aging brain and the science of strokes. You’ll also learn about stroke warning signs\, risk factors\, prevention\, and treatment. \n\n\n\nTaught by neuroscientist Dr. Richard Deyo\, this final session invites participants to explore hands-on memory and movement activities\, plus some basic microscope work in Winona State’s Neurosciences Lab. \n\n\n\nThis Senior University class is 5 sessions total\, and the course fee of $40 covers all 5 class meetings. \n\n\n\nThis class is for older adults only. \n\n\n\n    Register for This Class\n\n\n\n\n\nVenue\n\n\n\n\n\nContact\n\n\n\n\n\nDisclaimer\n\n\n\nThe views and opinions expressed by the speakers and programs hosted at Winona State University do not necessarily reflect the views or positions of the university or of the Minnesota State Colleges & Universities system.
URL:https://www.winona.edu/about/event/senior-university-the-aging-brain-march-4/
LOCATION:Phelps 210\, 175 West Mark Street\, Winona\, MN\, 55987\, United States
CATEGORIES:About,Leadership & Administration
ATTACH;FMTTYPE=image/jpeg:https://www.winona.edu/about/wp-content/uploads/sites/3/2023/02/WSU-Student-Older-Adult-Blood-Pressure-2016-09-23.jpg
ORGANIZER;CN="Jess Kauphusman":MAILTO:jkauphusman@winona.edu
END:VEVENT
END:VCALENDAR