BEGIN:VCALENDAR
VERSION:2.0
PRODID:-//About - ECPv6.15.16//NONSGML v1.0//EN
CALSCALE:GREGORIAN
METHOD:PUBLISH
X-WR-CALNAME:About
X-ORIGINAL-URL:https://www.winona.edu/about
X-WR-CALDESC:Events for About
REFRESH-INTERVAL;VALUE=DURATION:PT1H
X-Robots-Tag:noindex
X-PUBLISHED-TTL:PT1H
BEGIN:VTIMEZONE
TZID:America/Chicago
BEGIN:DAYLIGHT
TZOFFSETFROM:-0600
TZOFFSETTO:-0500
TZNAME:CDT
DTSTART:20250309T080000
END:DAYLIGHT
BEGIN:STANDARD
TZOFFSETFROM:-0500
TZOFFSETTO:-0600
TZNAME:CST
DTSTART:20251102T070000
END:STANDARD
BEGIN:DAYLIGHT
TZOFFSETFROM:-0600
TZOFFSETTO:-0500
TZNAME:CDT
DTSTART:20260308T080000
END:DAYLIGHT
BEGIN:STANDARD
TZOFFSETFROM:-0500
TZOFFSETTO:-0600
TZNAME:CST
DTSTART:20261101T070000
END:STANDARD
BEGIN:DAYLIGHT
TZOFFSETFROM:-0600
TZOFFSETTO:-0500
TZNAME:CDT
DTSTART:20270314T080000
END:DAYLIGHT
BEGIN:STANDARD
TZOFFSETFROM:-0500
TZOFFSETTO:-0600
TZNAME:CST
DTSTART:20271107T070000
END:STANDARD
END:VTIMEZONE
BEGIN:VEVENT
DTSTART;TZID=America/Chicago:20260420T000000
DTEND;TZID=America/Chicago:20260508T235959
DTSTAMP:20260424T192827
CREATED:20260409T184953Z
LAST-MODIFIED:20260409T184954Z
UID:10001626-1776643200-1778284799@www.winona.edu
SUMMARY:"Dreaming" Design Exhibition
DESCRIPTION:The Laird Norton Center will host the exhibition “Dreaming\,” by Art & Design seniors from April 20-May 8. \n\n\n\n“Dreaming” explores how dreams reveal the tensions and connections between Falling and Flying\, Remembering and Forgetting\, Transforming and Awakening\, and Chasing. \n\n\n\nA butterfly appears throughout the exhibit as a symbolic guide\, leading visitors through reflective spaces that examine transformation\, time\, and the deeply personal paths that dreams can open. \n\n\n\nExhibition Hours\n\n\n\n\nMondays: 2-6pm\n\n\n\nTuesdays: 10am-4pm\n\n\n\nWednesdays: 2-6pm\n\n\n\nThursdays: 10am-4pm\n\n\n\nFridays: 2-4pm\n\n\n\n\n    Learn More about This Exhibition\n\n\n\n\n\nCreative Works & Artists\n\n\n\n\nFalling & Flying\n\nKira Kainz ’26\, I-Design major with Conceptual Illustration concentration\n\n\n\nSadie Marks ’26\, I-Design major with Business & Marketing concentration\n\n\n\n\n\nRemembering & Forgetting\n\nAddie DeMars ’26\, Graphic Design major\n\n\n\nLily Schartau ’26\, I-Design major with Sustainable Applications concentration\n\n\n\n\n\nTransforming & Awakening\n\nAlison Buck ’26\, I-Design major with Sustainable Applications concentration\n\n\n\nThea McAdams ’26\, I-Design major with Sustainable Applications concentration\n\n\n\n\n\n\nVenue\n\n\n\n\n\nContact\n\n\n\n\n\nDisclaimer\n\n\n\nThe views and opinions expressed by the speakers and programs hosted at Winona State University do not necessarily reflect the views or positions of the university or of the Minnesota State Colleges & Universities system.
URL:https://www.winona.edu/about/event/dreaming-design-exhibition/
LOCATION:Laird Norton Center for Art & Design\, 125 W 5th St\, Winona\, MN\, 55987\, United States
CATEGORIES:Academics,Art & Design Department,Arts & Entertainment,College of Liberal Arts,Colleges,Student Life
ATTACH;FMTTYPE=image/jpeg:https://www.winona.edu/about/wp-content/uploads/sites/3/2024/11/WSU-male-student-wall-art-feature-2019-11-29.jpg
ORGANIZER;CN="Danilo Bojic":MAILTO:dbojic@winona.edu
END:VEVENT
BEGIN:VEVENT
DTSTART;TZID=America/Chicago:20260504T000000
DTEND;TZID=America/Chicago:20260507T235959
DTSTAMP:20260424T192827
CREATED:20250109T223101Z
LAST-MODIFIED:20260115T201625Z
UID:10000472-1777852800-1778198399@www.winona.edu
SUMMARY:Final Examinations
DESCRIPTION:Final examinations for the Spring 2026 term will be held May 4-7. \n\n\n\n    Learn More about Final Exams\n\n\n\n\n\nVenue\n\n\n\n\n\nContact\n\n\n\n\n\nDisclaimer\n\n\n\nThe views and opinions expressed by the speakers and programs hosted at Winona State University do not necessarily reflect the views or positions of the university or of the Minnesota State Colleges & Universities system.
URL:https://www.winona.edu/about/event/final-examinations-spring-2026/
LOCATION:Winona Campus\, 175 West Mark Street\, Winona\, MN\, 55987\, United States
CATEGORIES:Important Dates
ATTACH;FMTTYPE=image/jpeg:https://www.winona.edu/about/wp-content/uploads/sites/3/2022/11/WSU_Female-Student-Laptop-Code-2022-05-18_134220.jpg
ORGANIZER;CN="Academic Affairs":MAILTO:academicaffairs@winona.edu
END:VEVENT
BEGIN:VEVENT
DTSTART;TZID=America/Chicago:20260505T110000
DTEND;TZID=America/Chicago:20260505T133000
DTSTAMP:20260424T192827
CREATED:20250917T150240Z
LAST-MODIFIED:20251110T150918Z
UID:10001176-1777978800-1777987800@www.winona.edu
SUMMARY:Tea Tuesday
DESCRIPTION:Enjoy free tea on the first floor of the library. \n\n\n\n\n\nVenue\n\n\n\n\n\nContact\n\n\n\n\n\nDisclaimer\n\n\n\nThe views and opinions expressed by the speakers and programs hosted at Winona State University do not necessarily reflect the views or positions of the university or of the Minnesota State Colleges & Universities system.
URL:https://www.winona.edu/about/event/tea-tuesday-may-5/
LOCATION:Library Floor 1\, 525 Johnson St\, Winona\, MN\, 55987\, United States
CATEGORIES:Health & Wellness,Student Life
ATTACH;FMTTYPE=image/jpeg:https://www.winona.edu/about/wp-content/uploads/sites/3/2024/12/WSU-female-student-coffee-mug-feature-2019-06-03.jpg
ORGANIZER;CN="Kayla Olson":MAILTO:kayla.olson@winona.edu
END:VEVENT
BEGIN:VEVENT
DTSTART;TZID=America/Chicago:20260505T130000
DTEND;TZID=America/Chicago:20260505T160000
DTSTAMP:20260424T192827
CREATED:20260127T165743Z
LAST-MODIFIED:20260127T165744Z
UID:10001492-1777986000-1777996800@www.winona.edu
SUMMARY:Senior University: 5 Comedies from the '30s & '40s
DESCRIPTION:Watch and discuss how 5 comedies directed by Frank Capra used humor to reflect life during the Great Depression and World War II and why they’re relevant today. \n\n\n\nFilms include: \n\n\n\n\n“It Happened One Night” (1934)\n\n\n\n“Mr. Deeds Goes to Town” (1936)\n\n\n\n“Mr. Smith Goes to Washington” (1939)\n\n\n\n“You Can’t Take It with You” (1938)\n\n\n\n“It’s a Wonderful Life” (1946)\n\n\n\n\nTaught by Winona State Professor Emeritus David Robinson\, this second session is located in SLC 120. \n\n\n\nThis Senior University class is 5 sessions total\, and the course fee of $40 covers all 5 class meetings. \n\n\n\nThis class is for older adults only. \n\n\n\n    Register for This Class\n\n\n\n\n\nVenue\n\n\n\n\n\nContact\n\n\n\n\n\nDisclaimer\n\n\n\nThe views and opinions expressed by the speakers and programs hosted at Winona State University do not necessarily reflect the views or positions of the university or of the Minnesota State Colleges & Universities system.
URL:https://www.winona.edu/about/event/senior-university-5-comedies-from-the-30s-40s-may-5/
LOCATION:SLC 120\, 400 Winona St\, Winona\, MN\, 55987\, United States
CATEGORIES:About,Leadership & Administration
ATTACH;FMTTYPE=image/jpeg:https://www.winona.edu/about/wp-content/uploads/sites/3/2025/07/WSU_Older-Adults-Event-2018-06-20.jpg
ORGANIZER;CN="Jess Kauphusman":MAILTO:jkauphusman@winona.edu
END:VEVENT
BEGIN:VEVENT
DTSTART;TZID=America/Chicago:20260505T150000
DTEND;TZID=America/Chicago:20260505T160000
DTSTAMP:20260424T192827
CREATED:20260413T175124Z
LAST-MODIFIED:20260413T175125Z
UID:10001635-1777993200-1777996800@www.winona.edu
SUMMARY:De-stress with the WSU Nursing Club
DESCRIPTION:Stop by the Gazebo to de-stress during Finals Week with fun activities like sidewalk chalk\, coloring pages\, and bubbles. \n\n\n\nThis event is sponsored by the WSU Nursing Club \n\n\n\n\n\nVenue\n\n\n\n\n\nContact\n\n\n\n\n\nDisclaimer\n\n\n\nThe views and opinions expressed by the speakers and programs hosted at Winona State University do not necessarily reflect the views or positions of the university or of the Minnesota State Colleges & Universities system.
URL:https://www.winona.edu/about/event/de-stress-with-the-wsu-nursing-club/
LOCATION:Gazebo\, 175 W Mark St\, Winona\, MN\, 55987\, United States
CATEGORIES:Clubs & Activities,Clubs & Organizations,Student Life
ATTACH;FMTTYPE=image/jpeg:https://www.winona.edu/about/wp-content/uploads/sites/3/2025/11/WSU-student-painting-brush-feature-2023-10-10.jpg
ORGANIZER;CN="Elsa Ralston":MAILTO:elsa.ralston@go.winona.edu
END:VEVENT
BEGIN:VEVENT
DTSTART;TZID=America/Chicago:20260505T210000
DTEND;TZID=America/Chicago:20260505T223000
DTSTAMP:20260424T192827
CREATED:20260226T165719Z
LAST-MODIFIED:20260226T165720Z
UID:10001559-1778014800-1778020200@www.winona.edu
SUMMARY:Late-Night Breakfast
DESCRIPTION:Take a study break and recharge with a late-night breakfast in the Jack Kane Dining Hall. \n\n\n\nThis event is free and open to Winona State students only. Please bring your WSU student ID or show your student ID in the GET app for entry. \n\n\n\nThis event is sponsored by Chartwells. \n\n\n\n\n\nVenue\n\n\n\n\n\nContact\n\n\n\n\n\nDisclaimer\n\n\n\nThe views and opinions expressed by the speakers and programs hosted at Winona State University do not necessarily reflect the views or positions of the university or of the Minnesota State Colleges & Universities system.
URL:https://www.winona.edu/about/event/late-night-breakfast-may-5/
LOCATION:Jack Kane Dining Hall\, 250 W 10th St\, Winona\, MN\, 55987\, United States
CATEGORIES:Housing & Dining,Student Life
ATTACH;FMTTYPE=image/png:https://www.winona.edu/about/wp-content/uploads/sites/3/2025/07/Jack-Kane-Dining.png
ORGANIZER;CN="Grace Waller":MAILTO:grace.waller@winon.edu
END:VEVENT
END:VCALENDAR