BEGIN:VCALENDAR
VERSION:2.0
PRODID:-//About - ECPv6.15.16//NONSGML v1.0//EN
CALSCALE:GREGORIAN
METHOD:PUBLISH
X-WR-CALNAME:About
X-ORIGINAL-URL:https://www.winona.edu/about
X-WR-CALDESC:Events for About
REFRESH-INTERVAL;VALUE=DURATION:PT1H
X-Robots-Tag:noindex
X-PUBLISHED-TTL:PT1H
BEGIN:VTIMEZONE
TZID:America/Chicago
BEGIN:DAYLIGHT
TZOFFSETFROM:-0600
TZOFFSETTO:-0500
TZNAME:CDT
DTSTART:20250309T080000
END:DAYLIGHT
BEGIN:STANDARD
TZOFFSETFROM:-0500
TZOFFSETTO:-0600
TZNAME:CST
DTSTART:20251102T070000
END:STANDARD
BEGIN:DAYLIGHT
TZOFFSETFROM:-0600
TZOFFSETTO:-0500
TZNAME:CDT
DTSTART:20260308T080000
END:DAYLIGHT
BEGIN:STANDARD
TZOFFSETFROM:-0500
TZOFFSETTO:-0600
TZNAME:CST
DTSTART:20261101T070000
END:STANDARD
BEGIN:DAYLIGHT
TZOFFSETFROM:-0600
TZOFFSETTO:-0500
TZNAME:CDT
DTSTART:20270314T080000
END:DAYLIGHT
BEGIN:STANDARD
TZOFFSETFROM:-0500
TZOFFSETTO:-0600
TZNAME:CST
DTSTART:20271107T070000
END:STANDARD
END:VTIMEZONE
BEGIN:VEVENT
DTSTART;TZID=America/Chicago:20260420T000000
DTEND;TZID=America/Chicago:20260508T235959
DTSTAMP:20260424T192740
CREATED:20260409T184953Z
LAST-MODIFIED:20260409T184954Z
UID:10001626-1776643200-1778284799@www.winona.edu
SUMMARY:"Dreaming" Design Exhibition
DESCRIPTION:The Laird Norton Center will host the exhibition “Dreaming\,” by Art & Design seniors from April 20-May 8. \n\n\n\n“Dreaming” explores how dreams reveal the tensions and connections between Falling and Flying\, Remembering and Forgetting\, Transforming and Awakening\, and Chasing. \n\n\n\nA butterfly appears throughout the exhibit as a symbolic guide\, leading visitors through reflective spaces that examine transformation\, time\, and the deeply personal paths that dreams can open. \n\n\n\nExhibition Hours\n\n\n\n\nMondays: 2-6pm\n\n\n\nTuesdays: 10am-4pm\n\n\n\nWednesdays: 2-6pm\n\n\n\nThursdays: 10am-4pm\n\n\n\nFridays: 2-4pm\n\n\n\n\n    Learn More about This Exhibition\n\n\n\n\n\nCreative Works & Artists\n\n\n\n\nFalling & Flying\n\nKira Kainz ’26\, I-Design major with Conceptual Illustration concentration\n\n\n\nSadie Marks ’26\, I-Design major with Business & Marketing concentration\n\n\n\n\n\nRemembering & Forgetting\n\nAddie DeMars ’26\, Graphic Design major\n\n\n\nLily Schartau ’26\, I-Design major with Sustainable Applications concentration\n\n\n\n\n\nTransforming & Awakening\n\nAlison Buck ’26\, I-Design major with Sustainable Applications concentration\n\n\n\nThea McAdams ’26\, I-Design major with Sustainable Applications concentration\n\n\n\n\n\n\nVenue\n\n\n\n\n\nContact\n\n\n\n\n\nDisclaimer\n\n\n\nThe views and opinions expressed by the speakers and programs hosted at Winona State University do not necessarily reflect the views or positions of the university or of the Minnesota State Colleges & Universities system.
URL:https://www.winona.edu/about/event/dreaming-design-exhibition/
LOCATION:Laird Norton Center for Art & Design\, 125 W 5th St\, Winona\, MN\, 55987\, United States
CATEGORIES:Academics,Art & Design Department,Arts & Entertainment,College of Liberal Arts,Colleges,Student Life
ATTACH;FMTTYPE=image/jpeg:https://www.winona.edu/about/wp-content/uploads/sites/3/2024/11/WSU-male-student-wall-art-feature-2019-11-29.jpg
ORGANIZER;CN="Danilo Bojic":MAILTO:dbojic@winona.edu
END:VEVENT
BEGIN:VEVENT
DTSTART;TZID=America/Chicago:20260504T000000
DTEND;TZID=America/Chicago:20260507T235959
DTSTAMP:20260424T192740
CREATED:20250109T223101Z
LAST-MODIFIED:20260115T201625Z
UID:10000472-1777852800-1778198399@www.winona.edu
SUMMARY:Final Examinations
DESCRIPTION:Final examinations for the Spring 2026 term will be held May 4-7. \n\n\n\n    Learn More about Final Exams\n\n\n\n\n\nVenue\n\n\n\n\n\nContact\n\n\n\n\n\nDisclaimer\n\n\n\nThe views and opinions expressed by the speakers and programs hosted at Winona State University do not necessarily reflect the views or positions of the university or of the Minnesota State Colleges & Universities system.
URL:https://www.winona.edu/about/event/final-examinations-spring-2026/
LOCATION:Winona Campus\, 175 West Mark Street\, Winona\, MN\, 55987\, United States
CATEGORIES:Important Dates
ATTACH;FMTTYPE=image/jpeg:https://www.winona.edu/about/wp-content/uploads/sites/3/2022/11/WSU_Female-Student-Laptop-Code-2022-05-18_134220.jpg
ORGANIZER;CN="Academic Affairs":MAILTO:academicaffairs@winona.edu
END:VEVENT
BEGIN:VEVENT
DTSTART;TZID=America/Chicago:20260507T140000
DTEND;TZID=America/Chicago:20260507T160000
DTSTAMP:20260424T192740
CREATED:20260225T163349Z
LAST-MODIFIED:20260225T163350Z
UID:10001483-1778162400-1778169600@www.winona.edu
SUMMARY:Retiree Discussion Group: War\, Peace\, & Terrorism
DESCRIPTION:Join us for the ninth session of this discussion-based group to discuss timely global issues in a Socrates Café-style format. \n\n\n\nLed by Emeritus Professor of Philosophy Don E. Scheid\, this group will explore complex themes of war\, the pursuit of peace\, and the changing nature of terrorism. \n\n\n\nOpen to all adult learners within and beyond the Winona State University community. \n\n\n\n\n\nVenue\n\n\n\n\n\nContact\n\n\n\n\n\nDisclaimer\n\n\n\nThe views and opinions expressed by the speakers and programs hosted at Winona State University do not necessarily reflect the views or positions of the university or of the Minnesota State Colleges & Universities system.
URL:https://www.winona.edu/about/event/retiree-discussion-group-war-peace-terrorism-may-7/
LOCATION:Minné 236\, 525 Washington St\, Winona\, MN\, 55987\, United States
CATEGORIES:About,Leadership & Administration
ATTACH;FMTTYPE=image/jpeg:https://www.winona.edu/about/wp-content/uploads/sites/3/2025/07/WSU-Retiree-adults-feature-2023-04-27.jpg
ORGANIZER;CN="Jess Kauphusman":MAILTO:jkauphusman@winona.edu
END:VEVENT
BEGIN:VEVENT
DTSTART;TZID=America/Chicago:20260507T150000
DTEND;TZID=America/Chicago:20260507T170000
DTSTAMP:20260424T192740
CREATED:20260401T162433Z
LAST-MODIFIED:20260401T162434Z
UID:10001616-1778166000-1778173200@www.winona.edu
SUMMARY:Undergraduate Nursing Commencement & Pinning Ceremony
DESCRIPTION:May 7 is the Spring 2026 Commencement and pinning ceremony for undergraduate Nursing students only. \n\n\n\n \n\n\n\n    Learn More about Commencement\n\n\n\n\n\nVenue\n\n\n\n\n\nContact\n\n\n\n\n\nDisclaimer\n\n\n\nThe views and opinions expressed by the speakers and programs hosted at Winona State University do not necessarily reflect the views or positions of the university or of the Minnesota State Colleges & Universities system.
URL:https://www.winona.edu/about/event/undergraduate-nursing-commencement-pinning-ceremony-spring-2026/
LOCATION:McCown Gym\, 175 W Mark St\, Winona\, MN\, 55987\, United States
CATEGORIES:College of Nursing & Health Sciences,Colleges,Important Dates,Undergraduate Nursing Department
ATTACH;FMTTYPE=image/jpeg:https://www.winona.edu/about/wp-content/uploads/sites/3/2026/04/WSU-hands-pins-Nursing-pinning-ceremony-feature-2022-12-08.jpg
ORGANIZER;CN="Graduation Team":MAILTO:graduation@winona.edu
END:VEVENT
END:VCALENDAR