BEGIN:VCALENDAR
VERSION:2.0
PRODID:-//About - ECPv6.15.16//NONSGML v1.0//EN
CALSCALE:GREGORIAN
METHOD:PUBLISH
X-ORIGINAL-URL:https://www.winona.edu/about
X-WR-CALDESC:Events for About
REFRESH-INTERVAL;VALUE=DURATION:PT1H
X-Robots-Tag:noindex
X-PUBLISHED-TTL:PT1H
BEGIN:VTIMEZONE
TZID:America/Chicago
BEGIN:DAYLIGHT
TZOFFSETFROM:-0600
TZOFFSETTO:-0500
TZNAME:CDT
DTSTART:20250309T080000
END:DAYLIGHT
BEGIN:STANDARD
TZOFFSETFROM:-0500
TZOFFSETTO:-0600
TZNAME:CST
DTSTART:20251102T070000
END:STANDARD
BEGIN:DAYLIGHT
TZOFFSETFROM:-0600
TZOFFSETTO:-0500
TZNAME:CDT
DTSTART:20260308T080000
END:DAYLIGHT
BEGIN:STANDARD
TZOFFSETFROM:-0500
TZOFFSETTO:-0600
TZNAME:CST
DTSTART:20261101T070000
END:STANDARD
BEGIN:DAYLIGHT
TZOFFSETFROM:-0600
TZOFFSETTO:-0500
TZNAME:CDT
DTSTART:20270314T080000
END:DAYLIGHT
BEGIN:STANDARD
TZOFFSETFROM:-0500
TZOFFSETTO:-0600
TZNAME:CST
DTSTART:20271107T070000
END:STANDARD
END:VTIMEZONE
BEGIN:VEVENT
DTSTART;TZID=America/Chicago:20260420T000000
DTEND;TZID=America/Chicago:20260508T235959
DTSTAMP:20260424T193100
CREATED:20260409T184953Z
LAST-MODIFIED:20260409T184954Z
UID:10001626-1776643200-1778284799@www.winona.edu
SUMMARY:"Dreaming" Design Exhibition
DESCRIPTION:The Laird Norton Center will host the exhibition “Dreaming\,” by Art & Design seniors from April 20-May 8. \n\n\n\n“Dreaming” explores how dreams reveal the tensions and connections between Falling and Flying\, Remembering and Forgetting\, Transforming and Awakening\, and Chasing. \n\n\n\nA butterfly appears throughout the exhibit as a symbolic guide\, leading visitors through reflective spaces that examine transformation\, time\, and the deeply personal paths that dreams can open. \n\n\n\nExhibition Hours\n\n\n\n\nMondays: 2-6pm\n\n\n\nTuesdays: 10am-4pm\n\n\n\nWednesdays: 2-6pm\n\n\n\nThursdays: 10am-4pm\n\n\n\nFridays: 2-4pm\n\n\n\n\n    Learn More about This Exhibition\n\n\n\n\n\nCreative Works & Artists\n\n\n\n\nFalling & Flying\n\nKira Kainz ’26\, I-Design major with Conceptual Illustration concentration\n\n\n\nSadie Marks ’26\, I-Design major with Business & Marketing concentration\n\n\n\n\n\nRemembering & Forgetting\n\nAddie DeMars ’26\, Graphic Design major\n\n\n\nLily Schartau ’26\, I-Design major with Sustainable Applications concentration\n\n\n\n\n\nTransforming & Awakening\n\nAlison Buck ’26\, I-Design major with Sustainable Applications concentration\n\n\n\nThea McAdams ’26\, I-Design major with Sustainable Applications concentration\n\n\n\n\n\n\nVenue\n\n\n\n\n\nContact\n\n\n\n\n\nDisclaimer\n\n\n\nThe views and opinions expressed by the speakers and programs hosted at Winona State University do not necessarily reflect the views or positions of the university or of the Minnesota State Colleges & Universities system.
URL:https://www.winona.edu/about/event/dreaming-design-exhibition/
LOCATION:Laird Norton Center for Art & Design\, 125 W 5th St\, Winona\, MN\, 55987\, United States
CATEGORIES:Academics,Art & Design Department,Arts & Entertainment,College of Liberal Arts,Colleges,Student Life
ATTACH;FMTTYPE=image/jpeg:https://www.winona.edu/about/wp-content/uploads/sites/3/2024/11/WSU-male-student-wall-art-feature-2019-11-29.jpg
ORGANIZER;CN="Danilo Bojic":MAILTO:dbojic@winona.edu
END:VEVENT
BEGIN:VEVENT
DTSTART;TZID=America/Chicago:20260508T000000
DTEND;TZID=America/Chicago:20260508T235959
DTSTAMP:20260424T193100
CREATED:20260401T161151Z
LAST-MODIFIED:20260401T161357Z
UID:10000474-1778198400-1778284799@www.winona.edu
SUMMARY:Commencement
DESCRIPTION:May 8 is the Spring 2026 Commencement. \n\n\n\nSchedule\n\n\n\n\n\n    \n        9am Ceremony\n12pm Ceremony\n3pm Ceremony\n    \n\n    \n        9am Ceremony\nThis ceremony will celebrate all undergraduate students from: \n\nCollege of Education\nCollege of Liberal Arts\nCollege of Science & Engineering\n\n\n12pm Ceremony\nThis ceremony will celebrate all undergraduate students from: \n\nCollege of Business\nCollege of Nursing & Health Sciences (except Nursing majors)\n\n\n3pm Ceremony\nThis ceremony will celebrate students in Graduate Studies programs from all colleges. \n\n    \n\n\n\n\n \n\n\n\n    Learn More about Commencement\n\n\n\n\n\nVenue\n\n\n\n\n\nContact\n\n\n\n\n\nDisclaimer\n\n\n\nThe views and opinions expressed by the speakers and programs hosted at Winona State University do not necessarily reflect the views or positions of the university or of the Minnesota State Colleges & Universities system.
URL:https://www.winona.edu/about/event/commencement-spring-2026/
LOCATION:McCown Gym\, 175 W Mark St\, Winona\, MN\, 55987\, United States
CATEGORIES:Important Dates
ATTACH;FMTTYPE=image/jpeg:https://www.winona.edu/about/wp-content/uploads/sites/3/2023/03/WSU-Female-Graduate-Commencement-Bell-2022-12-09_123250.jpg
ORGANIZER;CN="Graduation Team":MAILTO:graduation@winona.edu
END:VEVENT
BEGIN:VEVENT
DTSTART;TZID=America/Chicago:20260508T000000
DTEND;TZID=America/Chicago:20260513T235959
DTSTAMP:20260424T193100
CREATED:20250109T223224Z
LAST-MODIFIED:20260115T201700Z
UID:10000473-1778198400-1778716799@www.winona.edu
SUMMARY:Grading Period
DESCRIPTION:May 8-13 is faculty’s grading period for Spring 2026 classes. \n\n\n\n\n\nVenue\n\n\n\n\n\nContact\n\n\n\n\n\nDisclaimer\n\n\n\nThe views and opinions expressed by the speakers and programs hosted at Winona State University do not necessarily reflect the views or positions of the university or of the Minnesota State Colleges & Universities system.
URL:https://www.winona.edu/about/event/grading-period-spring-2026/
LOCATION:Winona Campus\, 175 West Mark Street\, Winona\, MN\, 55987\, United States
CATEGORIES:Important Dates
ATTACH;FMTTYPE=image/jpeg:https://www.winona.edu/about/wp-content/uploads/sites/3/2022/12/WSU-Letters-Somsen-2019-07-23_121106.jpg
ORGANIZER;CN="Academic Affairs":MAILTO:academicaffairs@winona.edu
END:VEVENT
END:VCALENDAR