BEGIN:VCALENDAR
VERSION:2.0
PRODID:-//About - ECPv6.15.16//NONSGML v1.0//EN
CALSCALE:GREGORIAN
METHOD:PUBLISH
X-WR-CALNAME:About
X-ORIGINAL-URL:https://www.winona.edu/about
X-WR-CALDESC:Events for About
REFRESH-INTERVAL;VALUE=DURATION:PT1H
X-Robots-Tag:noindex
X-PUBLISHED-TTL:PT1H
BEGIN:VTIMEZONE
TZID:America/Chicago
BEGIN:DAYLIGHT
TZOFFSETFROM:-0600
TZOFFSETTO:-0500
TZNAME:CDT
DTSTART:20250309T080000
END:DAYLIGHT
BEGIN:STANDARD
TZOFFSETFROM:-0500
TZOFFSETTO:-0600
TZNAME:CST
DTSTART:20251102T070000
END:STANDARD
BEGIN:DAYLIGHT
TZOFFSETFROM:-0600
TZOFFSETTO:-0500
TZNAME:CDT
DTSTART:20260308T080000
END:DAYLIGHT
BEGIN:STANDARD
TZOFFSETFROM:-0500
TZOFFSETTO:-0600
TZNAME:CST
DTSTART:20261101T070000
END:STANDARD
BEGIN:DAYLIGHT
TZOFFSETFROM:-0600
TZOFFSETTO:-0500
TZNAME:CDT
DTSTART:20270314T080000
END:DAYLIGHT
BEGIN:STANDARD
TZOFFSETFROM:-0500
TZOFFSETTO:-0600
TZNAME:CST
DTSTART:20271107T070000
END:STANDARD
END:VTIMEZONE
BEGIN:VEVENT
DTSTART;TZID=America/Chicago:20260508T000000
DTEND;TZID=America/Chicago:20260513T235959
DTSTAMP:20260424T192859
CREATED:20250109T223224Z
LAST-MODIFIED:20260115T201700Z
UID:10000473-1778198400-1778716799@www.winona.edu
SUMMARY:Grading Period
DESCRIPTION:May 8-13 is faculty’s grading period for Spring 2026 classes. \n\n\n\n\n\nVenue\n\n\n\n\n\nContact\n\n\n\n\n\nDisclaimer\n\n\n\nThe views and opinions expressed by the speakers and programs hosted at Winona State University do not necessarily reflect the views or positions of the university or of the Minnesota State Colleges & Universities system.
URL:https://www.winona.edu/about/event/grading-period-spring-2026/
LOCATION:Winona Campus\, 175 West Mark Street\, Winona\, MN\, 55987\, United States
CATEGORIES:Important Dates
ATTACH;FMTTYPE=image/jpeg:https://www.winona.edu/about/wp-content/uploads/sites/3/2022/12/WSU-Letters-Somsen-2019-07-23_121106.jpg
ORGANIZER;CN="Academic Affairs":MAILTO:academicaffairs@winona.edu
END:VEVENT
BEGIN:VEVENT
DTSTART;TZID=America/Chicago:20260512T090000
DTEND;TZID=America/Chicago:20260512T110000
DTSTAMP:20260424T192859
CREATED:20260122T180410Z
LAST-MODIFIED:20260122T180410Z
UID:10001432-1778576400-1778583600@www.winona.edu
SUMMARY:Retiree Breakfast
DESCRIPTION:Join us on May 12 for a light breakfast and great conversation. \n\n\n\nThis event is for Winona State retirees and administrators only. \n\n\n\n\n\nVenue\n\n\n\n\n\nContact\n\n\n\n\n\nDisclaimer\n\n\n\nThe views and opinions expressed by the speakers and programs hosted at Winona State University do not necessarily reflect the views or positions of the university or of the Minnesota State Colleges & Universities system.
URL:https://www.winona.edu/about/event/retiree-breakfast-may-12/
LOCATION:Purple Rooms\, 250 W 10th St\, Winona\, MN\, 55987\, United States
CATEGORIES:About,Leadership & Administration
ATTACH;FMTTYPE=image/jpeg:https://www.winona.edu/about/wp-content/uploads/sites/3/2025/07/WSU-Alumni-Retiree-event-feature-2016-10-14.jpg
ORGANIZER;CN="Jess Kauphusman":MAILTO:jkauphusman@winona.edu
END:VEVENT
BEGIN:VEVENT
DTSTART;TZID=America/Chicago:20260512T130000
DTEND;TZID=America/Chicago:20260512T160000
DTSTAMP:20260424T192859
CREATED:20260127T165742Z
LAST-MODIFIED:20260127T165743Z
UID:10001493-1778590800-1778601600@www.winona.edu
SUMMARY:Senior University: 5 Comedies from the '30s & '40s
DESCRIPTION:Watch and discuss how 5 comedies directed by Frank Capra used humor to reflect life during the Great Depression and World War II and why they’re relevant today. \n\n\n\nFilms include: \n\n\n\n\n“It Happened One Night” (1934)\n\n\n\n“Mr. Deeds Goes to Town” (1936)\n\n\n\n“Mr. Smith Goes to Washington” (1939)\n\n\n\n“You Can’t Take It with You” (1938)\n\n\n\n“It’s a Wonderful Life” (1946)\n\n\n\n\nTaught by Winona State Professor Emeritus David Robinson\, this third session is located in SLC 120. \n\n\n\nThis Senior University class is 5 sessions total\, and the course fee of $40 covers all 5 class meetings. \n\n\n\nThis class is for older adults only. \n\n\n\n    Register for This Class\n\n\n\n\n\nVenue\n\n\n\n\n\nContact\n\n\n\n\n\nDisclaimer\n\n\n\nThe views and opinions expressed by the speakers and programs hosted at Winona State University do not necessarily reflect the views or positions of the university or of the Minnesota State Colleges & Universities system.
URL:https://www.winona.edu/about/event/senior-university-5-comedies-from-the-30s-40s-may-12/
LOCATION:SLC 120\, 400 Winona St\, Winona\, MN\, 55987\, United States
CATEGORIES:About,Leadership & Administration
ATTACH;FMTTYPE=image/jpeg:https://www.winona.edu/about/wp-content/uploads/sites/3/2025/07/WSU_Older-Adults-Event-2018-06-20.jpg
ORGANIZER;CN="Jess Kauphusman":MAILTO:jkauphusman@winona.edu
END:VEVENT
END:VCALENDAR