BEGIN:VCALENDAR
VERSION:2.0
PRODID:-//About - ECPv6.15.16//NONSGML v1.0//EN
CALSCALE:GREGORIAN
METHOD:PUBLISH
X-ORIGINAL-URL:https://www.winona.edu/about
X-WR-CALDESC:Events for About
REFRESH-INTERVAL;VALUE=DURATION:PT1H
X-Robots-Tag:noindex
X-PUBLISHED-TTL:PT1H
BEGIN:VTIMEZONE
TZID:America/Chicago
BEGIN:DAYLIGHT
TZOFFSETFROM:-0600
TZOFFSETTO:-0500
TZNAME:CDT
DTSTART:20250309T080000
END:DAYLIGHT
BEGIN:STANDARD
TZOFFSETFROM:-0500
TZOFFSETTO:-0600
TZNAME:CST
DTSTART:20251102T070000
END:STANDARD
BEGIN:DAYLIGHT
TZOFFSETFROM:-0600
TZOFFSETTO:-0500
TZNAME:CDT
DTSTART:20260308T080000
END:DAYLIGHT
BEGIN:STANDARD
TZOFFSETFROM:-0500
TZOFFSETTO:-0600
TZNAME:CST
DTSTART:20261101T070000
END:STANDARD
BEGIN:DAYLIGHT
TZOFFSETFROM:-0600
TZOFFSETTO:-0500
TZNAME:CDT
DTSTART:20270314T080000
END:DAYLIGHT
BEGIN:STANDARD
TZOFFSETFROM:-0500
TZOFFSETTO:-0600
TZNAME:CST
DTSTART:20271107T070000
END:STANDARD
END:VTIMEZONE
BEGIN:VEVENT
DTSTART;TZID=America/Chicago:20260518T000000
DTEND;TZID=America/Chicago:20260526T235959
DTSTAMP:20260424T193248
CREATED:20250828T212518Z
LAST-MODIFIED:20251110T150836Z
UID:10000987-1779062400-1779839999@www.winona.edu
SUMMARY:Retiree Travel Opportunity: Utah’s Mighty 5 & the Rockies
DESCRIPTION:From May 18-26\, the WSU Retiree Center is offering a travel opportunity to take an awe-inspiring train trip from Denver\, CO\, to Moab\, UT aboard the Rocky Mountaineer. \n\n\n\nTrek across the Southwest as you take in the sienna-colored canyons\, towering spires\, and desert landscapes found in Utah’s 5 national parks. \n\n\n\nTrip Highlights\n\n\n\n\nSpend 2 nights in Moab with time to explore Arches and Canyonlands national parks. \n\n\n\nBehold incredible views at Dead Horse Point State Park in Moab.\n\n\n\nExplore the amazing spires of Bryce Canyon National Park\, known as hoodoos.\n\n\n\nMarvel at the sleek white formations at Capitol Reef National Park.  \n\n\n\nClimb aboard Zion’s open-air tram and learn about the Native Americans who existed here from an expert guide.\n\n\n\nEnjoy elegant dining and unlimited complimentary drinks while riding aboard Rocky Mountaineer. \n\n\n\nSpend 2 days aboard the Rocky Mountaineer\, enjoying panoramic views of the American Southwest.\n\n\n\n\n\n\n    Register for This Trip\n\n\n\n\n\n    Watch Our Webinar for More Info\n\n\n\n\n\n\n\nVenue\n\n\n\nIf you’re located in the Winona area\, you’ll meet in the Motor Pool Lot on Sarnia St. before taking a group bus to Minneapolis. WSU will provide free parking passes for this lot for the duration of the trip. \n\n\n\nFor those located outside the Winona area\, our travel agency will pick you up from your house and take you to the nearest airport. \n\n\n\n\n\nContact\n\n\n\n\n\nDisclaimer\n\n\n\nThe views and opinions expressed by the speakers and programs hosted at Winona State University do not necessarily reflect the views or positions of the university or of the Minnesota State Colleges & Universities system.
URL:https://www.winona.edu/about/event/retiree-travel-opportunity-utahs-mighty-5-the-rockies/
LOCATION:Motor Pool Lot\, 629 Main Street\, Winona\, MN\, 55987\, United States
CATEGORIES:About,Leadership & Administration
ATTACH;FMTTYPE=image/jpeg:https://www.winona.edu/about/wp-content/uploads/sites/3/2024/11/WSU-passport-book-feature-2022-12-19.jpg
ORGANIZER;CN="Jess Kauphusman":MAILTO:jkauphusman@winona.edu
END:VEVENT
BEGIN:VEVENT
DTSTART;TZID=America/Chicago:20260526T000000
DTEND;TZID=America/Chicago:20260526T235959
DTSTAMP:20260424T193248
CREATED:20260219T174143Z
LAST-MODIFIED:20260219T174144Z
UID:10001540-1779753600-1779839999@www.winona.edu
SUMMARY:Last Day to Apply for Arranged Courses or Independent Studies
DESCRIPTION:May 26 is the last day when faculty can apply for arranged courses or independent studies for the Summer 2026 term. \n\n\n\n    Learn More about Managing Courses\n\n\n\n\n\nVenue\n\n\n\n\n\nContact\n\n\n\n\n\nDisclaimer\n\n\n\nThe views and opinions expressed by the speakers and programs hosted at Winona State University do not necessarily reflect the views or positions of the university or of the Minnesota State Colleges & Universities system.
URL:https://www.winona.edu/about/event/last-day-to-apply-for-arranged-courses-or-independent-studies-summer-2026/
LOCATION:Winona Campus\, 175 West Mark Street\, Winona\, MN\, 55987\, United States
CATEGORIES:Important Dates
ATTACH;FMTTYPE=image/jpeg:https://www.winona.edu/about/wp-content/uploads/sites/3/2022/12/WSU-Letters-Somsen-2019-07-23_121106.jpg
ORGANIZER;CN="Academic Affairs":MAILTO:academicaffairs@winona.edu
END:VEVENT
BEGIN:VEVENT
DTSTART;TZID=America/Chicago:20260526T130000
DTEND;TZID=America/Chicago:20260526T160000
DTSTAMP:20260424T193248
CREATED:20260127T165737Z
LAST-MODIFIED:20260127T165738Z
UID:10001495-1779800400-1779811200@www.winona.edu
SUMMARY:Senior University: 5 Comedies from the '30s & '40s
DESCRIPTION:Watch and discuss how 5 comedies directed by Frank Capra used humor to reflect life during the Great Depression and World War II and why they’re relevant today. \n\n\n\nFilms include: \n\n\n\n\n“It Happened One Night” (1934)\n\n\n\n“Mr. Deeds Goes to Town” (1936)\n\n\n\n“Mr. Smith Goes to Washington” (1939)\n\n\n\n“You Can’t Take It with You” (1938)\n\n\n\n“It’s a Wonderful Life” (1946)\n\n\n\n\nTaught by Winona State Professor Emeritus David Robinson\, this final session is located in SLC 120. \n\n\n\nThis Senior University class is 5 sessions total\, and the course fee of $40 covers all 5 class meetings. \n\n\n\nThis class is for older adults only. \n\n\n\n    Register for This Class\n\n\n\n\n\nVenue\n\n\n\n\n\nContact\n\n\n\n\n\nDisclaimer\n\n\n\nThe views and opinions expressed by the speakers and programs hosted at Winona State University do not necessarily reflect the views or positions of the university or of the Minnesota State Colleges & Universities system.
URL:https://www.winona.edu/about/event/senior-university-5-comedies-from-the-30s-40s-may-26/
LOCATION:SLC 120\, 400 Winona St\, Winona\, MN\, 55987\, United States
CATEGORIES:About,Leadership & Administration
ATTACH;FMTTYPE=image/jpeg:https://www.winona.edu/about/wp-content/uploads/sites/3/2025/07/WSU_Older-Adults-Event-2018-06-20.jpg
ORGANIZER;CN="Jess Kauphusman":MAILTO:jkauphusman@winona.edu
END:VEVENT
END:VCALENDAR