BEGIN:VCALENDAR
VERSION:2.0
PRODID:-//About - ECPv6.15.16//NONSGML v1.0//EN
CALSCALE:GREGORIAN
METHOD:PUBLISH
X-WR-CALNAME:About
X-ORIGINAL-URL:https://www.winona.edu/about
X-WR-CALDESC:Events for About
REFRESH-INTERVAL;VALUE=DURATION:PT1H
X-Robots-Tag:noindex
X-PUBLISHED-TTL:PT1H
BEGIN:VTIMEZONE
TZID:America/Chicago
BEGIN:DAYLIGHT
TZOFFSETFROM:-0600
TZOFFSETTO:-0500
TZNAME:CDT
DTSTART:20250309T080000
END:DAYLIGHT
BEGIN:STANDARD
TZOFFSETFROM:-0500
TZOFFSETTO:-0600
TZNAME:CST
DTSTART:20251102T070000
END:STANDARD
BEGIN:DAYLIGHT
TZOFFSETFROM:-0600
TZOFFSETTO:-0500
TZNAME:CDT
DTSTART:20260308T080000
END:DAYLIGHT
BEGIN:STANDARD
TZOFFSETFROM:-0500
TZOFFSETTO:-0600
TZNAME:CST
DTSTART:20261101T070000
END:STANDARD
BEGIN:DAYLIGHT
TZOFFSETFROM:-0600
TZOFFSETTO:-0500
TZNAME:CDT
DTSTART:20270314T080000
END:DAYLIGHT
BEGIN:STANDARD
TZOFFSETFROM:-0500
TZOFFSETTO:-0600
TZNAME:CST
DTSTART:20271107T070000
END:STANDARD
END:VTIMEZONE
BEGIN:VEVENT
DTSTART;TZID=America/Chicago:20260301T000000
DTEND;TZID=America/Chicago:20260331T235959
DTSTAMP:20260424T213004
CREATED:20260306T195156Z
LAST-MODIFIED:20260306T195157Z
UID:10001584-1772323200-1775001599@www.winona.edu
SUMMARY:WSU Colleges Food Drive Competition
DESCRIPTION:Make an impact at Winona State by joining the WSU Colleges Food Drive Competition—a friendly\, campus-wide competition that brings students\, faculty\, and staff together to support our community.  \n\n\n\nThroughout March\, each College will collect donations and compete to see who can make the biggest impact. \n\n\n\nThis food drive will help stock and raise money for our on-campus food shelf\, the Warrior Cupboard. \n\n\n\nHow It Works\n\n\n\nDrop off food and household items to your Dean’s office\, then earn one point per item. \n\n\n\nYou can also earn one point per one dollar donated. (For example\, donating $50 earns your College 50 points.) \n\n\n\n    Donate to the Warrior Cupboard\n\n\n\n\n\nSuggested Items for Donation\n\n\n\n\nCanned meat and meals (tuna\, chicken\, stews\, soup\, ravioli\, etc.)\n\n\n\nCanned vegetables and fruits\n\n\n\nPeanut butter\n\n\n\nBoxed meals (Hamburger Helper\, Rice-A-Roni\, Mac & Cheese\, etc.)\n\n\n\nBaking ingredients (flour\, sugar\, Bisquick\, oil\, etc.)\n\n\n\nHousehold items (hand soap\, Kleenex\, laundry soap\, etc.)\n\n\n\nPersonal care items (deodorant\, shampoo\, toothpaste\, etc.)\n\n\n\nPlates\, silverware\, can openers\, serving spoons\, etc\n\n\n\n\nVenues\n\n\n\n\n\n\n\n\n\n\n\n\n\nContact\n\n\n\n\n\nDisclaimer\n\n\n\nThe views and opinions expressed by the speakers and programs hosted at Winona State University do not necessarily reflect the views or positions of the university or of the Minnesota State Colleges & Universities system.
URL:https://www.winona.edu/about/event/wsu-colleges-food-drive-competition-2026/
LOCATION:College of Business Dean’s Suite (Somsen 309)\, 175 West Mark Street\, Winona\, MN\, 55987\, United States
CATEGORIES:Academics,College of Business,College of Education,College of Liberal Arts,College of Nursing & Health Sciences,College of Science & Engineering,Colleges,Student Life,Support & Services
ATTACH;FMTTYPE=image/jpeg:https://www.winona.edu/about/wp-content/uploads/sites/3/2024/03/WSU_Student-Seeds-2019-02-14_151702.jpg
ORGANIZER;CN="Liz Schwanke":MAILTO:collegeofbusiness@winona.edu
END:VEVENT
BEGIN:VEVENT
DTSTART;TZID=America/Chicago:20260306T090000
DTEND;TZID=America/Chicago:20260306T140000
DTSTAMP:20260424T213004
CREATED:20260128T205039Z
LAST-MODIFIED:20260128T205040Z
UID:10001507-1772787600-1772805600@www.winona.edu
SUMMARY:STEM in the Real World
DESCRIPTION:Experience STEM in the real world through interactive workshops in engineering\, science\, math\, and computer science designed just for high school students. \n\n\n\nStudents will learn more about careers in STEM while engaging with scientists\, engineers\, and analysts to see how they tackle real-world challenges.  \n\n\n\nStudents are also invited to explore our labs and challenge themselves on the Climbing Wall for a day full of excitement and discovery! \n\n\n\nSchedule\n\n\n\n\n9-11:30am: 4 STEM sessions\, including Climbing Wall in Education Village\n\n\n\n11:30am-12:30pm: Lunch in Jack Kane Dining Hall in Kryzsko Commons\n\n\n\n12:30-2pm: 3 STEM sessions (Climbing Wall available)\n\n\n\n\nIf your school or class is interested in participating\, contact Nicole Williams\, Dean of the College of Science & Engineering. \n\n\n\n\n\nVenue\n\n\n\n\n\nContact\n\n\n\n\n\nDisclaimer\n\n\n\nThe views and opinions expressed by the speakers and programs hosted at Winona State University do not necessarily reflect the views or positions of the university or of the Minnesota State Colleges & Universities system.
URL:https://www.winona.edu/about/event/stem-in-the-real-world/
LOCATION:SLC Atrium\, 400 Winona St\, Winona\, MN\, 55987\, United States
CATEGORIES:Academics,College of Science & Engineering,Colleges
ATTACH;FMTTYPE=image/jpeg:https://www.winona.edu/about/wp-content/uploads/sites/3/2024/11/WSU-student-chemistry-beakers-feature-2019-02-01.jpg
ORGANIZER;CN="Nicole Williams":MAILTO:nwilliams@winona.edu
END:VEVENT
BEGIN:VEVENT
DTSTART;TZID=America/Chicago:20260323T160000
DTEND;TZID=America/Chicago:20260323T170000
DTSTAMP:20260424T213004
CREATED:20260318T203239Z
LAST-MODIFIED:20260318T203240Z
UID:10001590-1774281600-1774285200@www.winona.edu
SUMMARY:Earth Talks: Erosional History of the Upper Mississippi River
DESCRIPTION:Join the Geoscience Department for a discussion as part of the Earth Talks Speaker Series. \n\n\n\nIn this talk\, WSU Geoscience Professor Dylan Blumentritt will explore the history of Lake Pepin and how its unique geology can be used to study changes in sediment over time.  \n\n\n\nHe’ll also discuss newer methods for measuring historical sediment movement and identifying where increasing amounts of sediment are coming from across the landscape. \n\n\n\n    Learn More about the Earth Talks Speaker Series\n\n\n\n\n\nVenue\n\n\n\n\n\nContact\n\n\n\n\n\nDisclaimer\n\n\n\nThe views and opinions expressed by the speakers and programs hosted at Winona State University do not necessarily reflect the views or positions of the university or of the Minnesota State Colleges & Universities system.
URL:https://www.winona.edu/about/event/earth-talks-erosional-history-of-the-upper-mississippi-river/
LOCATION:SLC 120\, 400 Winona St\, Winona\, MN\, 55987\, United States
CATEGORIES:Academics,Arts & Entertainment,College of Science & Engineering,Colleges,Earth Talks,Geoscience Department,Speakers & Educational Series,Student Life
ATTACH;FMTTYPE=image/jpeg:https://www.winona.edu/about/wp-content/uploads/sites/3/2024/11/WSU-students-attending-presentation-feature-2020-02-24.jpg
ORGANIZER;CN="Blandine Berthelot":MAILTO:bberthelot@winona.edu
END:VEVENT
BEGIN:VEVENT
DTSTART;TZID=America/Chicago:20260330T160000
DTEND;TZID=America/Chicago:20260330T170000
DTSTAMP:20260424T213004
CREATED:20260318T203334Z
LAST-MODIFIED:20260318T203334Z
UID:10001591-1774886400-1774890000@www.winona.edu
SUMMARY:Earth Talks: Protecting the Upper Mississippi from Invasive Carp
DESCRIPTION:Join the Geoscience Department for a discussion as part of the Earth Talks Speaker Series. \n\n\n\nIn this talk\, the Minnesota Department of Natural Resources will discuss their on-going project to stop the spread of invasive carp at a lock and dam on the Mississippi River. \n\n\n\nThey’ll also explain how new tools and cross-agency teamwork are helping manage this invasive species\, along with the challenges and steps that lie ahead. \n\n\n\n    Learn More about the Earth Talks Speaker Series\n\n\n\n\n\nVenue\n\n\n\n\n\nContact\n\n\n\n\n\nDisclaimer\n\n\n\nThe views and opinions expressed by the speakers and programs hosted at Winona State University do not necessarily reflect the views or positions of the university or of the Minnesota State Colleges & Universities system.
URL:https://www.winona.edu/about/event/earth-talks-protecting-the-upper-mississippi-from-invasive-carp/
LOCATION:SLC 120\, 400 Winona St\, Winona\, MN\, 55987\, United States
CATEGORIES:Academics,Arts & Entertainment,College of Science & Engineering,Colleges,Earth Talks,Geoscience Department,Speakers & Educational Series,Student Life
ATTACH;FMTTYPE=image/jpeg:https://www.winona.edu/about/wp-content/uploads/sites/3/2024/11/WSU-students-attending-presentation-feature-2020-02-24.jpg
ORGANIZER;CN="Blandine Berthelot":MAILTO:bberthelot@winona.edu
END:VEVENT
END:VCALENDAR