BEGIN:VCALENDAR
VERSION:2.0
PRODID:-//About - ECPv6.15.16//NONSGML v1.0//EN
CALSCALE:GREGORIAN
METHOD:PUBLISH
X-ORIGINAL-URL:https://www.winona.edu/about
X-WR-CALDESC:Events for About
REFRESH-INTERVAL;VALUE=DURATION:PT1H
X-Robots-Tag:noindex
X-PUBLISHED-TTL:PT1H
BEGIN:VTIMEZONE
TZID:America/Chicago
BEGIN:DAYLIGHT
TZOFFSETFROM:-0600
TZOFFSETTO:-0500
TZNAME:CDT
DTSTART:20250309T080000
END:DAYLIGHT
BEGIN:STANDARD
TZOFFSETFROM:-0500
TZOFFSETTO:-0600
TZNAME:CST
DTSTART:20251102T070000
END:STANDARD
BEGIN:DAYLIGHT
TZOFFSETFROM:-0600
TZOFFSETTO:-0500
TZNAME:CDT
DTSTART:20260308T080000
END:DAYLIGHT
BEGIN:STANDARD
TZOFFSETFROM:-0500
TZOFFSETTO:-0600
TZNAME:CST
DTSTART:20261101T070000
END:STANDARD
BEGIN:DAYLIGHT
TZOFFSETFROM:-0600
TZOFFSETTO:-0500
TZNAME:CDT
DTSTART:20270314T080000
END:DAYLIGHT
BEGIN:STANDARD
TZOFFSETFROM:-0500
TZOFFSETTO:-0600
TZNAME:CST
DTSTART:20271107T070000
END:STANDARD
END:VTIMEZONE
BEGIN:VEVENT
DTSTART;TZID=America/Chicago:20260702T000000
DTEND;TZID=America/Chicago:20260702T235959
DTSTAMP:20260424T214501
CREATED:20260218T162240Z
LAST-MODIFIED:20260218T162241Z
UID:10001536-1782950400-1783036799@www.winona.edu
SUMMARY:June Session 2026 Ends
DESCRIPTION:July 2 is the end of the June Session. \n\n\n\nFinal exams are held during the last scheduled class meeting or as determined by instructor. \n\n\n\n    Learn More about Summer Session\n\n\n\n\n\nVenue\n\n\n\n\n\nContact\n\n\n\n\n\nDisclaimer\n\n\n\nThe views and opinions expressed by the speakers and programs hosted at Winona State University do not necessarily reflect the views or positions of the university or of the Minnesota State Colleges & Universities system.
URL:https://www.winona.edu/about/event/june-session-2026-ends/
LOCATION:Winona Campus\, 175 West Mark Street\, Winona\, MN\, 55987\, United States
CATEGORIES:Important Dates
ATTACH;FMTTYPE=image/jpeg:https://www.winona.edu/about/wp-content/uploads/sites/3/2022/12/WSU-Campus-Banners-2017-06-12_143111.jpg
ORGANIZER;CN="Academic Affairs":MAILTO:academicaffairs@winona.edu
END:VEVENT
BEGIN:VEVENT
DTSTART;TZID=America/Chicago:20260703T000000
DTEND;TZID=America/Chicago:20260703T235959
DTSTAMP:20260424T214501
CREATED:20250109T164552Z
LAST-MODIFIED:20260121T221535Z
UID:10000413-1783036800-1783123199@www.winona.edu
SUMMARY:Independence Day (Observed)
DESCRIPTION:No classes will be held and offices will be closed on July 3 due to the Independence Day holiday. \n\n\n\n\n\nVenue\n\n\n\n\n\nContact\n\n\n\n\n\nDisclaimer\n\n\n\nThe views and opinions expressed by the speakers and programs hosted at Winona State University do not necessarily reflect the views or positions of the university or of the Minnesota State Colleges & Universities system.
URL:https://www.winona.edu/about/event/independence-day-observed-2026/
LOCATION:Winona Campus\, 175 West Mark Street\, Winona\, MN\, 55987\, United States
CATEGORIES:No Classes/Offices Closed
ATTACH;FMTTYPE=image/jpeg:https://www.winona.edu/about/wp-content/uploads/sites/3/2022/12/WSU-Letters-2019-09-25_183226.jpg
ORGANIZER;CN="Academic Affairs":MAILTO:academicaffairs@winona.edu
END:VEVENT
BEGIN:VEVENT
DTSTART;TZID=America/Chicago:20260706T000000
DTEND;TZID=America/Chicago:20260706T235959
DTSTAMP:20260424T214501
CREATED:20260218T184205Z
LAST-MODIFIED:20260218T184206Z
UID:10001534-1783296000-1783382399@www.winona.edu
SUMMARY:July Session 2026 Begins
DESCRIPTION:July 6 is the beginning of the July Session. \n\n\n\n    Learn More about Summer Session\n\n\n\n\n\nVenue\n\n\n\n\n\nContact\n\n\n\n\n\nDisclaimer\n\n\n\nThe views and opinions expressed by the speakers and programs hosted at Winona State University do not necessarily reflect the views or positions of the university or of the Minnesota State Colleges & Universities system.
URL:https://www.winona.edu/about/event/july-session-2026-begins/
LOCATION:Winona Campus\, 175 West Mark Street\, Winona\, MN\, 55987\, United States
CATEGORIES:Important Dates
ATTACH;FMTTYPE=image/jpeg:https://www.winona.edu/about/wp-content/uploads/sites/3/2022/12/WSU-Campus-Banners-2017-06-12_143111.jpg
ORGANIZER;CN="Academic Affairs":MAILTO:academicaffairs@winona.edu
END:VEVENT
BEGIN:VEVENT
DTSTART;TZID=America/Chicago:20260708T000000
DTEND;TZID=America/Chicago:20260708T235959
DTSTAMP:20260424T214501
CREATED:20260219T174147Z
LAST-MODIFIED:20260219T174148Z
UID:10001542-1783468800-1783555199@www.winona.edu
SUMMARY:Last Day to Add Courses without Instructor Approval
DESCRIPTION:July 8 is the last day when students can add July Session 2026 classes on Student eServices without instructor approval. Registration overrides are required for this to occur after July 8. \n\n\n\n    Visit eServices\n\n\n\n\n\nVenue\n\n\n\n\n\nContact\n\n\n\n\n\nDisclaimer\n\n\n\nThe views and opinions expressed by the speakers and programs hosted at Winona State University do not necessarily reflect the views or positions of the university or of the Minnesota State Colleges & Universities system.
URL:https://www.winona.edu/about/event/last-day-to-add-courses-without-instructor-approval-july-2026/
LOCATION:Winona Campus\, 175 West Mark Street\, Winona\, MN\, 55987\, United States
CATEGORIES:Important Dates
ATTACH;FMTTYPE=image/jpeg:https://www.winona.edu/about/wp-content/uploads/sites/3/2022/12/WSU-Letters-Somsen-2019-07-23_121106.jpg
ORGANIZER;CN="Academic Affairs":MAILTO:academicaffairs@winona.edu
END:VEVENT
BEGIN:VEVENT
DTSTART;TZID=America/Chicago:20260710T000000
DTEND;TZID=America/Chicago:20260710T235959
DTSTAMP:20260424T214501
CREATED:20260219T174149Z
LAST-MODIFIED:20260219T174150Z
UID:10001543-1783641600-1783727999@www.winona.edu
SUMMARY:Last Day to Express Intent to Take Fall Comprehensive Examinations
DESCRIPTION:July 10 is the last day when students must notify the School of Graduate Studies of their intent to take comprehensive examinations during the Fall 2026 term. \n\n\n\n\n\nVenue\n\n\n\n\n\nContact\n\n\n\n\n\nDisclaimer\n\n\n\nThe views and opinions expressed by the speakers and programs hosted at Winona State University do not necessarily reflect the views or positions of the university or of the Minnesota State Colleges & Universities system.
URL:https://www.winona.edu/about/event/last-day-to-express-intent-to-take-fall-comprehensive-examinations-july-2026/
LOCATION:Winona Campus\, 175 West Mark Street\, Winona\, MN\, 55987\, United States
CATEGORIES:Important Dates
ATTACH;FMTTYPE=image/jpeg:https://www.winona.edu/about/wp-content/uploads/sites/3/2022/12/WSU_Students-Laptops-2022-11-01_085406.jpg
ORGANIZER;CN="Academic Affairs":MAILTO:academicaffairs@winona.edu
END:VEVENT
BEGIN:VEVENT
DTSTART;TZID=America/Chicago:20260710T123000
DTEND;TZID=America/Chicago:20260710T160000
DTSTAMP:20260424T214501
CREATED:20260415T001321Z
LAST-MODIFIED:20260415T001322Z
UID:10001645-1783686600-1783699200@www.winona.edu
SUMMARY:Nursing Program Visit
DESCRIPTION:Future Nursing students\, this campus and admissions visit on July 10 is for you. \n\n\n\nAt this event\, you will: \n\n\n\n\nGet info about WSU’s highly successful Nursing program\n\n\n\nTour Nursing facilities and labs\n\n\n\nLearn about WSU in a short admissions presentation\n\n\n\nTour campus buildings and residence halls\n\n\n\n\n    Register for This Event\n\n\n\n\n\nVenue\n\n\n\n\n\nContact\n\n\n\n\n\nDisclaimer\n\n\n\nThe views and opinions expressed by the speakers and programs hosted at Winona State University do not necessarily reflect the views or positions of the university or of the Minnesota State Colleges & Universities system.
URL:https://www.winona.edu/about/event/nursing-program-visit-july-10/
LOCATION:Admissions Office\, 170 W 8th St\, Winona\, MN\, 55987\, United States
CATEGORIES:Academics,Admissions,College of Nursing & Health Sciences,Colleges,Undergraduate Nursing Department
ATTACH;FMTTYPE=image/jpeg:https://www.winona.edu/about/wp-content/uploads/sites/3/2024/10/Pro-Female-Nursing-Students-2015.jpg
ORGANIZER;CN="Admissions Office":MAILTO:admissions@winona.edu
END:VEVENT
BEGIN:VEVENT
DTSTART;TZID=America/Chicago:20260714T090000
DTEND;TZID=America/Chicago:20260714T110000
DTSTAMP:20260424T214501
CREATED:20260122T180406Z
LAST-MODIFIED:20260122T180406Z
UID:10001434-1784019600-1784026800@www.winona.edu
SUMMARY:Retiree Breakfast
DESCRIPTION:Join us on July 14 for a light breakfast and great conversation. \n\n\n\nThis event is for Winona State retirees and administrators only. \n\n\n\n\n\nVenue\n\n\n\n\n\nContact\n\n\n\n\n\nDisclaimer\n\n\n\nThe views and opinions expressed by the speakers and programs hosted at Winona State University do not necessarily reflect the views or positions of the university or of the Minnesota State Colleges & Universities system.
URL:https://www.winona.edu/about/event/retiree-breakfast-july-14/
LOCATION:Purple Rooms\, 250 W 10th St\, Winona\, MN\, 55987\, United States
CATEGORIES:About,Leadership & Administration
ATTACH;FMTTYPE=image/jpeg:https://www.winona.edu/about/wp-content/uploads/sites/3/2025/07/WSU-Alumni-Retiree-event-feature-2016-10-14.jpg
ORGANIZER;CN="Jess Kauphusman":MAILTO:jkauphusman@winona.edu
END:VEVENT
BEGIN:VEVENT
DTSTART;TZID=America/Chicago:20260718T103000
DTEND;TZID=America/Chicago:20260718T153000
DTSTAMP:20260424T214501
CREATED:20260401T185100Z
LAST-MODIFIED:20260401T185101Z
UID:10001603-1784370600-1784388600@www.winona.edu
SUMMARY:Summer Days & River Waves Visit
DESCRIPTION:Experience Summer Days & River Waves—a one-of-a-kind visit at Winona State that combines campus vibes with Mississippi River views. \n\n\n\nThis event includes a: \n\n\n\n\nguided admissions presentation and campus tour starting at 10:30am\n\n\n\none-hour scenic boat tour at 2:30pm from the Winona Levee\, located just blocks from campus. Refreshments included.\n\n\n\n\nSpots are limited\, so register today! \n\n\n\n    Register for This Event\n\n\n\n\n\nVenue\n\n\n\n\n\nContact\n\n\n\n\n\nDisclaimer\n\n\n\nThe views and opinions expressed by the speakers and programs hosted at Winona State University do not necessarily reflect the views or positions of the university or of the Minnesota State Colleges & Universities system.
URL:https://www.winona.edu/about/event/summer-days-river-waves-visit-july-18-2026/
LOCATION:Admissions Office\, 170 W 8th St\, Winona\, MN\, 55987\, United States
CATEGORIES:Admissions
ATTACH;FMTTYPE=image/jpeg:https://www.winona.edu/about/wp-content/uploads/sites/3/2023/08/WSU_Students-Cal-Fremling-2021-09-15_140347.jpg
ORGANIZER;CN="Admissions Office":MAILTO:admissions@winona.edu
END:VEVENT
BEGIN:VEVENT
DTSTART;TZID=America/Chicago:20260720T123000
DTEND;TZID=America/Chicago:20260720T160000
DTSTAMP:20260424T214501
CREATED:20260415T001319Z
LAST-MODIFIED:20260415T001320Z
UID:10001646-1784550600-1784563200@www.winona.edu
SUMMARY:Nursing Program Visit
DESCRIPTION:Future Nursing students\, this campus and admissions visit on July 20 is for you. \n\n\n\nAt this event\, you will: \n\n\n\n\nGet info about WSU’s highly successful Nursing program\n\n\n\nTour Nursing facilities and labs\n\n\n\nLearn about WSU in a short admissions presentation\n\n\n\nTour campus buildings and residence halls\n\n\n\n\n    Register for This Event\n\n\n\n\n\nVenue\n\n\n\n\n\nContact\n\n\n\n\n\nDisclaimer\n\n\n\nThe views and opinions expressed by the speakers and programs hosted at Winona State University do not necessarily reflect the views or positions of the university or of the Minnesota State Colleges & Universities system.
URL:https://www.winona.edu/about/event/nursing-program-visit-july-20/
LOCATION:Admissions Office\, 170 W 8th St\, Winona\, MN\, 55987\, United States
CATEGORIES:Academics,Admissions,College of Nursing & Health Sciences,Colleges,Undergraduate Nursing Department
ATTACH;FMTTYPE=image/jpeg:https://www.winona.edu/about/wp-content/uploads/sites/3/2024/10/Pro-Female-Nursing-Students-2015.jpg
ORGANIZER;CN="Admissions Office":MAILTO:admissions@winona.edu
END:VEVENT
END:VCALENDAR